BEGIN:VCALENDAR
VERSION:2.0
PRODID:-//The Town of Rutland, Vermont - ECPv6.15.20//NONSGML v1.0//EN
CALSCALE:GREGORIAN
METHOD:PUBLISH
X-WR-CALNAME:The Town of Rutland, Vermont
X-ORIGINAL-URL:https://www.rutlandtown.com
X-WR-CALDESC:Events for The Town of Rutland, Vermont
REFRESH-INTERVAL;VALUE=DURATION:PT1H
X-Robots-Tag:noindex
X-PUBLISHED-TTL:PT1H
BEGIN:VTIMEZONE
TZID:UTC
BEGIN:STANDARD
TZOFFSETFROM:+0000
TZOFFSETTO:+0000
TZNAME:UTC
DTSTART:20250101T000000
END:STANDARD
END:VTIMEZONE
BEGIN:VEVENT
DTSTART;TZID=UTC:20260302T190000
DTEND;TZID=UTC:20260302T210000
DTSTAMP:20260425T004835
CREATED:20260122T134805Z
LAST-MODIFIED:20260211T134509Z
UID:10001692-1772478000-1772485200@www.rutlandtown.com
SUMMARY:Town Meeting
DESCRIPTION:Please join us to hear budget presentations from departments heads and the Selectboard for the coming fiscal year\, which will be voted on March 3rd. \nYou can view the budget sheets at the link below. \nNotice to voters \nRutland Town Warning \nBoard Approved Town Budget Sheets FY27 \nRutland Town School Warning \nRutland Town School Budget Detail
URL:https://www.rutlandtown.com/event/town-meeting-5/
LOCATION:Rutland Town School\, 1612 Post Road\, Rutland\, VT\, 05701\, United States
CATEGORIES:Community,Municipal Date,Select Board
END:VEVENT
BEGIN:VEVENT
DTSTART;TZID=UTC:20260310T180000
DTEND;TZID=UTC:20260310T210000
DTSTAMP:20260425T004835
CREATED:20260305T180839Z
LAST-MODIFIED:20260305T180839Z
UID:10001289-1773165600-1773176400@www.rutlandtown.com
SUMMARY:Selectboard Meeting
DESCRIPTION:Click HERE to join the meeting remotely. \nTo participate via call (646) 558-8656 and enter meeting ID 939 1518 8696. \nSelectboard Agenda 3-10-2026 \nTOWN OF RUTLAND SELECTBOARD MEETING NOTICE AND AGENDA \nMUNICIPAL TOWN HALL AND ZOOM CONFERENCING \n6:00 PM Tuesday March 10th\, 2026 \nMeeting Opening \n\nMeeting to be opened by Town Clerk Kari Clark\nPledge of Allegiance\nBoard to Elect a new Chair\nBoard to Elect a new Clerk\nApproval of Selectboard Minutes:\n\nFebruary 24th Regular Meeting\n\n\nApproval of Orders\nBoard Member Announcements\nUpdate from the Selectboard Chair\nQuestions from the floor; public comments\n\nDepartment Head Reports \n\nKari Clark – Town Clerk & Treasurer\nEd Dumas – Town Police Chief\nMike Rowe – Town Recreation Director\nDave Sears – Town Road Commissioner\nChris Clark – Town Fire Chief\nMike Delehanty – Town 1st Constable\nJoe Denardo – Public Safety Building Clerk\nJohn Paul Faignant – Town Health Officer / 2nd Constable\nBarbara Pulling – Town Planning Commission Chair\nLarry Dell Veneri – Town Transfer Station Manager\nMarcia Chioffi – Town Head Lister\nBill Sweet – Town Administrator\n\nAction items \n\nBoard to discuss needed appointments after Town Meeting Day\nBoard to discuss committee assignments for the coming year\nBoard to review donation amount for fireworks\nBoard to discuss reducing the speed limit on McKinley Avenue to the west of North Grove St.\nBoard to discuss rental housing code\nBoard to discuss the proposed Regional Plan\nBoard to discuss the plan to reappraise and proposed change to Patriot from NEMRC\nUpdate on the Pocket park project\nBoard to discuss the process to create and implement a disaster recovery process\nUpdate the Selectboard project list\nCommittee meeting reports\, Rec\nBoard meet in executive pursuant to 1 V.S.A. § 313(a)(1)\, and 1 V.S.A. § 313(a)(6) for a personnel matter and possible litigation
URL:https://www.rutlandtown.com/event/select-board-meeting-2-39/
LOCATION:Town of Rutland Municipal Building\, 181Business Route 4\, Center Rutland\, VT\, 05736\, United States
CATEGORIES:Select Board
END:VEVENT
BEGIN:VEVENT
DTSTART;TZID=UTC:20260324T180000
DTEND;TZID=UTC:20260324T210000
DTSTAMP:20260425T004835
CREATED:20260319T161035Z
LAST-MODIFIED:20260319T161035Z
UID:10001290-1774375200-1774386000@www.rutlandtown.com
SUMMARY:Selectboard Meeting
DESCRIPTION:Click HERE to join the meeting remotely. \nSelectboard Agenda 3-24-2026 \nTOWN OF RUTLAND SELECTBOARD MEETING NOTICE AND AGENDA \nMUNICIPAL TOWN HALL AND ZOOM CONFERENCING \n6:00 PM Tuesday March 24th\, 2026 \nTo participate via zoom please visit zoom.us/join or call (646) 558-8656 and enter meeting ID 939 1518 8696. \nMeeting Opening \n\nPledge of Allegiance\nApproval of Selectboard Minutes:\n\nMarch 10th Regular Meeting\n\n\nApproval of Orders\nBoard Member Announcements\nUpdate from the Selectboard Chair\nQuestions from the floor; public comments\n\nDepartment Head Reports \n\nMarcia Chioffi – Town Head Lister\nKari Clark – Town Clerk & Treasurer\nEd Dumas – Town Police Chief\nMike Rowe – Town Recreation Director\nDave Sears – Town Road Commissioner\nChris Clark – Town Fire Chief\nMike Delehanty – Town 1st Constable\nJoe Denardo – Public Safety Building Clerk\nJohn Paul Faignant – Town Health Officer / 2nd Constable\nBarbara Pulling – Town Planning Commission Chair\nLarry Dell Veneri – Town Transfer Station Manager\nBill Sweet – Town Administrator\n\nAction items \n\nBoard to discuss needed appointments after Town Meeting Day\nBoard to discuss committee assignments for the coming year\nBoard to discuss rental housing code\nBoard to discuss the plan to reappraise and proposed change to Patriot from NEMRC (April)\nBoard to review bids received for mowing\nBoard to vote on approving Town MS4 annual report\nBoard to vote on Vehicle and Traffic Ordinance amendment\nBoard to discuss CDS appropriation and match\nBoard to discuss public access to Selectboard members for direct contact\nBoard to discuss 2026 Rutland Regional Plan\nUpdate on the Pocket park project\nBoard to discuss the process to create and implement a disaster recovery process\nUpdate the Selectboard project list\nCommittee meeting reports\nBoard meet in executive pursuant to 1 V.S.A. § 313(a)(1)\, and 1 V.S.A. § 313(a)(6) for a personnel matter and possible litigation
URL:https://www.rutlandtown.com/event/select-board-meeting-2-40/
LOCATION:Town of Rutland Municipal Building\, 181Business Route 4\, Center Rutland\, VT\, 05736\, United States
CATEGORIES:Select Board
END:VEVENT
END:VCALENDAR