BEGIN:VCALENDAR
VERSION:2.0
PRODID:-//The Town of Rutland, Vermont - ECPv6.15.20//NONSGML v1.0//EN
CALSCALE:GREGORIAN
METHOD:PUBLISH
X-ORIGINAL-URL:https://www.rutlandtown.com
X-WR-CALDESC:Events for The Town of Rutland, Vermont
REFRESH-INTERVAL;VALUE=DURATION:PT1H
X-Robots-Tag:noindex
X-PUBLISHED-TTL:PT1H
BEGIN:VTIMEZONE
TZID:UTC
BEGIN:STANDARD
TZOFFSETFROM:+0000
TZOFFSETTO:+0000
TZNAME:UTC
DTSTART:20290101T000000
END:STANDARD
END:VTIMEZONE
BEGIN:VEVENT
DTSTART;TZID=UTC:20300319T180000
DTEND;TZID=UTC:20300319T210000
DTSTAMP:20260422T223145
CREATED:20240913T121329Z
LAST-MODIFIED:20241126T202850Z
UID:10001515-1900173600-1900184400@www.rutlandtown.com
SUMMARY:Selectboard Meeting
DESCRIPTION:The agenda will be posted once it is finalized. \nClick HERE to join the meeting remotely.
URL:https://www.rutlandtown.com/event/select-board-meeting-2/2030-03-19/
LOCATION:Town of Rutland Municipal Building\, 181Business Route 4\, Center Rutland\, VT\, 05736\, United States
CATEGORIES:Select Board
END:VEVENT
BEGIN:VEVENT
DTSTART;TZID=UTC:20300402T180000
DTEND;TZID=UTC:20300402T210000
DTSTAMP:20260422T223145
CREATED:20240913T121329Z
LAST-MODIFIED:20241126T202850Z
UID:10001519-1901383200-1901394000@www.rutlandtown.com
SUMMARY:Selectboard Meeting
DESCRIPTION:The agenda will be posted once it is finalized. \nClick HERE to join the meeting remotely.
URL:https://www.rutlandtown.com/event/select-board-meeting-2/2030-04-02/
LOCATION:Town of Rutland Municipal Building\, 181Business Route 4\, Center Rutland\, VT\, 05736\, United States
CATEGORIES:Select Board
END:VEVENT
BEGIN:VEVENT
DTSTART;TZID=UTC:20300416T180000
DTEND;TZID=UTC:20300416T210000
DTSTAMP:20260422T223145
CREATED:20240913T121329Z
LAST-MODIFIED:20241126T202850Z
UID:10001522-1902592800-1902603600@www.rutlandtown.com
SUMMARY:Selectboard Meeting
DESCRIPTION:The agenda will be posted once it is finalized. \nClick HERE to join the meeting remotely.
URL:https://www.rutlandtown.com/event/select-board-meeting-2/2030-04-16/
LOCATION:Town of Rutland Municipal Building\, 181Business Route 4\, Center Rutland\, VT\, 05736\, United States
CATEGORIES:Select Board
END:VEVENT
BEGIN:VEVENT
DTSTART;TZID=UTC:20300430T180000
DTEND;TZID=UTC:20300430T210000
DTSTAMP:20260422T223145
CREATED:20240913T121329Z
LAST-MODIFIED:20241126T202850Z
UID:10001524-1903802400-1903813200@www.rutlandtown.com
SUMMARY:Selectboard Meeting
DESCRIPTION:The agenda will be posted once it is finalized. \nClick HERE to join the meeting remotely.
URL:https://www.rutlandtown.com/event/select-board-meeting-2/2030-04-30/
LOCATION:Town of Rutland Municipal Building\, 181Business Route 4\, Center Rutland\, VT\, 05736\, United States
CATEGORIES:Select Board
END:VEVENT
BEGIN:VEVENT
DTSTART;TZID=UTC:20300514T180000
DTEND;TZID=UTC:20300514T210000
DTSTAMP:20260422T223145
CREATED:20240913T121329Z
LAST-MODIFIED:20241126T202850Z
UID:10001532-1905012000-1905022800@www.rutlandtown.com
SUMMARY:Selectboard Meeting
DESCRIPTION:The agenda will be posted once it is finalized. \nClick HERE to join the meeting remotely.
URL:https://www.rutlandtown.com/event/select-board-meeting-2/2030-05-14/
LOCATION:Town of Rutland Municipal Building\, 181Business Route 4\, Center Rutland\, VT\, 05736\, United States
CATEGORIES:Select Board
END:VEVENT
BEGIN:VEVENT
DTSTART;TZID=UTC:20300528T180000
DTEND;TZID=UTC:20300528T210000
DTSTAMP:20260422T223145
CREATED:20240913T121329Z
LAST-MODIFIED:20241126T202850Z
UID:10001536-1906221600-1906232400@www.rutlandtown.com
SUMMARY:Selectboard Meeting
DESCRIPTION:The agenda will be posted once it is finalized. \nClick HERE to join the meeting remotely.
URL:https://www.rutlandtown.com/event/select-board-meeting-2/2030-05-28/
LOCATION:Town of Rutland Municipal Building\, 181Business Route 4\, Center Rutland\, VT\, 05736\, United States
CATEGORIES:Select Board
END:VEVENT
BEGIN:VEVENT
DTSTART;TZID=UTC:20300611T180000
DTEND;TZID=UTC:20300611T210000
DTSTAMP:20260422T223145
CREATED:20240913T121329Z
LAST-MODIFIED:20241126T202850Z
UID:10001537-1907431200-1907442000@www.rutlandtown.com
SUMMARY:Selectboard Meeting
DESCRIPTION:The agenda will be posted once it is finalized. \nClick HERE to join the meeting remotely.
URL:https://www.rutlandtown.com/event/select-board-meeting-2/2030-06-11/
LOCATION:Town of Rutland Municipal Building\, 181Business Route 4\, Center Rutland\, VT\, 05736\, United States
CATEGORIES:Select Board
END:VEVENT
BEGIN:VEVENT
DTSTART;TZID=UTC:20300625T180000
DTEND;TZID=UTC:20300625T210000
DTSTAMP:20260422T223145
CREATED:20240913T121329Z
LAST-MODIFIED:20241126T202850Z
UID:10001541-1908640800-1908651600@www.rutlandtown.com
SUMMARY:Selectboard Meeting
DESCRIPTION:The agenda will be posted once it is finalized. \nClick HERE to join the meeting remotely.
URL:https://www.rutlandtown.com/event/select-board-meeting-2/2030-06-25/
LOCATION:Town of Rutland Municipal Building\, 181Business Route 4\, Center Rutland\, VT\, 05736\, United States
CATEGORIES:Select Board
END:VEVENT
BEGIN:VEVENT
DTSTART;TZID=UTC:20300709T180000
DTEND;TZID=UTC:20300709T210000
DTSTAMP:20260422T223145
CREATED:20240913T121329Z
LAST-MODIFIED:20241126T202850Z
UID:10001547-1909850400-1909861200@www.rutlandtown.com
SUMMARY:Selectboard Meeting
DESCRIPTION:The agenda will be posted once it is finalized. \nClick HERE to join the meeting remotely.
URL:https://www.rutlandtown.com/event/select-board-meeting-2/2030-07-09/
LOCATION:Town of Rutland Municipal Building\, 181Business Route 4\, Center Rutland\, VT\, 05736\, United States
CATEGORIES:Select Board
END:VEVENT
BEGIN:VEVENT
DTSTART;TZID=UTC:20300723T180000
DTEND;TZID=UTC:20300723T210000
DTSTAMP:20260422T223145
CREATED:20240913T121329Z
LAST-MODIFIED:20241126T202850Z
UID:10001549-1911060000-1911070800@www.rutlandtown.com
SUMMARY:Selectboard Meeting
DESCRIPTION:The agenda will be posted once it is finalized. \nClick HERE to join the meeting remotely.
URL:https://www.rutlandtown.com/event/select-board-meeting-2/2030-07-23/
LOCATION:Town of Rutland Municipal Building\, 181Business Route 4\, Center Rutland\, VT\, 05736\, United States
CATEGORIES:Select Board
END:VEVENT
BEGIN:VEVENT
DTSTART;TZID=UTC:20300806T180000
DTEND;TZID=UTC:20300806T210000
DTSTAMP:20260422T223145
CREATED:20240913T121329Z
LAST-MODIFIED:20241126T202850Z
UID:10001556-1912269600-1912280400@www.rutlandtown.com
SUMMARY:Selectboard Meeting
DESCRIPTION:The agenda will be posted once it is finalized. \nClick HERE to join the meeting remotely.
URL:https://www.rutlandtown.com/event/select-board-meeting-2/2030-08-06/
LOCATION:Town of Rutland Municipal Building\, 181Business Route 4\, Center Rutland\, VT\, 05736\, United States
CATEGORIES:Select Board
END:VEVENT
BEGIN:VEVENT
DTSTART;TZID=UTC:20300820T180000
DTEND;TZID=UTC:20300820T210000
DTSTAMP:20260422T223145
CREATED:20240913T121329Z
LAST-MODIFIED:20241126T202850Z
UID:10001557-1913479200-1913490000@www.rutlandtown.com
SUMMARY:Selectboard Meeting
DESCRIPTION:The agenda will be posted once it is finalized. \nClick HERE to join the meeting remotely.
URL:https://www.rutlandtown.com/event/select-board-meeting-2/2030-08-20/
LOCATION:Town of Rutland Municipal Building\, 181Business Route 4\, Center Rutland\, VT\, 05736\, United States
CATEGORIES:Select Board
END:VEVENT
BEGIN:VEVENT
DTSTART;TZID=UTC:20300903T180000
DTEND;TZID=UTC:20300903T210000
DTSTAMP:20260422T223145
CREATED:20240913T121329Z
LAST-MODIFIED:20241126T202850Z
UID:10001558-1914688800-1914699600@www.rutlandtown.com
SUMMARY:Selectboard Meeting
DESCRIPTION:The agenda will be posted once it is finalized. \nClick HERE to join the meeting remotely.
URL:https://www.rutlandtown.com/event/select-board-meeting-2/2030-09-03/
LOCATION:Town of Rutland Municipal Building\, 181Business Route 4\, Center Rutland\, VT\, 05736\, United States
CATEGORIES:Select Board
END:VEVENT
BEGIN:VEVENT
DTSTART;TZID=UTC:20300917T180000
DTEND;TZID=UTC:20300917T210000
DTSTAMP:20260422T223145
CREATED:20240913T121329Z
LAST-MODIFIED:20241126T202850Z
UID:10001565-1915898400-1915909200@www.rutlandtown.com
SUMMARY:Selectboard Meeting
DESCRIPTION:The agenda will be posted once it is finalized. \nClick HERE to join the meeting remotely.
URL:https://www.rutlandtown.com/event/select-board-meeting-2/2030-09-17/
LOCATION:Town of Rutland Municipal Building\, 181Business Route 4\, Center Rutland\, VT\, 05736\, United States
CATEGORIES:Select Board
END:VEVENT
BEGIN:VEVENT
DTSTART;TZID=UTC:20301001T180000
DTEND;TZID=UTC:20301001T210000
DTSTAMP:20260422T223145
CREATED:20240913T121329Z
LAST-MODIFIED:20241126T202850Z
UID:10001570-1917108000-1917118800@www.rutlandtown.com
SUMMARY:Selectboard Meeting
DESCRIPTION:The agenda will be posted once it is finalized. \nClick HERE to join the meeting remotely.
URL:https://www.rutlandtown.com/event/select-board-meeting-2/2030-10-01/
LOCATION:Town of Rutland Municipal Building\, 181Business Route 4\, Center Rutland\, VT\, 05736\, United States
CATEGORIES:Select Board
END:VEVENT
BEGIN:VEVENT
DTSTART;TZID=UTC:20301015T180000
DTEND;TZID=UTC:20301015T210000
DTSTAMP:20260422T223145
CREATED:20240913T121329Z
LAST-MODIFIED:20241126T202850Z
UID:10001572-1918317600-1918328400@www.rutlandtown.com
SUMMARY:Selectboard Meeting
DESCRIPTION:The agenda will be posted once it is finalized. \nClick HERE to join the meeting remotely.
URL:https://www.rutlandtown.com/event/select-board-meeting-2/2030-10-15/
LOCATION:Town of Rutland Municipal Building\, 181Business Route 4\, Center Rutland\, VT\, 05736\, United States
CATEGORIES:Select Board
END:VEVENT
BEGIN:VEVENT
DTSTART;TZID=UTC:20301029T180000
DTEND;TZID=UTC:20301029T210000
DTSTAMP:20260422T223145
CREATED:20240913T121329Z
LAST-MODIFIED:20241126T202850Z
UID:10001579-1919527200-1919538000@www.rutlandtown.com
SUMMARY:Selectboard Meeting
DESCRIPTION:The agenda will be posted once it is finalized. \nClick HERE to join the meeting remotely.
URL:https://www.rutlandtown.com/event/select-board-meeting-2/2030-10-29/
LOCATION:Town of Rutland Municipal Building\, 181Business Route 4\, Center Rutland\, VT\, 05736\, United States
CATEGORIES:Select Board
END:VEVENT
BEGIN:VEVENT
DTSTART;TZID=UTC:20301112T180000
DTEND;TZID=UTC:20301112T210000
DTSTAMP:20260422T223145
CREATED:20240913T121329Z
LAST-MODIFIED:20241126T202850Z
UID:10001585-1920736800-1920747600@www.rutlandtown.com
SUMMARY:Selectboard Meeting
DESCRIPTION:The agenda will be posted once it is finalized. \nClick HERE to join the meeting remotely.
URL:https://www.rutlandtown.com/event/select-board-meeting-2/2030-11-12/
LOCATION:Town of Rutland Municipal Building\, 181Business Route 4\, Center Rutland\, VT\, 05736\, United States
CATEGORIES:Select Board
END:VEVENT
BEGIN:VEVENT
DTSTART;TZID=UTC:20301126T180000
DTEND;TZID=UTC:20301126T210000
DTSTAMP:20260422T223145
CREATED:20240913T121329Z
LAST-MODIFIED:20241126T202850Z
UID:10001589-1921946400-1921957200@www.rutlandtown.com
SUMMARY:Selectboard Meeting
DESCRIPTION:The agenda will be posted once it is finalized. \nClick HERE to join the meeting remotely.
URL:https://www.rutlandtown.com/event/select-board-meeting-2/2030-11-26/
LOCATION:Town of Rutland Municipal Building\, 181Business Route 4\, Center Rutland\, VT\, 05736\, United States
CATEGORIES:Select Board
END:VEVENT
BEGIN:VEVENT
DTSTART;TZID=UTC:20301210T180000
DTEND;TZID=UTC:20301210T210000
DTSTAMP:20260422T223145
CREATED:20240913T121329Z
LAST-MODIFIED:20241126T202850Z
UID:10001680-1923156000-1923166800@www.rutlandtown.com
SUMMARY:Selectboard Meeting
DESCRIPTION:The agenda will be posted once it is finalized. \nClick HERE to join the meeting remotely.
URL:https://www.rutlandtown.com/event/select-board-meeting-2/2030-12-10/
LOCATION:Town of Rutland Municipal Building\, 181Business Route 4\, Center Rutland\, VT\, 05736\, United States
CATEGORIES:Select Board
END:VEVENT
BEGIN:VEVENT
DTSTART;TZID=UTC:20301224T180000
DTEND;TZID=UTC:20301224T210000
DTSTAMP:20260422T223145
CREATED:20240913T121329Z
LAST-MODIFIED:20241126T202850Z
UID:10001684-1924365600-1924376400@www.rutlandtown.com
SUMMARY:Selectboard Meeting
DESCRIPTION:The agenda will be posted once it is finalized. \nClick HERE to join the meeting remotely.
URL:https://www.rutlandtown.com/event/select-board-meeting-2/2030-12-24/
LOCATION:Town of Rutland Municipal Building\, 181Business Route 4\, Center Rutland\, VT\, 05736\, United States
CATEGORIES:Select Board
END:VEVENT
BEGIN:VEVENT
DTSTART;TZID=UTC:20310107T180000
DTEND;TZID=UTC:20310107T210000
DTSTAMP:20260422T223145
CREATED:20240913T121329Z
LAST-MODIFIED:20241126T202850Z
UID:10001686-1925575200-1925586000@www.rutlandtown.com
SUMMARY:Selectboard Meeting
DESCRIPTION:The agenda will be posted once it is finalized. \nClick HERE to join the meeting remotely.
URL:https://www.rutlandtown.com/event/select-board-meeting-2/2031-01-07/
LOCATION:Town of Rutland Municipal Building\, 181Business Route 4\, Center Rutland\, VT\, 05736\, United States
CATEGORIES:Select Board
END:VEVENT
BEGIN:VEVENT
DTSTART;TZID=UTC:20310121T180000
DTEND;TZID=UTC:20310121T210000
DTSTAMP:20260422T223145
CREATED:20240913T121329Z
LAST-MODIFIED:20241126T202850Z
UID:10001693-1926784800-1926795600@www.rutlandtown.com
SUMMARY:Selectboard Meeting
DESCRIPTION:The agenda will be posted once it is finalized. \nClick HERE to join the meeting remotely.
URL:https://www.rutlandtown.com/event/select-board-meeting-2/2031-01-21/
LOCATION:Town of Rutland Municipal Building\, 181Business Route 4\, Center Rutland\, VT\, 05736\, United States
CATEGORIES:Select Board
END:VEVENT
BEGIN:VEVENT
DTSTART;TZID=UTC:20310204T180000
DTEND;TZID=UTC:20310204T210000
DTSTAMP:20260422T223145
CREATED:20240913T121329Z
LAST-MODIFIED:20241126T202850Z
UID:10001702-1927994400-1928005200@www.rutlandtown.com
SUMMARY:Selectboard Meeting
DESCRIPTION:The agenda will be posted once it is finalized. \nClick HERE to join the meeting remotely.
URL:https://www.rutlandtown.com/event/select-board-meeting-2/2031-02-04/
LOCATION:Town of Rutland Municipal Building\, 181Business Route 4\, Center Rutland\, VT\, 05736\, United States
CATEGORIES:Select Board
END:VEVENT
BEGIN:VEVENT
DTSTART;TZID=UTC:20310218T180000
DTEND;TZID=UTC:20310218T210000
DTSTAMP:20260422T223145
CREATED:20240913T121329Z
LAST-MODIFIED:20241126T202850Z
UID:10001705-1929204000-1929214800@www.rutlandtown.com
SUMMARY:Selectboard Meeting
DESCRIPTION:The agenda will be posted once it is finalized. \nClick HERE to join the meeting remotely.
URL:https://www.rutlandtown.com/event/select-board-meeting-2/2031-02-18/
LOCATION:Town of Rutland Municipal Building\, 181Business Route 4\, Center Rutland\, VT\, 05736\, United States
CATEGORIES:Select Board
END:VEVENT
BEGIN:VEVENT
DTSTART;TZID=UTC:20310304T180000
DTEND;TZID=UTC:20310304T210000
DTSTAMP:20260422T223145
CREATED:20240913T121329Z
LAST-MODIFIED:20241126T202850Z
UID:10001708-1930413600-1930424400@www.rutlandtown.com
SUMMARY:Selectboard Meeting
DESCRIPTION:The agenda will be posted once it is finalized. \nClick HERE to join the meeting remotely.
URL:https://www.rutlandtown.com/event/select-board-meeting-2/2031-03-04/
LOCATION:Town of Rutland Municipal Building\, 181Business Route 4\, Center Rutland\, VT\, 05736\, United States
CATEGORIES:Select Board
END:VEVENT
BEGIN:VEVENT
DTSTART;TZID=UTC:20310318T180000
DTEND;TZID=UTC:20310318T210000
DTSTAMP:20260422T223145
CREATED:20240913T121329Z
LAST-MODIFIED:20241126T202850Z
UID:10001711-1931623200-1931634000@www.rutlandtown.com
SUMMARY:Selectboard Meeting
DESCRIPTION:The agenda will be posted once it is finalized. \nClick HERE to join the meeting remotely.
URL:https://www.rutlandtown.com/event/select-board-meeting-2/2031-03-18/
LOCATION:Town of Rutland Municipal Building\, 181Business Route 4\, Center Rutland\, VT\, 05736\, United States
CATEGORIES:Select Board
END:VEVENT
BEGIN:VEVENT
DTSTART;TZID=UTC:20310401T180000
DTEND;TZID=UTC:20310401T210000
DTSTAMP:20260422T223145
CREATED:20240913T121329Z
LAST-MODIFIED:20241126T202850Z
UID:10001714-1932832800-1932843600@www.rutlandtown.com
SUMMARY:Selectboard Meeting
DESCRIPTION:The agenda will be posted once it is finalized. \nClick HERE to join the meeting remotely.
URL:https://www.rutlandtown.com/event/select-board-meeting-2/2031-04-01/
LOCATION:Town of Rutland Municipal Building\, 181Business Route 4\, Center Rutland\, VT\, 05736\, United States
CATEGORIES:Select Board
END:VEVENT
BEGIN:VEVENT
DTSTART;TZID=UTC:20310415T180000
DTEND;TZID=UTC:20310415T210000
DTSTAMP:20260422T223145
CREATED:20240913T121329Z
LAST-MODIFIED:20241126T202850Z
UID:10001717-1934042400-1934053200@www.rutlandtown.com
SUMMARY:Selectboard Meeting
DESCRIPTION:The agenda will be posted once it is finalized. \nClick HERE to join the meeting remotely.
URL:https://www.rutlandtown.com/event/select-board-meeting-2/2031-04-15/
LOCATION:Town of Rutland Municipal Building\, 181Business Route 4\, Center Rutland\, VT\, 05736\, United States
CATEGORIES:Select Board
END:VEVENT
END:VCALENDAR