BEGIN:VCALENDAR
VERSION:2.0
PRODID:-//The Town of Rutland, Vermont - ECPv6.15.20//NONSGML v1.0//EN
CALSCALE:GREGORIAN
METHOD:PUBLISH
X-WR-CALNAME:The Town of Rutland, Vermont
X-ORIGINAL-URL:https://www.rutlandtown.com
X-WR-CALDESC:Events for The Town of Rutland, Vermont
REFRESH-INTERVAL;VALUE=DURATION:PT1H
X-Robots-Tag:noindex
X-PUBLISHED-TTL:PT1H
BEGIN:VTIMEZONE
TZID:America/New_York
BEGIN:DAYLIGHT
TZOFFSETFROM:-0500
TZOFFSETTO:-0400
TZNAME:EDT
DTSTART:20200308T070000
END:DAYLIGHT
BEGIN:STANDARD
TZOFFSETFROM:-0400
TZOFFSETTO:-0500
TZNAME:EST
DTSTART:20201101T060000
END:STANDARD
BEGIN:DAYLIGHT
TZOFFSETFROM:-0500
TZOFFSETTO:-0400
TZNAME:EDT
DTSTART:20210314T070000
END:DAYLIGHT
BEGIN:STANDARD
TZOFFSETFROM:-0400
TZOFFSETTO:-0500
TZNAME:EST
DTSTART:20211107T060000
END:STANDARD
BEGIN:DAYLIGHT
TZOFFSETFROM:-0500
TZOFFSETTO:-0400
TZNAME:EDT
DTSTART:20220313T070000
END:DAYLIGHT
BEGIN:STANDARD
TZOFFSETFROM:-0400
TZOFFSETTO:-0500
TZNAME:EST
DTSTART:20221106T060000
END:STANDARD
END:VTIMEZONE
BEGIN:VTIMEZONE
TZID:UTC
BEGIN:STANDARD
TZOFFSETFROM:+0000
TZOFFSETTO:+0000
TZNAME:UTC
DTSTART:20200101T000000
END:STANDARD
END:VTIMEZONE
BEGIN:VEVENT
DTSTART;TZID=America/New_York:20210803T180000
DTEND;TZID=America/New_York:20210803T200000
DTSTAMP:20260422T134840
CREATED:20210628T161919Z
LAST-MODIFIED:20210730T124445Z
UID:10000435-1628013600-1628020800@www.rutlandtown.com
SUMMARY:Town of Rutland Select Board Meeting
DESCRIPTION:To join the meeting via zoom\, click HERE. \nSelect Board Agenda 8-3-2021 \nTOWN OF RUTLAND SELECT BOARD \nPUBLIC MEETING AGENDA FOR TUESDAY AUGUST 3rd 2021 \n  \nLocation: Rutland Town Municipal Town Hall and Zoom Conferencing \nOpen Meeting – 6:00 PM \n  \nTo attend in person\, you must be considered fully vaccinated against the covid-19 virus. \nIf you are not\, please use our zoom option to attend remotely. \nTo participate via zoom please call (646) 558-8656 or visit zoom.us/join and enter meeting ID 939 1518 8696. \n  \nMeeting Opening \n\nPledge of Allegiance\nApproval of Orders\nApproval of Select Board Minutes: July 20th ARPA Meeting\, July 20th Select Board Meeting\, July 27th\n\n  \nQuestions from the floor: Public Comment \n\nAny member of the public who is not already included on the agenda.\n\nDepartment Head Reports \n\nKari Clark – Town Clerk & Treasurer\nBarbara Noyes-Pulling – Town Planning Commission Chair\nByron Hathaway – Town Road Commissioner\nChris Clark – Town Fire Chief\nEd Dumas – Town Police Chief\nMike Rowe – Town Recreation Director\nBill Sweet – Town Administrative Assistant\nJP Faignant – Town Health Officer\nCommittee Meeting Updates / Schedule Committee Meetings\n\nRec Committee\nWater and Sewer\n\n\nUpdate on Project List\n\nNew Business \n\nBoard to Review for Approval\, Grant Agreement for Road Inventory Work\nBoard to meet with Otter Creek Engineering\nAny other new business\n\nOld Business \n\nAny old business\n\n 
URL:https://www.rutlandtown.com/event/select-board-meeting-2021-07-20-2021-08-03/
LOCATION:Town of Rutland Municipal Building\, 181Business Route 4\, Center Rutland\, VT\, 05736\, United States
CATEGORIES:Select Board
END:VEVENT
BEGIN:VEVENT
DTSTART;TZID=UTC:20210727T170000
DTEND;TZID=UTC:20210727T180000
DTSTAMP:20260422T134840
CREATED:20210721T193742Z
LAST-MODIFIED:20210723T171704Z
UID:10000600-1627405200-1627408800@www.rutlandtown.com
SUMMARY:Select Board Meeting for the Tax Rate
DESCRIPTION:Select Board Meeting for the Tax Rate 7-27-2021 \nTOWN OF RUTLAND SELECT BOARD \nPUBLIC MEETING AGENDA FOR TUESDAY JULY 27th\, 2021 \n Location: Rutland Town Municipal Town Hall and Zoom Conferencing \nOpen Meeting – 5:00 PM \n  \nTo attend in person\, you must be considered fully vaccinated against the covid-19 virus. \nIf you are not\, please use our zoom option to attend remotely. \nTo participate via zoom please call (646) 558-8656 or visit zoom.us/join and enter meeting ID 939 1518 8696. \n  \nMeeting Opening \n\nPledge of Allegiance\n\nNew Business \n\nBoard to discuss setting the new tax rate\nAny other new business
URL:https://www.rutlandtown.com/event/select-board-meeting-for-the-tax-rate-7-27-2021/
LOCATION:Town of Rutland Municipal Building\, 181Business Route 4\, Center Rutland\, VT\, 05736\, United States
CATEGORIES:Select Board
END:VEVENT
BEGIN:VEVENT
DTSTART;TZID=America/New_York:20210720T180000
DTEND;TZID=America/New_York:20210720T200000
DTSTAMP:20260422T134840
CREATED:20210628T161919Z
LAST-MODIFIED:20210715T181141Z
UID:10000452-1626804000-1626811200@www.rutlandtown.com
SUMMARY:Town of Rutland Select Board Meeting
DESCRIPTION:Select Board Agenda 7-20-2021 \nTOWN OF RUTLAND SELECT BOARD \nPUBLIC MEETING AGENDA FOR TUESDAY JULY 20th\, 2021 \n  \nLocation: Rutland Town Municipal Town Hall and Zoom Conferencing \nOpen Meeting – 6:00 PM \n  \nTo attend in person\, you must be considered fully vaccinated against the covid-19 virus. \nIf you are not\, please use our zoom option to attend remotely. \nTo participate via zoom please call (646) 558-8656 or visit THIS LINK. \nMeeting Opening \n\nPledge of Allegiance\nApproval of Orders\nApproval of Select Board Minutes: June 22nd\, June 29th\, and July 6th\n\n  \nQuestions from the floor: Public Comment \n\nAny member of the public who is not already included on the agenda.\n\nDepartment Head Reports \n\nKari Clark – Town Clerk & Treasurer\nBarbara Noyes-Pulling – Town Planning Commission Chair\nByron Hathaway – Town Road Commissioner\nChris Clark – Town Fire Chief\nEd Dumas – Town Police Chief\nMike Rowe – Town Recreation Director\nBill Sweet – Town Administrative Assistant\nJP Faignant – Town Health Officer\nCommittee Meeting Updates / Schedule Committee Meetings\n\nWater / Sewer Committee\n\n\nUpdate on Project List\n\nNew Business \n\nBoard to review for approval\, sewer discharge allocation request\nBoard to discuss C&C Fireworks\nBoard to meet with Joe Anthony regarding the Diamond Run Mall\nBoard to meet with Anil Sachdev regarding the Holiday Inn\nBoard to review the new tax rate\nBoard to discuss the proposed housing project off Dyer and Middle Road.\nBoard to meet with Town Lister Howard Burgess in Executive Session\nAny other new business\n\nOld Business \n\nBoard to discuss establishing a policy for signs on Town owned property\nReclassification of a section of Quarterline Road near Boardman Hill\nAny other old business
URL:https://www.rutlandtown.com/event/select-board-meeting-2021-07-20/
LOCATION:Town of Rutland Municipal Building\, 181Business Route 4\, Center Rutland\, VT\, 05736\, United States
CATEGORIES:Select Board
END:VEVENT
BEGIN:VEVENT
DTSTART;TZID=UTC:20210720T170000
DTEND;TZID=UTC:20210720T180000
DTSTAMP:20260422T134840
CREATED:20210616T180209Z
LAST-MODIFIED:20210616T180209Z
UID:10000448-1626800400-1626804000@www.rutlandtown.com
SUMMARY:Select Board Public Listening Sessions - ARPA Funded Projects
DESCRIPTION:HOW SHOULD WE SPEND THE ARPA MONEY?\nFederal ARPA money will soon be flowing into Rutland Town–at least $400\,000 over the next several months. And that’s just the first round….\nWe want to hear from you about how to spend this money to help our community recover from the COVID-91 pandemic.\nAs with any federal program\, there are restrictions. We can use the money for public health\, COVID-19 mitigation and protection\, premium pay for eligible essential workers\, necessary water\, sewer and broadband projects\, recapture of lost revenues\, and much more. ARPA fund recipients can include households\, small businesses\, nonprofits and your local government. We CAN’T use the money for federal matches\, pensions\, to pay outstanding debt\, or infrastructure other than water\, sewer and broadband.\nFor more information\, please visit the Vermont League of Cities and Towns website at https://www.vlct.org/res…/american-rescue-plan-information\nThe Select Board will hold listening sessions on Tuesday\, June 29th at 6PM and on Tuesday\, July 20th at 5PM. Both meetings will be at Rutland Town Hall for those who have been fully vaccinated\, or via zoom at this link https://zoom.us/j/93915188696…\nCome talk to us. Bring your best\, most creative and inclusive ideas for use of our town’s share of the American Recovery Plan Act money.
URL:https://www.rutlandtown.com/event/select-board-public-listening-sessions-arpa-funded-projects-2/
LOCATION:Town of Rutland Municipal Building\, 181Business Route 4\, Center Rutland\, VT\, 05736\, United States
CATEGORIES:Community,Select Board
END:VEVENT
BEGIN:VEVENT
DTSTART;TZID=America/New_York:20210706T180000
DTEND;TZID=America/New_York:20210706T200000
DTSTAMP:20260422T134840
CREATED:20210628T161919Z
LAST-MODIFIED:20210701T165023Z
UID:10000451-1625594400-1625601600@www.rutlandtown.com
SUMMARY:Town of Rutland Select Board Meeting
DESCRIPTION:Select Board Agenda 7-6-2021 \nTOWN OF RUTLAND SELECT BOARD \nPUBLIC MEETING AGENDA FOR TUESDAY JULY 6th\, 2021 \nLocation: Rutland Town Municipal Town Hall and Zoom Conferencing \nOpen Meeting – 6:00 PM \n To attend in person\, you must be considered fully vaccinated against the covid-19 virus. \nIf you are not\, please use our zoom option to attend remotely. \nTo participate via zoom please call (646) 558-8656 or visit zoom.us/join and enter meeting ID 939 1518 8696. \nMeeting Opening \n\nPledge of Allegiance\nApproval of Orders\nApproval of Select Board Minutes: June 8th and June 22nd\n\n  \nQuestions from the floor: Public Comment \n\nAny member of the public who is not already included on the agenda.\n\nDepartment Head Reports \n\nKari Clark – Town Clerk & Treasurer\nBarbara Noyes-Pulling – Town Planning Commission Chair\nByron Hathaway – Town Road Commissioner\nChris Clark – Town Fire Chief\nEd Dumas – Town Police Chief\nMike Rowe – Town Recreation Director\nBill Sweet – Town Administrative Assistant\nJP Faignant – Town Health Officer\nCommittee Meeting Updates / Schedule Committee Meetings\nUpdate on Project List\n\nNew Business \n\nBoard to hold hearing on Notice of Violation to C&C Fireworks\nBoard to review for approval\, winter heating contract with Johnson Energy\nBoard to certify Vehicles and Traffic Ordinance\nBoard of Health to appoint a Town Health Officer\nBoard to review for approval\, Two State of Vermont Grant Agreements\nBoard to review for approval\, reimbursement request for storage barn construction\nBoard to review for approval\, unlicensed dog warrant\nBoard to meet with MSK Engineering regarding Pocket Park survey project\nBoard to discuss contents of Selectboard meeting minutes\nAny other new business\n\nOld Business \n\nBoard to discuss the purchase of air purifiers for Town Hall\nBoard to discuss establishing a policy for signs on Town owned property\nReclassification of a section of Quarterline Road near Boardman Hill\nAny other old business
URL:https://www.rutlandtown.com/event/select-board-meeting/
LOCATION:Town of Rutland Municipal Building\, 181Business Route 4\, Center Rutland\, VT\, 05736\, United States
CATEGORIES:Select Board
END:VEVENT
BEGIN:VEVENT
DTSTART;TZID=UTC:20210629T180000
DTEND;TZID=UTC:20210629T190000
DTSTAMP:20260422T134840
CREATED:20210616T175903Z
LAST-MODIFIED:20210616T175910Z
UID:10000446-1624989600-1624993200@www.rutlandtown.com
SUMMARY:Select Board Public Listening Sessions - ARPA Funded Projects
DESCRIPTION:HOW SHOULD WE SPEND THE ARPA MONEY?\nFederal ARPA money will soon be flowing into Rutland Town–at least $400\,000 over the next several months. And that’s just the first round….\nWe want to hear from you about how to spend this money to help our community recover from the COVID-91 pandemic.\nAs with any federal program\, there are restrictions. We can use the money for public health\, COVID-19 mitigation and protection\, premium pay for eligible essential workers\, necessary water\, sewer and broadband projects\, recapture of lost revenues\, and much more. ARPA fund recipients can include households\, small businesses\, nonprofits and your local government. We CAN’T use the money for federal matches\, pensions\, to pay outstanding debt\, or infrastructure other than water\, sewer and broadband.\nFor more information\, please visit the Vermont League of Cities and Towns website at https://www.vlct.org/res…/american-rescue-plan-information\nThe Select Board will hold listening sessions on Tuesday\, June 29th at 6PM and on Tuesday\, July 20th at 5PM. Both meetings will be at Rutland Town Hall for those who have been fully vaccinated\, or via zoom at this link https://zoom.us/j/93915188696…\nCome talk to us. Bring your best\, most creative and inclusive ideas for use of our town’s share of the American Recovery Plan Act money.
URL:https://www.rutlandtown.com/event/select-board-public-listening-sessions-arpa-funded-projects/
LOCATION:Town of Rutland Municipal Building\, 181Business Route 4\, Center Rutland\, VT\, 05736\, United States
CATEGORIES:Community,Select Board
END:VEVENT
BEGIN:VEVENT
DTSTART;TZID=UTC:20210622T180000
DTEND;TZID=UTC:20210622T200000
DTSTAMP:20260422T134840
CREATED:20210614T160431Z
LAST-MODIFIED:20210617T140812Z
UID:10000440-1624384800-1624392000@www.rutlandtown.com
SUMMARY:Town of Rutland Select Board Meeting
DESCRIPTION:TOWN OF RUTLAND SELECT BOARD \nPUBLIC MEETING AGENDA FOR TUESDAY JUNE 22nd\, 2021 \n Location: Rutland Town Municipal Town Hall and Zoom Conferencing \nOpen Meeting – 6:00 PM \n  \nTo attend in person\, you must be considered fully vaccinated against the covid-19 virus. \nIf you are not\, please use our zoom option to attend remotely. \nTo participate via zoom please call (646) 558-8656 and enter meeting ID 939 1518 8696 or visit THIS LINK. \nAny member of the public is welcome to join. \nMeeting Opening \n\nPledge of Allegiance\nApproval of Orders\nApproval of Select Board Minutes: June 8th and June 15th\n\nQuestions from the floor: Public Comment \n\nAny member of the public who is not already included on the agenda.\n\nDepartment Head Reports \n\nMike Rowe – Town Recreation Director\nKari Clark – Town Clerk & Treasurer\nBarbara Noyes-Pulling – Town Planning Commission Chair\nByron Hathaway – Town Road Commissioner\nChris Clark – Town Fire Chief\nEd Dumas – Town Police Chief\nJP Faignant – Town Health Officer\nCommittee Meeting Updates / Schedule Committee Meetings\nUpdate on Project List\n\nNew Business \n\nBoard to discuss the purchase of air purifiers for Town Hall\nBoard to review for approval contract with the Dufresne Group for the Route 7 North Scoping Study\nBoard to review for approval sewer discharge allocation request\nBoard to review Public Fireworks Display Checklist and Permit drafts\nBoard to discuss plans for July 4th fireworks at Northwood Park\nBoard to meet with MSK Engineering regarding Pocket Park survey project\nBoard to discuss contents of Selectboard meeting minutes\nBoard to meet with Joe Anthony regarding the mall property\nAny other new business\n\nOld Business \n\nBoard to discuss establishing a policy for signs on Town owned property\nReclassification of a section of Quarterline Road near Boardman Hill\nAny other old business\n\n\n\n\n\n\n\n\n\n\n\n\n\n\n\n\n  \n 
URL:https://www.rutlandtown.com/event/town-of-rutland-select-board-special-meeting-2/
LOCATION:Town of Rutland Municipal Building\, 181Business Route 4\, Center Rutland\, VT\, 05736\, United States
CATEGORIES:Select Board
END:VEVENT
BEGIN:VEVENT
DTSTART;TZID=America/New_York:20210615T180000
DTEND;TZID=America/New_York:20210615T200000
DTSTAMP:20260422T134840
CREATED:20210609T163439Z
LAST-MODIFIED:20210615T184852Z
UID:10000438-1623780000-1623787200@www.rutlandtown.com
SUMMARY:Town of Rutland Select Board: Special Meeting
DESCRIPTION:Open Meeting – 6:00 PM\nLocation: Rutland Town Municipal Town Hall and Zoom Conferencing \nTo attend in person\, you must be considered fully vaccinated against the covid-19 virus. \nIf you are not\, please use our zoom option to attend remotely. \nTo participate via zoom please call (646) 558-8656 or visit zoom.us/join and enter meeting ID 939 1518 8696. \nAny member of the public is welcome to join. \nNew Business \n\nBoard to meet with representatives of C&C Fireworks\nAny other new business\n\nOld Business \n\nAny old business
URL:https://www.rutlandtown.com/event/town-of-rutland-select-board-special-meeting/
LOCATION:Town of Rutland Municipal Building\, 181Business Route 4\, Center Rutland\, VT\, 05736\, United States
CATEGORIES:Select Board
END:VEVENT
END:VCALENDAR