BEGIN:VCALENDAR
VERSION:2.0
PRODID:-//The Town of Rutland, Vermont - ECPv6.15.20//NONSGML v1.0//EN
CALSCALE:GREGORIAN
METHOD:PUBLISH
X-WR-CALNAME:The Town of Rutland, Vermont
X-ORIGINAL-URL:https://www.rutlandtown.com
X-WR-CALDESC:Events for The Town of Rutland, Vermont
REFRESH-INTERVAL;VALUE=DURATION:PT1H
X-Robots-Tag:noindex
X-PUBLISHED-TTL:PT1H
BEGIN:VTIMEZONE
TZID:UTC
BEGIN:STANDARD
TZOFFSETFROM:+0000
TZOFFSETTO:+0000
TZNAME:UTC
DTSTART:20260101T000000
END:STANDARD
END:VTIMEZONE
BEGIN:VEVENT
DTSTART;TZID=UTC:20271214T180000
DTEND;TZID=UTC:20271214T210000
DTSTAMP:20260422T001931
CREATED:20240913T121329Z
LAST-MODIFIED:20241126T202850Z
UID:10001335-1828807200-1828818000@www.rutlandtown.com
SUMMARY:Selectboard Meeting
DESCRIPTION:The agenda will be posted once it is finalized. \nClick HERE to join the meeting remotely.
URL:https://www.rutlandtown.com/event/select-board-meeting-2/2027-12-14/
LOCATION:Town of Rutland Municipal Building\, 181Business Route 4\, Center Rutland\, VT\, 05736\, United States
CATEGORIES:Select Board
END:VEVENT
BEGIN:VEVENT
DTSTART;TZID=UTC:20271228T180000
DTEND;TZID=UTC:20271228T210000
DTSTAMP:20260422T001931
CREATED:20240913T121329Z
LAST-MODIFIED:20241126T202850Z
UID:10001336-1830016800-1830027600@www.rutlandtown.com
SUMMARY:Selectboard Meeting
DESCRIPTION:The agenda will be posted once it is finalized. \nClick HERE to join the meeting remotely.
URL:https://www.rutlandtown.com/event/select-board-meeting-2/2027-12-28/
LOCATION:Town of Rutland Municipal Building\, 181Business Route 4\, Center Rutland\, VT\, 05736\, United States
CATEGORIES:Select Board
END:VEVENT
BEGIN:VEVENT
DTSTART;TZID=UTC:20280111T180000
DTEND;TZID=UTC:20280111T210000
DTSTAMP:20260422T001931
CREATED:20240913T121329Z
LAST-MODIFIED:20241126T202850Z
UID:10001337-1831226400-1831237200@www.rutlandtown.com
SUMMARY:Selectboard Meeting
DESCRIPTION:The agenda will be posted once it is finalized. \nClick HERE to join the meeting remotely.
URL:https://www.rutlandtown.com/event/select-board-meeting-2/2028-01-11/
LOCATION:Town of Rutland Municipal Building\, 181Business Route 4\, Center Rutland\, VT\, 05736\, United States
CATEGORIES:Select Board
END:VEVENT
BEGIN:VEVENT
DTSTART;TZID=UTC:20280125T180000
DTEND;TZID=UTC:20280125T210000
DTSTAMP:20260422T001931
CREATED:20240913T121329Z
LAST-MODIFIED:20241126T202850Z
UID:10001338-1832436000-1832446800@www.rutlandtown.com
SUMMARY:Selectboard Meeting
DESCRIPTION:The agenda will be posted once it is finalized. \nClick HERE to join the meeting remotely.
URL:https://www.rutlandtown.com/event/select-board-meeting-2/2028-01-25/
LOCATION:Town of Rutland Municipal Building\, 181Business Route 4\, Center Rutland\, VT\, 05736\, United States
CATEGORIES:Select Board
END:VEVENT
BEGIN:VEVENT
DTSTART;TZID=UTC:20280208T180000
DTEND;TZID=UTC:20280208T210000
DTSTAMP:20260422T001931
CREATED:20240913T121329Z
LAST-MODIFIED:20241126T202850Z
UID:10001339-1833645600-1833656400@www.rutlandtown.com
SUMMARY:Selectboard Meeting
DESCRIPTION:The agenda will be posted once it is finalized. \nClick HERE to join the meeting remotely.
URL:https://www.rutlandtown.com/event/select-board-meeting-2/2028-02-08/
LOCATION:Town of Rutland Municipal Building\, 181Business Route 4\, Center Rutland\, VT\, 05736\, United States
CATEGORIES:Select Board
END:VEVENT
BEGIN:VEVENT
DTSTART;TZID=UTC:20280222T180000
DTEND;TZID=UTC:20280222T210000
DTSTAMP:20260422T001931
CREATED:20240913T121329Z
LAST-MODIFIED:20241126T202850Z
UID:10001340-1834855200-1834866000@www.rutlandtown.com
SUMMARY:Selectboard Meeting
DESCRIPTION:The agenda will be posted once it is finalized. \nClick HERE to join the meeting remotely.
URL:https://www.rutlandtown.com/event/select-board-meeting-2/2028-02-22/
LOCATION:Town of Rutland Municipal Building\, 181Business Route 4\, Center Rutland\, VT\, 05736\, United States
CATEGORIES:Select Board
END:VEVENT
BEGIN:VEVENT
DTSTART;TZID=UTC:20280307T180000
DTEND;TZID=UTC:20280307T210000
DTSTAMP:20260422T001931
CREATED:20240913T121329Z
LAST-MODIFIED:20241126T202850Z
UID:10001341-1836064800-1836075600@www.rutlandtown.com
SUMMARY:Selectboard Meeting
DESCRIPTION:The agenda will be posted once it is finalized. \nClick HERE to join the meeting remotely.
URL:https://www.rutlandtown.com/event/select-board-meeting-2/2028-03-07/
LOCATION:Town of Rutland Municipal Building\, 181Business Route 4\, Center Rutland\, VT\, 05736\, United States
CATEGORIES:Select Board
END:VEVENT
BEGIN:VEVENT
DTSTART;TZID=UTC:20280321T180000
DTEND;TZID=UTC:20280321T210000
DTSTAMP:20260422T001931
CREATED:20240913T121329Z
LAST-MODIFIED:20241126T202850Z
UID:10001342-1837274400-1837285200@www.rutlandtown.com
SUMMARY:Selectboard Meeting
DESCRIPTION:The agenda will be posted once it is finalized. \nClick HERE to join the meeting remotely.
URL:https://www.rutlandtown.com/event/select-board-meeting-2/2028-03-21/
LOCATION:Town of Rutland Municipal Building\, 181Business Route 4\, Center Rutland\, VT\, 05736\, United States
CATEGORIES:Select Board
END:VEVENT
BEGIN:VEVENT
DTSTART;TZID=UTC:20280404T180000
DTEND;TZID=UTC:20280404T210000
DTSTAMP:20260422T001931
CREATED:20240913T121329Z
LAST-MODIFIED:20241126T202850Z
UID:10001343-1838484000-1838494800@www.rutlandtown.com
SUMMARY:Selectboard Meeting
DESCRIPTION:The agenda will be posted once it is finalized. \nClick HERE to join the meeting remotely.
URL:https://www.rutlandtown.com/event/select-board-meeting-2/2028-04-04/
LOCATION:Town of Rutland Municipal Building\, 181Business Route 4\, Center Rutland\, VT\, 05736\, United States
CATEGORIES:Select Board
END:VEVENT
BEGIN:VEVENT
DTSTART;TZID=UTC:20280418T180000
DTEND;TZID=UTC:20280418T210000
DTSTAMP:20260422T001931
CREATED:20240913T121329Z
LAST-MODIFIED:20241126T202850Z
UID:10001344-1839693600-1839704400@www.rutlandtown.com
SUMMARY:Selectboard Meeting
DESCRIPTION:The agenda will be posted once it is finalized. \nClick HERE to join the meeting remotely.
URL:https://www.rutlandtown.com/event/select-board-meeting-2/2028-04-18/
LOCATION:Town of Rutland Municipal Building\, 181Business Route 4\, Center Rutland\, VT\, 05736\, United States
CATEGORIES:Select Board
END:VEVENT
BEGIN:VEVENT
DTSTART;TZID=UTC:20280502T180000
DTEND;TZID=UTC:20280502T210000
DTSTAMP:20260422T001931
CREATED:20240913T121329Z
LAST-MODIFIED:20241126T202850Z
UID:10001345-1840903200-1840914000@www.rutlandtown.com
SUMMARY:Selectboard Meeting
DESCRIPTION:The agenda will be posted once it is finalized. \nClick HERE to join the meeting remotely.
URL:https://www.rutlandtown.com/event/select-board-meeting-2/2028-05-02/
LOCATION:Town of Rutland Municipal Building\, 181Business Route 4\, Center Rutland\, VT\, 05736\, United States
CATEGORIES:Select Board
END:VEVENT
BEGIN:VEVENT
DTSTART;TZID=UTC:20280516T180000
DTEND;TZID=UTC:20280516T210000
DTSTAMP:20260422T001931
CREATED:20240913T121329Z
LAST-MODIFIED:20241126T202850Z
UID:10001346-1842112800-1842123600@www.rutlandtown.com
SUMMARY:Selectboard Meeting
DESCRIPTION:The agenda will be posted once it is finalized. \nClick HERE to join the meeting remotely.
URL:https://www.rutlandtown.com/event/select-board-meeting-2/2028-05-16/
LOCATION:Town of Rutland Municipal Building\, 181Business Route 4\, Center Rutland\, VT\, 05736\, United States
CATEGORIES:Select Board
END:VEVENT
BEGIN:VEVENT
DTSTART;TZID=UTC:20280530T180000
DTEND;TZID=UTC:20280530T210000
DTSTAMP:20260422T001931
CREATED:20240913T121329Z
LAST-MODIFIED:20241126T202850Z
UID:10001347-1843322400-1843333200@www.rutlandtown.com
SUMMARY:Selectboard Meeting
DESCRIPTION:The agenda will be posted once it is finalized. \nClick HERE to join the meeting remotely.
URL:https://www.rutlandtown.com/event/select-board-meeting-2/2028-05-30/
LOCATION:Town of Rutland Municipal Building\, 181Business Route 4\, Center Rutland\, VT\, 05736\, United States
CATEGORIES:Select Board
END:VEVENT
BEGIN:VEVENT
DTSTART;TZID=UTC:20280613T180000
DTEND;TZID=UTC:20280613T210000
DTSTAMP:20260422T001931
CREATED:20240913T121329Z
LAST-MODIFIED:20241126T202850Z
UID:10001348-1844532000-1844542800@www.rutlandtown.com
SUMMARY:Selectboard Meeting
DESCRIPTION:The agenda will be posted once it is finalized. \nClick HERE to join the meeting remotely.
URL:https://www.rutlandtown.com/event/select-board-meeting-2/2028-06-13/
LOCATION:Town of Rutland Municipal Building\, 181Business Route 4\, Center Rutland\, VT\, 05736\, United States
CATEGORIES:Select Board
END:VEVENT
BEGIN:VEVENT
DTSTART;TZID=UTC:20280627T180000
DTEND;TZID=UTC:20280627T210000
DTSTAMP:20260422T001931
CREATED:20240913T121329Z
LAST-MODIFIED:20241126T202850Z
UID:10001349-1845741600-1845752400@www.rutlandtown.com
SUMMARY:Selectboard Meeting
DESCRIPTION:The agenda will be posted once it is finalized. \nClick HERE to join the meeting remotely.
URL:https://www.rutlandtown.com/event/select-board-meeting-2/2028-06-27/
LOCATION:Town of Rutland Municipal Building\, 181Business Route 4\, Center Rutland\, VT\, 05736\, United States
CATEGORIES:Select Board
END:VEVENT
BEGIN:VEVENT
DTSTART;TZID=UTC:20280711T180000
DTEND;TZID=UTC:20280711T210000
DTSTAMP:20260422T001931
CREATED:20240913T121329Z
LAST-MODIFIED:20241126T202850Z
UID:10001350-1846951200-1846962000@www.rutlandtown.com
SUMMARY:Selectboard Meeting
DESCRIPTION:The agenda will be posted once it is finalized. \nClick HERE to join the meeting remotely.
URL:https://www.rutlandtown.com/event/select-board-meeting-2/2028-07-11/
LOCATION:Town of Rutland Municipal Building\, 181Business Route 4\, Center Rutland\, VT\, 05736\, United States
CATEGORIES:Select Board
END:VEVENT
BEGIN:VEVENT
DTSTART;TZID=UTC:20280725T180000
DTEND;TZID=UTC:20280725T210000
DTSTAMP:20260422T001931
CREATED:20240913T121329Z
LAST-MODIFIED:20241126T202850Z
UID:10001351-1848160800-1848171600@www.rutlandtown.com
SUMMARY:Selectboard Meeting
DESCRIPTION:The agenda will be posted once it is finalized. \nClick HERE to join the meeting remotely.
URL:https://www.rutlandtown.com/event/select-board-meeting-2/2028-07-25/
LOCATION:Town of Rutland Municipal Building\, 181Business Route 4\, Center Rutland\, VT\, 05736\, United States
CATEGORIES:Select Board
END:VEVENT
BEGIN:VEVENT
DTSTART;TZID=UTC:20280808T180000
DTEND;TZID=UTC:20280808T210000
DTSTAMP:20260422T001931
CREATED:20240913T121329Z
LAST-MODIFIED:20241126T202850Z
UID:10001352-1849370400-1849381200@www.rutlandtown.com
SUMMARY:Selectboard Meeting
DESCRIPTION:The agenda will be posted once it is finalized. \nClick HERE to join the meeting remotely.
URL:https://www.rutlandtown.com/event/select-board-meeting-2/2028-08-08/
LOCATION:Town of Rutland Municipal Building\, 181Business Route 4\, Center Rutland\, VT\, 05736\, United States
CATEGORIES:Select Board
END:VEVENT
BEGIN:VEVENT
DTSTART;TZID=UTC:20280822T180000
DTEND;TZID=UTC:20280822T210000
DTSTAMP:20260422T001931
CREATED:20240913T121329Z
LAST-MODIFIED:20241126T202850Z
UID:10001353-1850580000-1850590800@www.rutlandtown.com
SUMMARY:Selectboard Meeting
DESCRIPTION:The agenda will be posted once it is finalized. \nClick HERE to join the meeting remotely.
URL:https://www.rutlandtown.com/event/select-board-meeting-2/2028-08-22/
LOCATION:Town of Rutland Municipal Building\, 181Business Route 4\, Center Rutland\, VT\, 05736\, United States
CATEGORIES:Select Board
END:VEVENT
BEGIN:VEVENT
DTSTART;TZID=UTC:20280905T180000
DTEND;TZID=UTC:20280905T210000
DTSTAMP:20260422T001931
CREATED:20240913T121329Z
LAST-MODIFIED:20241126T202850Z
UID:10001354-1851789600-1851800400@www.rutlandtown.com
SUMMARY:Selectboard Meeting
DESCRIPTION:The agenda will be posted once it is finalized. \nClick HERE to join the meeting remotely.
URL:https://www.rutlandtown.com/event/select-board-meeting-2/2028-09-05/
LOCATION:Town of Rutland Municipal Building\, 181Business Route 4\, Center Rutland\, VT\, 05736\, United States
CATEGORIES:Select Board
END:VEVENT
BEGIN:VEVENT
DTSTART;TZID=UTC:20280919T180000
DTEND;TZID=UTC:20280919T210000
DTSTAMP:20260422T001931
CREATED:20240913T121329Z
LAST-MODIFIED:20241126T202850Z
UID:10001355-1852999200-1853010000@www.rutlandtown.com
SUMMARY:Selectboard Meeting
DESCRIPTION:The agenda will be posted once it is finalized. \nClick HERE to join the meeting remotely.
URL:https://www.rutlandtown.com/event/select-board-meeting-2/2028-09-19/
LOCATION:Town of Rutland Municipal Building\, 181Business Route 4\, Center Rutland\, VT\, 05736\, United States
CATEGORIES:Select Board
END:VEVENT
BEGIN:VEVENT
DTSTART;TZID=UTC:20281003T180000
DTEND;TZID=UTC:20281003T210000
DTSTAMP:20260422T001931
CREATED:20240913T121329Z
LAST-MODIFIED:20241126T202850Z
UID:10001356-1854208800-1854219600@www.rutlandtown.com
SUMMARY:Selectboard Meeting
DESCRIPTION:The agenda will be posted once it is finalized. \nClick HERE to join the meeting remotely.
URL:https://www.rutlandtown.com/event/select-board-meeting-2/2028-10-03/
LOCATION:Town of Rutland Municipal Building\, 181Business Route 4\, Center Rutland\, VT\, 05736\, United States
CATEGORIES:Select Board
END:VEVENT
BEGIN:VEVENT
DTSTART;TZID=UTC:20281017T180000
DTEND;TZID=UTC:20281017T210000
DTSTAMP:20260422T001931
CREATED:20240913T121329Z
LAST-MODIFIED:20241126T202850Z
UID:10001357-1855418400-1855429200@www.rutlandtown.com
SUMMARY:Selectboard Meeting
DESCRIPTION:The agenda will be posted once it is finalized. \nClick HERE to join the meeting remotely.
URL:https://www.rutlandtown.com/event/select-board-meeting-2/2028-10-17/
LOCATION:Town of Rutland Municipal Building\, 181Business Route 4\, Center Rutland\, VT\, 05736\, United States
CATEGORIES:Select Board
END:VEVENT
BEGIN:VEVENT
DTSTART;TZID=UTC:20281031T180000
DTEND;TZID=UTC:20281031T210000
DTSTAMP:20260422T001931
CREATED:20240913T121329Z
LAST-MODIFIED:20241126T202850Z
UID:10001358-1856628000-1856638800@www.rutlandtown.com
SUMMARY:Selectboard Meeting
DESCRIPTION:The agenda will be posted once it is finalized. \nClick HERE to join the meeting remotely.
URL:https://www.rutlandtown.com/event/select-board-meeting-2/2028-10-31/
LOCATION:Town of Rutland Municipal Building\, 181Business Route 4\, Center Rutland\, VT\, 05736\, United States
CATEGORIES:Select Board
END:VEVENT
BEGIN:VEVENT
DTSTART;TZID=UTC:20281114T180000
DTEND;TZID=UTC:20281114T210000
DTSTAMP:20260422T001931
CREATED:20240913T121329Z
LAST-MODIFIED:20241126T202850Z
UID:10001359-1857837600-1857848400@www.rutlandtown.com
SUMMARY:Selectboard Meeting
DESCRIPTION:The agenda will be posted once it is finalized. \nClick HERE to join the meeting remotely.
URL:https://www.rutlandtown.com/event/select-board-meeting-2/2028-11-14/
LOCATION:Town of Rutland Municipal Building\, 181Business Route 4\, Center Rutland\, VT\, 05736\, United States
CATEGORIES:Select Board
END:VEVENT
BEGIN:VEVENT
DTSTART;TZID=UTC:20281128T180000
DTEND;TZID=UTC:20281128T210000
DTSTAMP:20260422T001931
CREATED:20240913T121329Z
LAST-MODIFIED:20241126T202850Z
UID:10001360-1859047200-1859058000@www.rutlandtown.com
SUMMARY:Selectboard Meeting
DESCRIPTION:The agenda will be posted once it is finalized. \nClick HERE to join the meeting remotely.
URL:https://www.rutlandtown.com/event/select-board-meeting-2/2028-11-28/
LOCATION:Town of Rutland Municipal Building\, 181Business Route 4\, Center Rutland\, VT\, 05736\, United States
CATEGORIES:Select Board
END:VEVENT
BEGIN:VEVENT
DTSTART;TZID=UTC:20281212T180000
DTEND;TZID=UTC:20281212T210000
DTSTAMP:20260422T001931
CREATED:20240913T121329Z
LAST-MODIFIED:20241126T202850Z
UID:10001361-1860256800-1860267600@www.rutlandtown.com
SUMMARY:Selectboard Meeting
DESCRIPTION:The agenda will be posted once it is finalized. \nClick HERE to join the meeting remotely.
URL:https://www.rutlandtown.com/event/select-board-meeting-2/2028-12-12/
LOCATION:Town of Rutland Municipal Building\, 181Business Route 4\, Center Rutland\, VT\, 05736\, United States
CATEGORIES:Select Board
END:VEVENT
BEGIN:VEVENT
DTSTART;TZID=UTC:20281226T180000
DTEND;TZID=UTC:20281226T210000
DTSTAMP:20260422T001931
CREATED:20240913T121329Z
LAST-MODIFIED:20241126T202850Z
UID:10001362-1861466400-1861477200@www.rutlandtown.com
SUMMARY:Selectboard Meeting
DESCRIPTION:The agenda will be posted once it is finalized. \nClick HERE to join the meeting remotely.
URL:https://www.rutlandtown.com/event/select-board-meeting-2/2028-12-26/
LOCATION:Town of Rutland Municipal Building\, 181Business Route 4\, Center Rutland\, VT\, 05736\, United States
CATEGORIES:Select Board
END:VEVENT
BEGIN:VEVENT
DTSTART;TZID=UTC:20290109T180000
DTEND;TZID=UTC:20290109T210000
DTSTAMP:20260422T001931
CREATED:20240913T121329Z
LAST-MODIFIED:20241126T202850Z
UID:10001363-1862676000-1862686800@www.rutlandtown.com
SUMMARY:Selectboard Meeting
DESCRIPTION:The agenda will be posted once it is finalized. \nClick HERE to join the meeting remotely.
URL:https://www.rutlandtown.com/event/select-board-meeting-2/2029-01-09/
LOCATION:Town of Rutland Municipal Building\, 181Business Route 4\, Center Rutland\, VT\, 05736\, United States
CATEGORIES:Select Board
END:VEVENT
BEGIN:VEVENT
DTSTART;TZID=UTC:20290123T180000
DTEND;TZID=UTC:20290123T210000
DTSTAMP:20260422T001931
CREATED:20240913T121329Z
LAST-MODIFIED:20241126T202850Z
UID:10001364-1863885600-1863896400@www.rutlandtown.com
SUMMARY:Selectboard Meeting
DESCRIPTION:The agenda will be posted once it is finalized. \nClick HERE to join the meeting remotely.
URL:https://www.rutlandtown.com/event/select-board-meeting-2/2029-01-23/
LOCATION:Town of Rutland Municipal Building\, 181Business Route 4\, Center Rutland\, VT\, 05736\, United States
CATEGORIES:Select Board
END:VEVENT
END:VCALENDAR