BEGIN:VCALENDAR
VERSION:2.0
PRODID:-//The Town of Rutland, Vermont - ECPv6.15.20//NONSGML v1.0//EN
CALSCALE:GREGORIAN
METHOD:PUBLISH
X-ORIGINAL-URL:https://www.rutlandtown.com
X-WR-CALDESC:Events for The Town of Rutland, Vermont
REFRESH-INTERVAL;VALUE=DURATION:PT1H
X-Robots-Tag:noindex
X-PUBLISHED-TTL:PT1H
BEGIN:VTIMEZONE
TZID:UTC
BEGIN:STANDARD
TZOFFSETFROM:+0000
TZOFFSETTO:+0000
TZNAME:UTC
DTSTART:20280101T000000
END:STANDARD
END:VTIMEZONE
BEGIN:VEVENT
DTSTART;TZID=UTC:20290109T180000
DTEND;TZID=UTC:20290109T210000
DTSTAMP:20260421T195303
CREATED:20240913T121329Z
LAST-MODIFIED:20241126T202850Z
UID:10001363-1862676000-1862686800@www.rutlandtown.com
SUMMARY:Selectboard Meeting
DESCRIPTION:The agenda will be posted once it is finalized. \nClick HERE to join the meeting remotely.
URL:https://www.rutlandtown.com/event/select-board-meeting-2/2029-01-09/
LOCATION:Town of Rutland Municipal Building\, 181Business Route 4\, Center Rutland\, VT\, 05736\, United States
CATEGORIES:Select Board
END:VEVENT
BEGIN:VEVENT
DTSTART;TZID=UTC:20290123T180000
DTEND;TZID=UTC:20290123T210000
DTSTAMP:20260421T195303
CREATED:20240913T121329Z
LAST-MODIFIED:20241126T202850Z
UID:10001364-1863885600-1863896400@www.rutlandtown.com
SUMMARY:Selectboard Meeting
DESCRIPTION:The agenda will be posted once it is finalized. \nClick HERE to join the meeting remotely.
URL:https://www.rutlandtown.com/event/select-board-meeting-2/2029-01-23/
LOCATION:Town of Rutland Municipal Building\, 181Business Route 4\, Center Rutland\, VT\, 05736\, United States
CATEGORIES:Select Board
END:VEVENT
BEGIN:VEVENT
DTSTART;TZID=UTC:20290206T180000
DTEND;TZID=UTC:20290206T210000
DTSTAMP:20260421T195303
CREATED:20240913T121329Z
LAST-MODIFIED:20241126T202850Z
UID:10001365-1865095200-1865106000@www.rutlandtown.com
SUMMARY:Selectboard Meeting
DESCRIPTION:The agenda will be posted once it is finalized. \nClick HERE to join the meeting remotely.
URL:https://www.rutlandtown.com/event/select-board-meeting-2/2029-02-06/
LOCATION:Town of Rutland Municipal Building\, 181Business Route 4\, Center Rutland\, VT\, 05736\, United States
CATEGORIES:Select Board
END:VEVENT
BEGIN:VEVENT
DTSTART;TZID=UTC:20290220T180000
DTEND;TZID=UTC:20290220T210000
DTSTAMP:20260421T195303
CREATED:20240913T121329Z
LAST-MODIFIED:20241126T202850Z
UID:10001366-1866304800-1866315600@www.rutlandtown.com
SUMMARY:Selectboard Meeting
DESCRIPTION:The agenda will be posted once it is finalized. \nClick HERE to join the meeting remotely.
URL:https://www.rutlandtown.com/event/select-board-meeting-2/2029-02-20/
LOCATION:Town of Rutland Municipal Building\, 181Business Route 4\, Center Rutland\, VT\, 05736\, United States
CATEGORIES:Select Board
END:VEVENT
BEGIN:VEVENT
DTSTART;TZID=UTC:20290306T180000
DTEND;TZID=UTC:20290306T210000
DTSTAMP:20260421T195303
CREATED:20240913T121329Z
LAST-MODIFIED:20241126T202850Z
UID:10001367-1867514400-1867525200@www.rutlandtown.com
SUMMARY:Selectboard Meeting
DESCRIPTION:The agenda will be posted once it is finalized. \nClick HERE to join the meeting remotely.
URL:https://www.rutlandtown.com/event/select-board-meeting-2/2029-03-06/
LOCATION:Town of Rutland Municipal Building\, 181Business Route 4\, Center Rutland\, VT\, 05736\, United States
CATEGORIES:Select Board
END:VEVENT
BEGIN:VEVENT
DTSTART;TZID=UTC:20290320T180000
DTEND;TZID=UTC:20290320T210000
DTSTAMP:20260421T195303
CREATED:20240913T121329Z
LAST-MODIFIED:20241126T202850Z
UID:10001368-1868724000-1868734800@www.rutlandtown.com
SUMMARY:Selectboard Meeting
DESCRIPTION:The agenda will be posted once it is finalized. \nClick HERE to join the meeting remotely.
URL:https://www.rutlandtown.com/event/select-board-meeting-2/2029-03-20/
LOCATION:Town of Rutland Municipal Building\, 181Business Route 4\, Center Rutland\, VT\, 05736\, United States
CATEGORIES:Select Board
END:VEVENT
BEGIN:VEVENT
DTSTART;TZID=UTC:20290403T180000
DTEND;TZID=UTC:20290403T210000
DTSTAMP:20260421T195303
CREATED:20240913T121329Z
LAST-MODIFIED:20241126T202850Z
UID:10001369-1869933600-1869944400@www.rutlandtown.com
SUMMARY:Selectboard Meeting
DESCRIPTION:The agenda will be posted once it is finalized. \nClick HERE to join the meeting remotely.
URL:https://www.rutlandtown.com/event/select-board-meeting-2/2029-04-03/
LOCATION:Town of Rutland Municipal Building\, 181Business Route 4\, Center Rutland\, VT\, 05736\, United States
CATEGORIES:Select Board
END:VEVENT
BEGIN:VEVENT
DTSTART;TZID=UTC:20290417T180000
DTEND;TZID=UTC:20290417T210000
DTSTAMP:20260421T195303
CREATED:20240913T121329Z
LAST-MODIFIED:20241126T202850Z
UID:10001370-1871143200-1871154000@www.rutlandtown.com
SUMMARY:Selectboard Meeting
DESCRIPTION:The agenda will be posted once it is finalized. \nClick HERE to join the meeting remotely.
URL:https://www.rutlandtown.com/event/select-board-meeting-2/2029-04-17/
LOCATION:Town of Rutland Municipal Building\, 181Business Route 4\, Center Rutland\, VT\, 05736\, United States
CATEGORIES:Select Board
END:VEVENT
BEGIN:VEVENT
DTSTART;TZID=UTC:20290501T180000
DTEND;TZID=UTC:20290501T210000
DTSTAMP:20260421T195303
CREATED:20240913T121329Z
LAST-MODIFIED:20241126T202850Z
UID:10001371-1872352800-1872363600@www.rutlandtown.com
SUMMARY:Selectboard Meeting
DESCRIPTION:The agenda will be posted once it is finalized. \nClick HERE to join the meeting remotely.
URL:https://www.rutlandtown.com/event/select-board-meeting-2/2029-05-01/
LOCATION:Town of Rutland Municipal Building\, 181Business Route 4\, Center Rutland\, VT\, 05736\, United States
CATEGORIES:Select Board
END:VEVENT
BEGIN:VEVENT
DTSTART;TZID=UTC:20290515T180000
DTEND;TZID=UTC:20290515T210000
DTSTAMP:20260421T195303
CREATED:20240913T121329Z
LAST-MODIFIED:20241126T202850Z
UID:10001372-1873562400-1873573200@www.rutlandtown.com
SUMMARY:Selectboard Meeting
DESCRIPTION:The agenda will be posted once it is finalized. \nClick HERE to join the meeting remotely.
URL:https://www.rutlandtown.com/event/select-board-meeting-2/2029-05-15/
LOCATION:Town of Rutland Municipal Building\, 181Business Route 4\, Center Rutland\, VT\, 05736\, United States
CATEGORIES:Select Board
END:VEVENT
BEGIN:VEVENT
DTSTART;TZID=UTC:20290529T180000
DTEND;TZID=UTC:20290529T210000
DTSTAMP:20260421T195303
CREATED:20240913T121329Z
LAST-MODIFIED:20241126T202850Z
UID:10001373-1874772000-1874782800@www.rutlandtown.com
SUMMARY:Selectboard Meeting
DESCRIPTION:The agenda will be posted once it is finalized. \nClick HERE to join the meeting remotely.
URL:https://www.rutlandtown.com/event/select-board-meeting-2/2029-05-29/
LOCATION:Town of Rutland Municipal Building\, 181Business Route 4\, Center Rutland\, VT\, 05736\, United States
CATEGORIES:Select Board
END:VEVENT
BEGIN:VEVENT
DTSTART;TZID=UTC:20290612T180000
DTEND;TZID=UTC:20290612T210000
DTSTAMP:20260421T195303
CREATED:20240913T121329Z
LAST-MODIFIED:20241126T202850Z
UID:10001374-1875981600-1875992400@www.rutlandtown.com
SUMMARY:Selectboard Meeting
DESCRIPTION:The agenda will be posted once it is finalized. \nClick HERE to join the meeting remotely.
URL:https://www.rutlandtown.com/event/select-board-meeting-2/2029-06-12/
LOCATION:Town of Rutland Municipal Building\, 181Business Route 4\, Center Rutland\, VT\, 05736\, United States
CATEGORIES:Select Board
END:VEVENT
BEGIN:VEVENT
DTSTART;TZID=UTC:20290626T180000
DTEND;TZID=UTC:20290626T210000
DTSTAMP:20260421T195303
CREATED:20240913T121329Z
LAST-MODIFIED:20241126T202850Z
UID:10001375-1877191200-1877202000@www.rutlandtown.com
SUMMARY:Selectboard Meeting
DESCRIPTION:The agenda will be posted once it is finalized. \nClick HERE to join the meeting remotely.
URL:https://www.rutlandtown.com/event/select-board-meeting-2/2029-06-26/
LOCATION:Town of Rutland Municipal Building\, 181Business Route 4\, Center Rutland\, VT\, 05736\, United States
CATEGORIES:Select Board
END:VEVENT
BEGIN:VEVENT
DTSTART;TZID=UTC:20290710T180000
DTEND;TZID=UTC:20290710T210000
DTSTAMP:20260421T195303
CREATED:20240913T121329Z
LAST-MODIFIED:20241126T202850Z
UID:10001376-1878400800-1878411600@www.rutlandtown.com
SUMMARY:Selectboard Meeting
DESCRIPTION:The agenda will be posted once it is finalized. \nClick HERE to join the meeting remotely.
URL:https://www.rutlandtown.com/event/select-board-meeting-2/2029-07-10/
LOCATION:Town of Rutland Municipal Building\, 181Business Route 4\, Center Rutland\, VT\, 05736\, United States
CATEGORIES:Select Board
END:VEVENT
BEGIN:VEVENT
DTSTART;TZID=UTC:20290724T180000
DTEND;TZID=UTC:20290724T210000
DTSTAMP:20260421T195303
CREATED:20240913T121329Z
LAST-MODIFIED:20241126T202850Z
UID:10001377-1879610400-1879621200@www.rutlandtown.com
SUMMARY:Selectboard Meeting
DESCRIPTION:The agenda will be posted once it is finalized. \nClick HERE to join the meeting remotely.
URL:https://www.rutlandtown.com/event/select-board-meeting-2/2029-07-24/
LOCATION:Town of Rutland Municipal Building\, 181Business Route 4\, Center Rutland\, VT\, 05736\, United States
CATEGORIES:Select Board
END:VEVENT
BEGIN:VEVENT
DTSTART;TZID=UTC:20290807T180000
DTEND;TZID=UTC:20290807T210000
DTSTAMP:20260421T195303
CREATED:20240913T121329Z
LAST-MODIFIED:20241126T202850Z
UID:10001378-1880820000-1880830800@www.rutlandtown.com
SUMMARY:Selectboard Meeting
DESCRIPTION:The agenda will be posted once it is finalized. \nClick HERE to join the meeting remotely.
URL:https://www.rutlandtown.com/event/select-board-meeting-2/2029-08-07/
LOCATION:Town of Rutland Municipal Building\, 181Business Route 4\, Center Rutland\, VT\, 05736\, United States
CATEGORIES:Select Board
END:VEVENT
BEGIN:VEVENT
DTSTART;TZID=UTC:20290821T180000
DTEND;TZID=UTC:20290821T210000
DTSTAMP:20260421T195303
CREATED:20240913T121329Z
LAST-MODIFIED:20241126T202850Z
UID:10001379-1882029600-1882040400@www.rutlandtown.com
SUMMARY:Selectboard Meeting
DESCRIPTION:The agenda will be posted once it is finalized. \nClick HERE to join the meeting remotely.
URL:https://www.rutlandtown.com/event/select-board-meeting-2/2029-08-21/
LOCATION:Town of Rutland Municipal Building\, 181Business Route 4\, Center Rutland\, VT\, 05736\, United States
CATEGORIES:Select Board
END:VEVENT
BEGIN:VEVENT
DTSTART;TZID=UTC:20290904T180000
DTEND;TZID=UTC:20290904T210000
DTSTAMP:20260421T195303
CREATED:20240913T121329Z
LAST-MODIFIED:20241126T202850Z
UID:10001380-1883239200-1883250000@www.rutlandtown.com
SUMMARY:Selectboard Meeting
DESCRIPTION:The agenda will be posted once it is finalized. \nClick HERE to join the meeting remotely.
URL:https://www.rutlandtown.com/event/select-board-meeting-2/2029-09-04/
LOCATION:Town of Rutland Municipal Building\, 181Business Route 4\, Center Rutland\, VT\, 05736\, United States
CATEGORIES:Select Board
END:VEVENT
BEGIN:VEVENT
DTSTART;TZID=UTC:20290918T180000
DTEND;TZID=UTC:20290918T210000
DTSTAMP:20260421T195303
CREATED:20240913T121329Z
LAST-MODIFIED:20241126T202850Z
UID:10001384-1884448800-1884459600@www.rutlandtown.com
SUMMARY:Selectboard Meeting
DESCRIPTION:The agenda will be posted once it is finalized. \nClick HERE to join the meeting remotely.
URL:https://www.rutlandtown.com/event/select-board-meeting-2/2029-09-18/
LOCATION:Town of Rutland Municipal Building\, 181Business Route 4\, Center Rutland\, VT\, 05736\, United States
CATEGORIES:Select Board
END:VEVENT
BEGIN:VEVENT
DTSTART;TZID=UTC:20291002T180000
DTEND;TZID=UTC:20291002T210000
DTSTAMP:20260421T195303
CREATED:20240913T121329Z
LAST-MODIFIED:20241126T202850Z
UID:10001386-1885658400-1885669200@www.rutlandtown.com
SUMMARY:Selectboard Meeting
DESCRIPTION:The agenda will be posted once it is finalized. \nClick HERE to join the meeting remotely.
URL:https://www.rutlandtown.com/event/select-board-meeting-2/2029-10-02/
LOCATION:Town of Rutland Municipal Building\, 181Business Route 4\, Center Rutland\, VT\, 05736\, United States
CATEGORIES:Select Board
END:VEVENT
BEGIN:VEVENT
DTSTART;TZID=UTC:20291016T180000
DTEND;TZID=UTC:20291016T210000
DTSTAMP:20260421T195303
CREATED:20240913T121329Z
LAST-MODIFIED:20241126T202850Z
UID:10001388-1886868000-1886878800@www.rutlandtown.com
SUMMARY:Selectboard Meeting
DESCRIPTION:The agenda will be posted once it is finalized. \nClick HERE to join the meeting remotely.
URL:https://www.rutlandtown.com/event/select-board-meeting-2/2029-10-16/
LOCATION:Town of Rutland Municipal Building\, 181Business Route 4\, Center Rutland\, VT\, 05736\, United States
CATEGORIES:Select Board
END:VEVENT
BEGIN:VEVENT
DTSTART;TZID=UTC:20291030T180000
DTEND;TZID=UTC:20291030T210000
DTSTAMP:20260421T195303
CREATED:20240913T121329Z
LAST-MODIFIED:20241126T202850Z
UID:10001395-1888077600-1888088400@www.rutlandtown.com
SUMMARY:Selectboard Meeting
DESCRIPTION:The agenda will be posted once it is finalized. \nClick HERE to join the meeting remotely.
URL:https://www.rutlandtown.com/event/select-board-meeting-2/2029-10-30/
LOCATION:Town of Rutland Municipal Building\, 181Business Route 4\, Center Rutland\, VT\, 05736\, United States
CATEGORIES:Select Board
END:VEVENT
BEGIN:VEVENT
DTSTART;TZID=UTC:20291113T180000
DTEND;TZID=UTC:20291113T210000
DTSTAMP:20260421T195303
CREATED:20240913T121329Z
LAST-MODIFIED:20241126T202850Z
UID:10001398-1889287200-1889298000@www.rutlandtown.com
SUMMARY:Selectboard Meeting
DESCRIPTION:The agenda will be posted once it is finalized. \nClick HERE to join the meeting remotely.
URL:https://www.rutlandtown.com/event/select-board-meeting-2/2029-11-13/
LOCATION:Town of Rutland Municipal Building\, 181Business Route 4\, Center Rutland\, VT\, 05736\, United States
CATEGORIES:Select Board
END:VEVENT
BEGIN:VEVENT
DTSTART;TZID=UTC:20291127T180000
DTEND;TZID=UTC:20291127T210000
DTSTAMP:20260421T195303
CREATED:20240913T121329Z
LAST-MODIFIED:20241126T202850Z
UID:10001406-1890496800-1890507600@www.rutlandtown.com
SUMMARY:Selectboard Meeting
DESCRIPTION:The agenda will be posted once it is finalized. \nClick HERE to join the meeting remotely.
URL:https://www.rutlandtown.com/event/select-board-meeting-2/2029-11-27/
LOCATION:Town of Rutland Municipal Building\, 181Business Route 4\, Center Rutland\, VT\, 05736\, United States
CATEGORIES:Select Board
END:VEVENT
BEGIN:VEVENT
DTSTART;TZID=UTC:20291211T180000
DTEND;TZID=UTC:20291211T210000
DTSTAMP:20260421T195303
CREATED:20240913T121329Z
LAST-MODIFIED:20241126T202850Z
UID:10001407-1891706400-1891717200@www.rutlandtown.com
SUMMARY:Selectboard Meeting
DESCRIPTION:The agenda will be posted once it is finalized. \nClick HERE to join the meeting remotely.
URL:https://www.rutlandtown.com/event/select-board-meeting-2/2029-12-11/
LOCATION:Town of Rutland Municipal Building\, 181Business Route 4\, Center Rutland\, VT\, 05736\, United States
CATEGORIES:Select Board
END:VEVENT
BEGIN:VEVENT
DTSTART;TZID=UTC:20291225T180000
DTEND;TZID=UTC:20291225T210000
DTSTAMP:20260421T195303
CREATED:20240913T121329Z
LAST-MODIFIED:20241126T202850Z
UID:10001497-1892916000-1892926800@www.rutlandtown.com
SUMMARY:Selectboard Meeting
DESCRIPTION:The agenda will be posted once it is finalized. \nClick HERE to join the meeting remotely.
URL:https://www.rutlandtown.com/event/select-board-meeting-2/2029-12-25/
LOCATION:Town of Rutland Municipal Building\, 181Business Route 4\, Center Rutland\, VT\, 05736\, United States
CATEGORIES:Select Board
END:VEVENT
BEGIN:VEVENT
DTSTART;TZID=UTC:20300108T180000
DTEND;TZID=UTC:20300108T210000
DTSTAMP:20260421T195303
CREATED:20240913T121329Z
LAST-MODIFIED:20241126T202850Z
UID:10001500-1894125600-1894136400@www.rutlandtown.com
SUMMARY:Selectboard Meeting
DESCRIPTION:The agenda will be posted once it is finalized. \nClick HERE to join the meeting remotely.
URL:https://www.rutlandtown.com/event/select-board-meeting-2/2030-01-08/
LOCATION:Town of Rutland Municipal Building\, 181Business Route 4\, Center Rutland\, VT\, 05736\, United States
CATEGORIES:Select Board
END:VEVENT
BEGIN:VEVENT
DTSTART;TZID=UTC:20300122T180000
DTEND;TZID=UTC:20300122T210000
DTSTAMP:20260421T195303
CREATED:20240913T121329Z
LAST-MODIFIED:20241126T202850Z
UID:10001501-1895335200-1895346000@www.rutlandtown.com
SUMMARY:Selectboard Meeting
DESCRIPTION:The agenda will be posted once it is finalized. \nClick HERE to join the meeting remotely.
URL:https://www.rutlandtown.com/event/select-board-meeting-2/2030-01-22/
LOCATION:Town of Rutland Municipal Building\, 181Business Route 4\, Center Rutland\, VT\, 05736\, United States
CATEGORIES:Select Board
END:VEVENT
BEGIN:VEVENT
DTSTART;TZID=UTC:20300205T180000
DTEND;TZID=UTC:20300205T210000
DTSTAMP:20260421T195303
CREATED:20240913T121329Z
LAST-MODIFIED:20241126T202850Z
UID:10001504-1896544800-1896555600@www.rutlandtown.com
SUMMARY:Selectboard Meeting
DESCRIPTION:The agenda will be posted once it is finalized. \nClick HERE to join the meeting remotely.
URL:https://www.rutlandtown.com/event/select-board-meeting-2/2030-02-05/
LOCATION:Town of Rutland Municipal Building\, 181Business Route 4\, Center Rutland\, VT\, 05736\, United States
CATEGORIES:Select Board
END:VEVENT
BEGIN:VEVENT
DTSTART;TZID=UTC:20300219T180000
DTEND;TZID=UTC:20300219T210000
DTSTAMP:20260421T195303
CREATED:20240913T121329Z
LAST-MODIFIED:20241126T202850Z
UID:10001510-1897754400-1897765200@www.rutlandtown.com
SUMMARY:Selectboard Meeting
DESCRIPTION:The agenda will be posted once it is finalized. \nClick HERE to join the meeting remotely.
URL:https://www.rutlandtown.com/event/select-board-meeting-2/2030-02-19/
LOCATION:Town of Rutland Municipal Building\, 181Business Route 4\, Center Rutland\, VT\, 05736\, United States
CATEGORIES:Select Board
END:VEVENT
END:VCALENDAR