BEGIN:VCALENDAR
VERSION:2.0
PRODID:-//The Town of Rutland, Vermont - ECPv6.15.20//NONSGML v1.0//EN
CALSCALE:GREGORIAN
METHOD:PUBLISH
X-WR-CALNAME:The Town of Rutland, Vermont
X-ORIGINAL-URL:https://www.rutlandtown.com
X-WR-CALDESC:Events for The Town of Rutland, Vermont
REFRESH-INTERVAL;VALUE=DURATION:PT1H
X-Robots-Tag:noindex
X-PUBLISHED-TTL:PT1H
BEGIN:VTIMEZONE
TZID:UTC
BEGIN:STANDARD
TZOFFSETFROM:+0000
TZOFFSETTO:+0000
TZNAME:UTC
DTSTART:20250101T000000
END:STANDARD
END:VTIMEZONE
BEGIN:VEVENT
DTSTART;TZID=UTC:20260127T180000
DTEND;TZID=UTC:20260127T210000
DTSTAMP:20260422T001316
CREATED:20260122T160907Z
LAST-MODIFIED:20260122T160907Z
UID:10001286-1769536800-1769547600@www.rutlandtown.com
SUMMARY:Selectboard Meeting
DESCRIPTION:Click HERE to join the meeting remotely. \nSelectboard Agenda 1-27-2026 \nTOWN OF RUTLAND SELECTBOARD MEETING NOTICE AND AGENDA \nMUNICIPAL TOWN HALL AND ZOOM CONFERENCING \n6:00 PM Tuesday January 27th\, 2026 \nTo participate via zoom please visit https://us06web.zoom.us/j/93915188696 or call (646) 558-8656 and enter meeting ID 939 1518 8696. \nMeeting Opening \n\nPledge of Allegiance\nApproval of Selectboard Minutes:\n\nJanuary 13th Regular Meeting\nJanuary 20th Special Meeting\n\n\nApproval of Orders\nBoard Member Announcements\nUpdate from the Selectboard Chair\nQuestions from the floor; public comments\n\nDepartment Head Reports \n\nDave Sears – Town Road Commissioner\nChris Clark – Town Fire Chief\nEd Dumas – Town Police Chief\nMike Rowe – Town Recreation Director\nJohn Paul Faignant – Town Health Officer / 2nd Constable\nBarbara Pulling – Town Planning Commission Chair\nLarry Dell Veneri – Town Transfer Station Manager\nMarcia Chioffi – Town Head Lister\nKari Clark – Town Clerk & Treasurer\nMike Delehanty – Town 1st Constable\nJoe Denardo – Public Safety Building Clerk\nBill Sweet – Town Administrator\n\nAction items \n\nBoard to review contract amendment with the RRPC for approval\nBoard to discuss approving the purchase of a new cruiser from the Police committee meeting\nBoard to review Flory Plaza Act 250 MIQ for comments and approval\nBoard to review first half of the fiscal year budget status\nBoard to review the pre-town meeting\, discuss any changes for Town meeting\nBoard to discuss the process to create and implement a disaster recovery process\nUpdate the Selectboard project list\nCommittee meeting reports\, Police
URL:https://www.rutlandtown.com/event/select-board-meeting-2-36/
LOCATION:Town of Rutland Municipal Building\, 181Business Route 4\, Center Rutland\, VT\, 05736\, United States
CATEGORIES:Select Board
END:VEVENT
END:VCALENDAR