BEGIN:VCALENDAR
VERSION:2.0
PRODID:-//The Town of Rutland, Vermont - ECPv6.15.20//NONSGML v1.0//EN
CALSCALE:GREGORIAN
METHOD:PUBLISH
X-ORIGINAL-URL:https://www.rutlandtown.com
X-WR-CALDESC:Events for The Town of Rutland, Vermont
REFRESH-INTERVAL;VALUE=DURATION:PT1H
X-Robots-Tag:noindex
X-PUBLISHED-TTL:PT1H
BEGIN:VTIMEZONE
TZID:UTC
BEGIN:STANDARD
TZOFFSETFROM:+0000
TZOFFSETTO:+0000
TZNAME:UTC
DTSTART:20200101T000000
END:STANDARD
END:VTIMEZONE
BEGIN:VTIMEZONE
TZID:America/New_York
BEGIN:DAYLIGHT
TZOFFSETFROM:-0500
TZOFFSETTO:-0400
TZNAME:EDT
DTSTART:20200308T070000
END:DAYLIGHT
BEGIN:STANDARD
TZOFFSETFROM:-0400
TZOFFSETTO:-0500
TZNAME:EST
DTSTART:20201101T060000
END:STANDARD
BEGIN:DAYLIGHT
TZOFFSETFROM:-0500
TZOFFSETTO:-0400
TZNAME:EDT
DTSTART:20210314T070000
END:DAYLIGHT
BEGIN:STANDARD
TZOFFSETFROM:-0400
TZOFFSETTO:-0500
TZNAME:EST
DTSTART:20211107T060000
END:STANDARD
BEGIN:DAYLIGHT
TZOFFSETFROM:-0500
TZOFFSETTO:-0400
TZNAME:EDT
DTSTART:20220313T070000
END:DAYLIGHT
BEGIN:STANDARD
TZOFFSETFROM:-0400
TZOFFSETTO:-0500
TZNAME:EST
DTSTART:20221106T060000
END:STANDARD
END:VTIMEZONE
BEGIN:VEVENT
DTSTART;VALUE=DATE:20210906
DTEND;VALUE=DATE:20210907
DTSTAMP:20260425T150051
CREATED:20210630T184433Z
LAST-MODIFIED:20210630T184433Z
UID:10000557-1630886400-1630972799@www.rutlandtown.com
SUMMARY:Town Hall Closed
DESCRIPTION:Town Hall will be closed in observance of Labor Day
URL:https://www.rutlandtown.com/event/town-hall-closed-2/
END:VEVENT
BEGIN:VEVENT
DTSTART;TZID=UTC:20210908T160000
DTEND;TZID=UTC:20210908T170000
DTSTAMP:20260425T150051
CREATED:20210903T152458Z
LAST-MODIFIED:20210903T152809Z
UID:10000570-1631116800-1631120400@www.rutlandtown.com
SUMMARY:Special Selectboard Meeting
DESCRIPTION:Special Selectboard Meeting 9/8/2021 \nClick HERE to join the meeting remotely. \nTOWN OF RUTLAND SELECT BOARD \nSPECIAL MEETING AGENDA FOR WEDNESDAY SEPTEMBER 8th \nLocation: Rutland Town Municipal Town Hall and Zoom Conferencing \nMeeting Time – 4:00 PM \nTo attend in person\, you must be considered fully vaccinated against the covid-19 virus. \nIf you are not\, please use our zoom option to attend remotely. \nTo participate via zoom please call (646) 558-8656 or visit zoom.us/join and enter meeting ID 939 1518 8696. \nAny member of the public is welcome to join. \n  \nNew Business \n\nBoard to meet in Executive Session to discuss a personnel matter.\nAny other new business\n\nOld Business \n\nAny old business
URL:https://www.rutlandtown.com/event/special-select-board-meeting/
LOCATION:Town of Rutland Municipal Building\, 181Business Route 4\, Center Rutland\, VT\, 05736\, United States
CATEGORIES:Select Board
END:VEVENT
BEGIN:VEVENT
DTSTART;VALUE=DATE:20210910
DTEND;VALUE=DATE:20210911
DTSTAMP:20260425T150051
CREATED:20210716T171525Z
LAST-MODIFIED:20220216T151830Z
UID:10000566-1631232000-1631318399@www.rutlandtown.com
SUMMARY:1st Tax Installment Due
DESCRIPTION:The first installment of taxes are due by close of business on September 10th\, 2021. \nPayments may be mailed\, delivered to our office\, placed in the drop box next to our front door or made online by going HERE. \nThe drop box is checked at the end of the business day. \nWe do accept postmarks with official USPS postmarks only. We are not responsible for late\, misdirected or incorrectly addressed mail. \nIf you have a question on any previous balance due please contact the office. Notices of prior balances due ARE NOT sent out.
URL:https://www.rutlandtown.com/event/1st-tax-installment-due-2022-07-10/
LOCATION:Town of Rutland Municipal Building\, 181Business Route 4\, Center Rutland\, VT\, 05736\, United States
CATEGORIES:Municipal Date
END:VEVENT
BEGIN:VEVENT
DTSTART;VALUE=DATE:20210910
DTEND;VALUE=DATE:20210911
DTSTAMP:20260425T150051
CREATED:20210716T171525Z
LAST-MODIFIED:20220729T144822Z
UID:10000551-1631232000-1631318399@www.rutlandtown.com
SUMMARY:1st Tax Installment Due
DESCRIPTION:The first installment of taxes are due by close of business on September 10th. \nPayments may be mailed\, delivered to our office\, placed in the drop box next to our front door or made online by going HERE. \nThe drop box is checked at the end of the business day. \nWe do accept postmarks with official USPS postmarks only. We are not responsible for late\, misdirected or incorrectly addressed mail. \nIf you have a question on any previous balance due please contact the office. Notices of prior balances due ARE NOT sent out.
URL:https://www.rutlandtown.com/event/1st-tax-installment-due/
LOCATION:Town of Rutland Municipal Building\, 181Business Route 4\, Center Rutland\, VT\, 05736\, United States
CATEGORIES:Municipal Date
END:VEVENT
BEGIN:VEVENT
DTSTART;TZID=America/New_York:20210914T180000
DTEND;TZID=America/New_York:20210914T200000
DTSTAMP:20260425T150051
CREATED:20210628T161919Z
LAST-MODIFIED:20210909T184203Z
UID:10000420-1631642400-1631649600@www.rutlandtown.com
SUMMARY:Town of Rutland Selectboard Meeting
DESCRIPTION:Selectboard Agenda 9-14-2021 \nClick HERE to join the meeting remotely. \nTOWN OF RUTLAND SELECTBOARD \nPUBLIC MEETING AGENDA FOR TUESDAY SEPTEMBER 14th\, 2021 \n Location: Rutland Town Municipal Town Hall and Zoom Conferencing \nOpen Meeting – 6:00 PM \nTo attend in person\, you must be considered fully vaccinated against the covid-19 virus. \nIf you are not\, please use our zoom option to attend remotely. \nTo participate via zoom please call (646) 558-8656 or visit zoom.us/join and enter meeting ID 939 1518 8696. \nMeeting Opening \n\nPledge of Allegiance\nApproval of Orders\nApproval of Selectboard Minutes: August 31st\n\nQuestions from the floor: Public Comment \n\nAny member of the public who is not already included on the agenda.\n\nDepartment Head Reports \n\nKari Clark – Town Clerk & Treasurer\nMike Rowe – Town Recreation Director\nEd Dumas – Town Police Chief\nChris Clark – Town Fire Chief\nByron Hathaway – Town Road Commissioner\nBarbara Pulling – Town Planning Commission Chair\nBill Sweet – Town Administrative Assistant\nJP Faignant – Town Health Officer\nCommittee Meeting Updates / Schedule Committee Meetings\nUpdate on Project List\n\nNew Business \n\nBoard to review for approval\, Certificate of Substantial Completion for the Randbury Road water project\nBoard to review for approval\, meeting room use request\nBoard to review maintenance request from the Chamber of Economic Development for the Rutland Region\nBoard to discuss the annual Halloween party format\nAny other new business\n\nOld Business \n\nBoard to discuss succession planning and storage of department records\nBoard to meet with representatives for the Diamond Run Mall property to discuss security options\nAny old business\n\n 
URL:https://www.rutlandtown.com/event/select-board-meeting-2021-07-20-2021-08-31-2021-09-14/
LOCATION:Town of Rutland Municipal Building\, 181Business Route 4\, Center Rutland\, VT\, 05736\, United States
CATEGORIES:Select Board
END:VEVENT
BEGIN:VEVENT
DTSTART;TZID=UTC:20210916T183000
DTEND;TZID=UTC:20210916T200000
DTSTAMP:20260425T150051
CREATED:20210715T124556Z
LAST-MODIFIED:20210910T155202Z
UID:10000365-1631817000-1631822400@www.rutlandtown.com
SUMMARY:Town of Rutland Planning Commission Meeting
DESCRIPTION:Planning Commission Agenda 9-16-2021 \nTOWN OF RUTLAND PLANNING COMMISSION AGENDA \nTHURSDAY\, September 16\, 2021  \nLocation: Rutland Town Municipal Town Hall and Zoom Conferencing  \nOpen Meeting – 6:30 PM  \n  \nTo attend in person\, you must wear a mask and be fully vaccinated.  \nIf you are not\, please use our zoom option to attend remotely.  \nTo participate via zoom please call (646) 558-8656 or visit zoom.us/join and enter meeting ID 985 4127 6671.  \n Call to Order/ Pledge of Allegiance \n  \nApproval of Agenda \n  \nPublic Comment \n  \nNew Business \n\nPotential new development at Thomas Dairy\, Christa Thomas • Draft model rules of procedure\n\nConvene Stormwater Commission \n•    Possible stormwater discharge issue \nRe-convene Planning Commission \nOld Business \n\nVLCT assistance on ordinances\nUpdate on McKinley Avenue boundary line adjustments\n\nAnnouncements/News \n\nAllco online\n\nApproval of Minutes \n•     August 5\, 2021 \nAdjournment
URL:https://www.rutlandtown.com/event/town-of-rutland-planning-commission-meeting-2-2021-09-16/
LOCATION:Town of Rutland Municipal Building\, 181Business Route 4\, Center Rutland\, VT\, 05736\, United States
CATEGORIES:Planning Commission
END:VEVENT
BEGIN:VEVENT
DTSTART;TZID=America/New_York:20210928T180000
DTEND;TZID=America/New_York:20210928T200000
DTSTAMP:20260425T150051
CREATED:20210628T161919Z
LAST-MODIFIED:20210923T155240Z
UID:10000421-1632852000-1632859200@www.rutlandtown.com
SUMMARY:Town of Rutland Selectboard Meeting
DESCRIPTION:Selectboard Agenda 9-28-2021 \nClick HERE to join the meeting remotely. \nTOWN OF RUTLAND SELECTBOARD \nPUBLIC MEETING AGENDA FOR TUESDAY SEPTEMBER 28th\, 2021 \n  \nLocation: Rutland Town Municipal Town Hall and Zoom Conferencing \nOpen Meeting – 6:00 PM \n  \nTo attend in person\, masks are required\, and you must be considered fully vaccinated against the covid-19 virus. \nIf you are not\, please use our zoom option to attend remotely. \nTo participate via zoom please call (646) 558-8656 or visit zoom.us/join and enter meeting ID 939 1518 8696. \nMeeting Opening \n\nPledge of Allegiance\nApproval of Orders\nApproval of Selectboard Minutes: September 14th\n\n  \nQuestions from the floor: Public Comment \n\nAny member of the public who is not already included on the agenda.\n\nDepartment Head Reports \n\nByron Hathaway – Town Road Commissioner\nBarbara Pulling – Town Planning Commission Chair\nKari Clark – Town Clerk & Treasurer\nEd Dumas – Town Police Chief\nChris Clark – Town Fire Chief\nMike Rowe – Town Recreation Director\nBill Sweet – Town Administrative Assistant\nJP Faignant – Town Health Officer\nCommittee Meeting Updates / Schedule Committee Meetings\nUpdate on Project List\n\nNew Business \n\nBoard to review for approval\, Certificate of Substantial Completion for the Randbury Road water project\nBoard to review for approval\, letter to VT AOT requesting reimbursement from grant funds\nBoard to review for discussion list of questions regarding the Health Officer from Selectman Chioffi\nBoard to review for approval\, contract with Department of Children and Families\nBoard to review for approval draft of letter to VTrans regarding speed limit changes\nBoard to review VLCT renewal packet for updates\nBoard to discuss tabled motion from September 14th\, Approving the CEDRR maintenance request.\nAny other new business\n\nOld Business \n\nBoard to discuss succession planning and storage of department records\nBoard to meet with representatives for the Diamond Run Mall property to discuss security options\nAny old business\n\n 
URL:https://www.rutlandtown.com/event/select-board-meeting-2021-07-20-2021-08-31-2021-09-28/
LOCATION:Town of Rutland Municipal Building\, 181Business Route 4\, Center Rutland\, VT\, 05736\, United States
CATEGORIES:Select Board
END:VEVENT
END:VCALENDAR