BEGIN:VCALENDAR
VERSION:2.0
PRODID:-//The Town of Rutland, Vermont - ECPv6.15.20//NONSGML v1.0//EN
CALSCALE:GREGORIAN
METHOD:PUBLISH
X-ORIGINAL-URL:https://www.rutlandtown.com
X-WR-CALDESC:Events for The Town of Rutland, Vermont
REFRESH-INTERVAL;VALUE=DURATION:PT1H
X-Robots-Tag:noindex
X-PUBLISHED-TTL:PT1H
BEGIN:VTIMEZONE
TZID:UTC
BEGIN:STANDARD
TZOFFSETFROM:+0000
TZOFFSETTO:+0000
TZNAME:UTC
DTSTART:20210101T000000
END:STANDARD
END:VTIMEZONE
BEGIN:VTIMEZONE
TZID:America/New_York
BEGIN:DAYLIGHT
TZOFFSETFROM:-0500
TZOFFSETTO:-0400
TZNAME:EDT
DTSTART:20210314T070000
END:DAYLIGHT
BEGIN:STANDARD
TZOFFSETFROM:-0400
TZOFFSETTO:-0500
TZNAME:EST
DTSTART:20211107T060000
END:STANDARD
BEGIN:DAYLIGHT
TZOFFSETFROM:-0500
TZOFFSETTO:-0400
TZNAME:EDT
DTSTART:20220313T070000
END:DAYLIGHT
BEGIN:STANDARD
TZOFFSETFROM:-0400
TZOFFSETTO:-0500
TZNAME:EST
DTSTART:20221106T060000
END:STANDARD
BEGIN:DAYLIGHT
TZOFFSETFROM:-0500
TZOFFSETTO:-0400
TZNAME:EDT
DTSTART:20230312T070000
END:DAYLIGHT
BEGIN:STANDARD
TZOFFSETFROM:-0400
TZOFFSETTO:-0500
TZNAME:EST
DTSTART:20231105T060000
END:STANDARD
END:VTIMEZONE
BEGIN:VEVENT
DTSTART;TZID=UTC:20221004T190000
DTEND;TZID=UTC:20221004T210000
DTSTAMP:20260424T044102
CREATED:20220920T180507Z
LAST-MODIFIED:20220920T180507Z
UID:10000666-1664910000-1664917200@www.rutlandtown.com
SUMMARY:Candidate Forum
DESCRIPTION:As a community service project\, the Wallingford Memorial Rotary Club will be sponsoring a Candidate Forum to allow voters to hear from candidates running for State Representative for Rutland-2\, the district representing Wallingford\, Clarendon\, West Rutland and parts of Rutland Town. The four candidates are Rep. Thomas Burditt\, Ken Fredette\, Rep. Arthur Peterson and David Potter. At this time we plan to hold the Forum in person at Wallingford Town Hall\, 75 School Street\, Wallingford\, on Tuesday\, October 4 from 7:00-9:00 PM. For the safety of our community\, mask wearing is encouraged. The Forum will also be recorded by PEG-TV for those who are unable to attend. Questions to the candidates must be submitted prior to the Forum via email (townadmin@wallingfordvt.com) or in person to Sandi Switzer at Town Hall. The deadline for submission of questions is 4:00 PM on Tuesday\, September 27\, one week ahead of the Forum. Similar questions will be combined\, and all questions will be asked of the candidates by the Moderator. If you have questions regarding the Forum\, please email Erika Berner at erikajb.rotary@gmail.com. \nErika Berner\, President\, Wallingford Memorial Rotary Club
URL:https://www.rutlandtown.com/event/candidate-forum/
LOCATION:VT\, United States
CATEGORIES:Community
END:VEVENT
BEGIN:VEVENT
DTSTART;TZID=UTC:20221006T183000
DTEND;TZID=UTC:20221006T200000
DTSTAMP:20260424T044102
CREATED:20210715T124556Z
LAST-MODIFIED:20221003T181017Z
UID:10000548-1665081000-1665086400@www.rutlandtown.com
SUMMARY:Planning Commission Meeting
DESCRIPTION:Planning Commission Agenda 10-6-2022 \nClick HERE to join the meeting remotely. \nTOWN OF RUTLAND PLANNING COMMISSION AGENDA \nThursday\, October 6\, 2022 \n  \nLocation: Rutland Town Municipal Town Hall and Zoom Conferencing \nOpen Meeting – 6:30 PM \nTo participate via zoom please call (646) 558-8656 or visit zoom.us/join and enter meeting ID 985 4127 6671. \nCall to Order/ Pledge of Allegiance  \nApproval of Agenda \nPublic Comment    \nNew Business \n\nNext Steps with Reformatted Subdivision ordinance\n\nCross reference sections of storm water ordinance\n\n\nOther\n\nOld Business \n\nUpdate on energy survey progress\nOther\n\nAnnouncements/News \n\nLetter project manager for Hawley Lane subdivision\n\nApproval of Minutes \n\nSeptember 15\, 2022\n\nAdjournment
URL:https://www.rutlandtown.com/event/town-of-rutland-planning-commission-meeting-2-2021-12-09-2022-01-27-2022-10-06/
LOCATION:Town of Rutland Municipal Building\, 181Business Route 4\, Center Rutland\, VT\, 05736\, United States
CATEGORIES:Planning Commission
END:VEVENT
BEGIN:VEVENT
DTSTART;TZID=UTC:20221007T090000
DTEND;TZID=UTC:20221007T100000
DTSTAMP:20260424T044102
CREATED:20221004T153555Z
LAST-MODIFIED:20221004T153555Z
UID:10000668-1665133200-1665136800@www.rutlandtown.com
SUMMARY:Highway Committee Meeting
DESCRIPTION:Highway Committee Agenda 10-7-2022 \nRUTLAND TOWN SELECTBOARD COMMITTEE MEETING \nHIGHWAY COMMITTEE  \nFriday October 7th\, 2022\, 9:00 AM \nLocation: Rutland Town Municipal Town Hall and Zoom Conferencing \nTo participate via zoom please call (646) 558-8656 \nor visit zoom.us/join and enter meeting ID 851 9094 1198. \nAgenda: \n\nSander for F350\nDiscuss ordinance revisions\nAny other business
URL:https://www.rutlandtown.com/event/highway-committee-meeting-6/
LOCATION:Town of Rutland Municipal Building\, 181Business Route 4\, Center Rutland\, VT\, 05736\, United States
CATEGORIES:Committee Meeting
END:VEVENT
BEGIN:VEVENT
DTSTART;VALUE=DATE:20221010
DTEND;VALUE=DATE:20221011
DTSTAMP:20260424T044102
CREATED:20220421T133006Z
LAST-MODIFIED:20220421T133006Z
UID:10000638-1665360000-1665446399@www.rutlandtown.com
SUMMARY:Indigenous People’s Day - Town Hall Closed
DESCRIPTION:
URL:https://www.rutlandtown.com/event/indigenous-peoples-day-town-hall-closed/
LOCATION:VT\, United States
CATEGORIES:Municipal Date
END:VEVENT
BEGIN:VEVENT
DTSTART;TZID=America/New_York:20221011T180000
DTEND;TZID=America/New_York:20221011T200000
DTSTAMP:20260424T044102
CREATED:20210628T161919Z
LAST-MODIFIED:20221006T173525Z
UID:10000356-1665511200-1665518400@www.rutlandtown.com
SUMMARY:Selectboard Meeting
DESCRIPTION:Selectboard Agenda 10-11-2022 \nClick HERE to join the meeting remotely. \nTOWN OF RUTLAND SELECTBOARD \nPUBLIC MEETING AGENDA FOR TUESDAY OCTOBER 11th\, 2022 \n Location: Rutland Town Municipal Town Hall and Zoom Conferencing \nOpen Meeting – 6:00 PM \n To participate via zoom please visit zoom.us/join or call (646) 558-8656 and enter meeting ID 939 1518 8696. \nMeeting Opening \n\nPledge of Allegiance\nApproval of Orders\nApproval of Selectboard Minutes:\n\nSeptember 27th\n\n\nAnnouncements\nQuestions from the floor; public comments\n\nDepartment Head Reports \n\nEd Dumas – Town Police Chief\nMike Delehanty – Town 1st Constable\nJohn Paul Faignant – Town Health Officer / Public Safety Building Clerk / 2nd Constable\nChris Clark – Town Fire Chief\nDave Sears – Town Road Commissioner\nKari Clark – Town Clerk & Treasurer\nMike Rowe – Town Recreation Director\nBarbara Pulling – Town Planning Commission Chair\nBill Sweet – Town Administrator\nCommittee Meeting Updates / Schedule Committee Meetings\n\nHighway Committee\n\n\nUpdate on Project List\n\nOld Business \n\nBoard to review for approval\, changes to the Permit Tracking Ordinance\nBoard to review the Credit Card Policy for changes and readoption.\nBoard to review the Social Service Appropriation Policy for any changes\nAny Old Business\n\nNew Business \n\nBoard to review proposed Fire Department Bylaw amendments\nBoard to discuss vendor permits received for October 22nd event\nBoard to review quotes received for public Wi-Fi infrastructure\nBoard to review for approval Certificate of Substantial Completion for Town Line Rd\nAny necessary Executive Sessions
URL:https://www.rutlandtown.com/event/select-board-meeting-2021-07-20-2021-08-31-2022-01-18-2022-10-11/
LOCATION:Town of Rutland Municipal Building\, 181Business Route 4\, Center Rutland\, VT\, 05736\, United States
CATEGORIES:Select Board
END:VEVENT
BEGIN:VEVENT
DTSTART;TZID=America/New_York:20221025T180000
DTEND;TZID=America/New_York:20221025T200000
DTSTAMP:20260424T044102
CREATED:20210628T161919Z
LAST-MODIFIED:20221020T151531Z
UID:10000357-1666720800-1666728000@www.rutlandtown.com
SUMMARY:Selectboard Meeting
DESCRIPTION:Selectboard Agenda 10-25-2022 \nClick HERE to join the meeting remotely. \nTOWN OF RUTLAND SELECTBOARD \nPUBLIC MEETING AGENDA FOR TUESDAY OCTOBER 25th\, 2022 \nLocation: Rutland Town Municipal Town Hall and Zoom Conferencing \nOpen Meeting – 6:00 PM \n  \nTo participate via zoom please visit zoom.us/join or call (646) 558-8656 and enter meeting ID 939 1518 8696. \nMeeting Opening \n\nPledge of Allegiance\nApproval of Orders\nApproval of Selectboard Minutes:\n\nOctober 11th\n\n\nAnnouncements\nQuestions from the floor; public comments\n\nDepartment Head Reports \n\nMike Rowe – Town Recreation Director\nEd Dumas – Town Police Chief\nMike Delehanty – Town 1st Constable\nJohn Paul Faignant – Town Health Officer / Public Safety Building Clerk / 2nd Constable\nChris Clark – Town Fire Chief\nDave Sears – Town Road Commissioner\nKari Clark – Town Clerk & Treasurer\nBarbara Pulling – Town Planning Commission Chair\nBill Sweet – Town Administrator\nCommittee Meeting Updates / Schedule Committee Meetings\nUpdate on Project List\n\nOld Business \n\nBoard to review for approval\, changes to the Permit Tracking Ordinance\nBoard to review the Credit Card Policy for changes and readoption.\nBoard to review the Social Service Appropriation Policy for any changes\nBoard to review for approval\, Certificate of Substantial Completion for Town Line Road\nAny other Old Business\n\nNew Business \n\nBoard to meet with Delinquent Tax Collector to discuss possible tax sales\nAny Other New Business\nAny necessary Executive Session
URL:https://www.rutlandtown.com/event/select-board-meeting-2021-07-20-2021-08-31-2022-01-18-2022-10-25/
LOCATION:Town of Rutland Municipal Building\, 181Business Route 4\, Center Rutland\, VT\, 05736\, United States
CATEGORIES:Select Board
END:VEVENT
BEGIN:VEVENT
DTSTART;TZID=UTC:20221027T183000
DTEND;TZID=UTC:20221027T200000
DTSTAMP:20260424T044102
CREATED:20210715T124556Z
LAST-MODIFIED:20221024T141547Z
UID:10000374-1666895400-1666900800@www.rutlandtown.com
SUMMARY:Planning Commission Meeting
DESCRIPTION:Planning Commission Agenda 10-27-2022 \nClick HERE to join the meeting remotely. \nTOWN OF RUTLAND PLANNING COMMISSION AGENDA \nThursday\, October 27\, 2022  \n  \nLocation: Rutland Town Municipal Town Hall and Zoom Conferencing  \nOpen Meeting – 6:30 PM  \nTo participate via zoom please call (646) 558-8656 or visit zoom.us/join and enter meeting ID 985 4127 6671.  \nCall to Order/ Pledge of Allegiance \nApproval of Agenda \nPublic Comment \nNew Business \n\nVote to readopt Rules of Procedure\n\nOld Business \n\nSubdivision ordinance revisions\nUpdate on Selectboard action on Permit Tracking Ordinance\nReport on Selectboard river corridor/flood hazard regulations discussion. Link to State river corridor website VT river corridors for more info.\nUpdate on energy survey\nBudget discussion\n\nAnnouncements/News \nApproval of Minutes \n\nOctober 6\, 2022\n\nAdjournment
URL:https://www.rutlandtown.com/event/town-of-rutland-planning-commission-meeting-2-2021-12-09-2022-01-27-2022-10-27/
LOCATION:Town of Rutland Municipal Building\, 181Business Route 4\, Center Rutland\, VT\, 05736\, United States
CATEGORIES:Planning Commission
END:VEVENT
BEGIN:VEVENT
DTSTART;TZID=UTC:20221028T170000
DTEND;TZID=UTC:20221028T183000
DTSTAMP:20260424T044102
CREATED:20220914T012243Z
LAST-MODIFIED:20220914T012243Z
UID:10000663-1666976400-1666981800@www.rutlandtown.com
SUMMARY:Rutland Town Rec Halloween Party
DESCRIPTION:
URL:https://www.rutlandtown.com/event/rutland-town-rec-halloween-party/
LOCATION:Rutland Town School\, 1612 Post Road\, Rutland\, VT\, 05701\, United States
CATEGORIES:Community
END:VEVENT
END:VCALENDAR