BEGIN:VCALENDAR
VERSION:2.0
PRODID:-//The Town of Rutland, Vermont - ECPv6.15.20//NONSGML v1.0//EN
CALSCALE:GREGORIAN
METHOD:PUBLISH
X-WR-CALNAME:The Town of Rutland, Vermont
X-ORIGINAL-URL:https://www.rutlandtown.com
X-WR-CALDESC:Events for The Town of Rutland, Vermont
REFRESH-INTERVAL;VALUE=DURATION:PT1H
X-Robots-Tag:noindex
X-PUBLISHED-TTL:PT1H
BEGIN:VTIMEZONE
TZID:UTC
BEGIN:STANDARD
TZOFFSETFROM:+0000
TZOFFSETTO:+0000
TZNAME:UTC
DTSTART:20210101T000000
END:STANDARD
END:VTIMEZONE
BEGIN:VTIMEZONE
TZID:America/New_York
BEGIN:DAYLIGHT
TZOFFSETFROM:-0500
TZOFFSETTO:-0400
TZNAME:EDT
DTSTART:20210314T070000
END:DAYLIGHT
BEGIN:STANDARD
TZOFFSETFROM:-0400
TZOFFSETTO:-0500
TZNAME:EST
DTSTART:20211107T060000
END:STANDARD
BEGIN:DAYLIGHT
TZOFFSETFROM:-0500
TZOFFSETTO:-0400
TZNAME:EDT
DTSTART:20220313T070000
END:DAYLIGHT
BEGIN:STANDARD
TZOFFSETFROM:-0400
TZOFFSETTO:-0500
TZNAME:EST
DTSTART:20221106T060000
END:STANDARD
BEGIN:DAYLIGHT
TZOFFSETFROM:-0500
TZOFFSETTO:-0400
TZNAME:EDT
DTSTART:20230312T070000
END:DAYLIGHT
BEGIN:STANDARD
TZOFFSETFROM:-0400
TZOFFSETTO:-0500
TZNAME:EST
DTSTART:20231105T060000
END:STANDARD
END:VTIMEZONE
BEGIN:VEVENT
DTSTART;TZID=UTC:20221205T153000
DTEND;TZID=UTC:20221205T163000
DTSTAMP:20260424T113104
CREATED:20221201T134139Z
LAST-MODIFIED:20221201T135032Z
UID:10000675-1670254200-1670257800@www.rutlandtown.com
SUMMARY:Planning Commission Committee Agenda
DESCRIPTION:Planning Commission Committee Agenda 12-5-2022 \nClick HERE to join the meeting remotely. \nTOWN OF RUTLAND PLANNING COMMISSION \nCOMMITTEE MEETING AGENDA \nMONDAY DECEMBER 5th\, 2022  \n  \nLocation: Rutland Town Municipal Town Hall and Zoom Conferencing  \nOpen Meeting – 3:30 PM  \n  \nTo participate via zoom please call (646) 558-8656 or visit zoom.us/join and enter meeting ID 985 4127 6671.  \n  \n  \nAgenda: \n  \n\nWork on revisions and updates to the Subdivision Ordinance.\nAny other business
URL:https://www.rutlandtown.com/event/planning-commission-committee-agenda/
LOCATION:Town of Rutland Municipal Building\, 181Business Route 4\, Center Rutland\, VT\, 05736\, United States
CATEGORIES:Committee Meeting,Planning Commission
END:VEVENT
BEGIN:VEVENT
DTSTART;TZID=America/New_York:20221206T180000
DTEND;TZID=America/New_York:20221206T200000
DTSTAMP:20260424T113104
CREATED:20210628T161919Z
LAST-MODIFIED:20221201T175029Z
UID:10000360-1670349600-1670356800@www.rutlandtown.com
SUMMARY:Selectboard Meeting
DESCRIPTION:Selectboard Agenda 12-6-2022 \nClick HERE to join the meeting remotely. \n TOWN OF RUTLAND SELECTBOARD \nPUBLIC MEETING AGENDA FOR TUESDAY DECEMBER 6th\, 2022 \n Location: Rutland Town Municipal Town Hall and Zoom Conferencing \nOpen Meeting – 6:00 PM \n  \nTo participate via zoom please visit zoom.us/join or call (646) 558-8656 and enter meeting ID 939 1518 8696. \nMeeting Opening \n\nPledge of Allegiance\nApproval of Orders\nApproval of Selectboard Minutes:\n\nNovember 22nd\nNovember 28th\n\n\nAnnouncements\nQuestions from the floor; public comments\n\nDepartment Head Reports \n\nKari Clark – Town Clerk & Treasurer\nMike Rowe – Town Recreation Director\nBarbara Pulling – Town Planning Commission Chair\nChris Clark – Town Fire Chief\nDave Sears – Town Road Commissioner\nEd Dumas – Town Police Chief\nMike Delehanty – Town 1st Constable\nJohn Paul Faignant – Town Health Officer / Public Safety Building Clerk / 2nd Constable\nBill Sweet – Town Administrator\nCommittee Meeting Updates / Schedule Committee Meetings\nUpdate on Project List\n\nOld Business \n\nBoard to review for approval\, changes to the Permit Tracking Ordinance\nAny Other Old Business\n\nNew Business \n\nBoard to meet with Andrew Simonds from A.M. Peisch to discuss the town audit\nBoard to meet with Gail Gantick from G&K Associates regarding appraisal updates\nBoard to review the Draft Streets and Sidewalks Ordinance\nTime permitting\, Board to discuss resuming budget work\nAny Other New Business\nAny necessary Executive Session
URL:https://www.rutlandtown.com/event/select-board-meeting-2021-07-20-2021-08-31-2022-01-18-2022-12-06/
LOCATION:Town of Rutland Municipal Building\, 181Business Route 4\, Center Rutland\, VT\, 05736\, United States
CATEGORIES:Select Board
END:VEVENT
BEGIN:VEVENT
DTSTART;TZID=UTC:20221208T183000
DTEND;TZID=UTC:20221208T200000
DTSTAMP:20260424T113104
CREATED:20210715T124556Z
LAST-MODIFIED:20221202T183759Z
UID:10000376-1670524200-1670529600@www.rutlandtown.com
SUMMARY:Planning Commission Meeting
DESCRIPTION:Planning Commission Agenda 12-8-2022 \nClick HERE to join the meeting remotely. \nTOWN OF RUTLAND PLANNING COMMISSION AGENDA \nThursday\, December 8\, 2022  \nLocation: Rutland Town Municipal Town Hall and Zoom Conferencing  \nOpen Meeting – 6:30 PM  \n  \nTo participate via zoom please call (646) 558-8656 or visit zoom.us/join and enter meeting ID 985 4127 6671.  \n  \nCall to Order/ Pledge of Allegiance \n  \nApproval of Agenda \n  \nPublic Comment \n  \nNew Business \n  \nOld Business \n\nUpdate on energy survey\nUpdate on Permit Tracking Ordinance & Form\nApproval of revised Rules of Procedure\nReview of Subdivision Ordinance committee work\n\n  \nAnnouncements/News \n  \nApproval of Minutes \n\nNovember 17\, 2022\n\n  \nAdjournment
URL:https://www.rutlandtown.com/event/town-of-rutland-planning-commission-meeting-2-2021-12-09-2022-01-27-2022-12-08/
LOCATION:Town of Rutland Municipal Building\, 181Business Route 4\, Center Rutland\, VT\, 05736\, United States
CATEGORIES:Planning Commission
END:VEVENT
BEGIN:VEVENT
DTSTART;TZID=UTC:20221209T093000
DTEND;TZID=UTC:20221209T103000
DTSTAMP:20260424T113104
CREATED:20221206T221357Z
LAST-MODIFIED:20221206T221415Z
UID:10000674-1670578200-1670581800@www.rutlandtown.com
SUMMARY:Highway Committee Meeting
DESCRIPTION:Highway Committee Agenda 12-9-2022 \nClick HERE to join via MS Teams \nRUTLAND TOWN SELECTBOARD COMMITTEE MEETING \nHIGHWAY COMMITTEE  \nFriday December 9th\, 2022\, 9:30 AM \nLocation: Rutland Town Municipal Town Hall and Microsoft Teams \n  \nTo participate via phone dial into (646) 902-9990 Meeting ID: 235 574 274 42 Passcode: XDwbdc \nTo participate via MS Teams go to https://tinyurl.com/mr2ckkcz \nAgenda: \n\nBudget planning for 2022 – 2023\nDiscuss ordinance revisions\nAny other business
URL:https://www.rutlandtown.com/event/highway-committee-meeting-8/
LOCATION:VT\, United States
CATEGORIES:Committee Meeting
END:VEVENT
BEGIN:VEVENT
DTSTART;TZID=UTC:20221212T093000
DTEND;TZID=UTC:20221212T103000
DTSTAMP:20260424T113104
CREATED:20221208T163501Z
LAST-MODIFIED:20221208T163501Z
UID:10000673-1670837400-1670841000@www.rutlandtown.com
SUMMARY:Police Committee Meeting
DESCRIPTION:Police Committee Agenda 12-12-2022 \nRUTLAND TOWN SELECTBOARD COMMITTEE MEETING \nPOLICE COMMITTEE  \nMonday December 12th\, 2022\, 9:30 AM \nLocation: Rutland Town Municipal Town Hall \n  \nAgenda: \n\nBudget planning for 2022 – 2023\nAny other business
URL:https://www.rutlandtown.com/event/police-committee-meeting-5/
LOCATION:Town of Rutland Municipal Building\, 181Business Route 4\, Center Rutland\, VT\, 05736\, United States
CATEGORIES:Committee Meeting
END:VEVENT
BEGIN:VEVENT
DTSTART;TZID=UTC:20221212T170000
DTEND;TZID=UTC:20221212T210000
DTSTAMP:20260424T113104
CREATED:20221202T185332Z
LAST-MODIFIED:20221208T163939Z
UID:10000676-1670864400-1670878800@www.rutlandtown.com
SUMMARY:Selectboard Budget Meeting
DESCRIPTION:Selectboard Budget Meeting Agenda 12-12-2022 \nClick HERE to join the meeting remotely. \nTOWN OF RUTLAND SELECTBOARD \nPUBLIC MEETING AGENDA FOR MONDAY DECEMBER 12th\, 2022 \nLocation: Rutland Town Municipal Town Hall and Zoom Conferencing \nOpen Meeting – 5:00 PM \n  \nTo participate via zoom please visit zoom.us/join or call (646) 558-8656 and enter meeting ID 939 1518 8696. \nMeeting Opening \n\nPledge of Allegiance\nAnnouncements\nQuestions from the floor; public comments\n\nNew Business \n\nBoard to discuss budgets for 2023 – 2024\nAny Other New Business\nAny necessary Executive Session
URL:https://www.rutlandtown.com/event/selectboard-budget-meeting-2/
LOCATION:Town of Rutland Municipal Building\, 181Business Route 4\, Center Rutland\, VT\, 05736\, United States
CATEGORIES:Select Board
END:VEVENT
BEGIN:VEVENT
DTSTART;TZID=UTC:20221219T153000
DTEND;TZID=UTC:20221219T170000
DTSTAMP:20260424T113104
CREATED:20221212T203123Z
LAST-MODIFIED:20221212T203203Z
UID:10000672-1671463800-1671469200@www.rutlandtown.com
SUMMARY:Planning Commission Committee Meeting
DESCRIPTION:Planning Commission Committee Agenda 12-19-2022 \nClick HERE to join the meeting remotely. \n  \nTOWN OF RUTLAND PLANNING COMMISSION \nCOMMITTEE MEETING AGENDA \nMONDAY DECEMBER 19th\, 2022  \nLocation: Rutland Town Municipal Town Hall and Zoom Conferencing  \nOpen Meeting – 3:30 PM  \nTo participate via zoom please call (646) 558-8656 or visit zoom.us/join and enter meeting ID 985 4127 6671.  \nAgenda: \n\nWork on revisions and updated to the Subdivision Ordinance.\nAny other business
URL:https://www.rutlandtown.com/event/planning-commission-committee-meeting/
LOCATION:Town of Rutland Municipal Building\, 181Business Route 4\, Center Rutland\, VT\, 05736\, United States
CATEGORIES:Committee Meeting,Planning Commission
END:VEVENT
BEGIN:VEVENT
DTSTART;TZID=America/New_York:20221220T180000
DTEND;TZID=America/New_York:20221220T200000
DTSTAMP:20260424T113104
CREATED:20210628T161919Z
LAST-MODIFIED:20221215T193240Z
UID:10000361-1671559200-1671566400@www.rutlandtown.com
SUMMARY:Selectboard Meeting
DESCRIPTION:Selectboard Agenda 12-20-2022 \nClick HERE to join the meeting remotely. \nTOWN OF RUTLAND SELECTBOARD \nPUBLIC MEETING AGENDA FOR TUESDAY DECEMBER 20th\, 2022 \n Location: Rutland Town Municipal Town Hall and Zoom Conferencing \nOpen Meeting – 6:00 PM \n To participate via zoom please visit zoom.us/join or call (646) 558-8656 and enter meeting ID 939 1518 8696. \nMeeting Opening \n\nPledge of Allegiance\nApproval of Orders\nApproval of Selectboard Minutes:\n\nDecember 6th\nDecember 12th\n\n\nAnnouncements\nQuestions from the floor; public comments\n\nDepartment Head Reports \n\nMike Rowe – Town Recreation Director\nChris Clark – Town Fire Chief\nDave Sears – Town Road Commissioner\nKari Clark – Town Clerk & Treasurer\nBarbara Pulling – Town Planning Commission Chair\nEd Dumas – Town Police Chief\nMike Delehanty – Town 1st Constable\nJohn Paul Faignant – Town Health Officer / Public Safety Building Clerk / 2nd Constable\nBill Sweet – Town Administrator\nCommittee Meeting Updates / Schedule Committee Meetings\nUpdate on Project List\n\nOld Business \n\nBoard to review for approval\, changes to the Permit Tracking Ordinance\nAny Other Old Business\n\nNew Business \n\nBoard to discuss setting January 23rd for Pre-Town Meeting\nBoard to discuss financing dispatch services\, a new police cruiser and a new highway truck\nAny Other New Business\nAny necessary Executive Session\n\n 
URL:https://www.rutlandtown.com/event/select-board-meeting-2021-07-20-2021-08-31-2022-01-18-2022-12-20/
LOCATION:Town of Rutland Municipal Building\, 181Business Route 4\, Center Rutland\, VT\, 05736\, United States
CATEGORIES:Select Board
END:VEVENT
BEGIN:VEVENT
DTSTART;VALUE=DATE:20221223
DTEND;VALUE=DATE:20221224
DTSTAMP:20260424T113104
CREATED:20220421T133405Z
LAST-MODIFIED:20220421T133405Z
UID:10000641-1671753600-1671839999@www.rutlandtown.com
SUMMARY:Christmas Holiday - Town Hall Closed
DESCRIPTION:
URL:https://www.rutlandtown.com/event/christmas-holiday-town-hall-closed/
LOCATION:VT\, United States
CATEGORIES:Municipal Date
END:VEVENT
BEGIN:VEVENT
DTSTART;VALUE=DATE:20221226
DTEND;VALUE=DATE:20221227
DTSTAMP:20260424T113104
CREATED:20220421T133434Z
LAST-MODIFIED:20220421T133434Z
UID:10000642-1672012800-1672099199@www.rutlandtown.com
SUMMARY:Christmas Holiday - Town Hall Closed
DESCRIPTION:
URL:https://www.rutlandtown.com/event/christmas-holiday-town-hall-closed-2/
LOCATION:VT\, United States
CATEGORIES:Municipal Date
END:VEVENT
END:VCALENDAR