BEGIN:VCALENDAR
VERSION:2.0
PRODID:-//The Town of Rutland, Vermont - ECPv6.15.20//NONSGML v1.0//EN
CALSCALE:GREGORIAN
METHOD:PUBLISH
X-WR-CALNAME:The Town of Rutland, Vermont
X-ORIGINAL-URL:https://www.rutlandtown.com
X-WR-CALDESC:Events for The Town of Rutland, Vermont
REFRESH-INTERVAL;VALUE=DURATION:PT1H
X-Robots-Tag:noindex
X-PUBLISHED-TTL:PT1H
BEGIN:VTIMEZONE
TZID:UTC
BEGIN:STANDARD
TZOFFSETFROM:+0000
TZOFFSETTO:+0000
TZNAME:UTC
DTSTART:20220101T000000
END:STANDARD
END:VTIMEZONE
BEGIN:VTIMEZONE
TZID:America/New_York
BEGIN:DAYLIGHT
TZOFFSETFROM:-0500
TZOFFSETTO:-0400
TZNAME:EDT
DTSTART:20220313T070000
END:DAYLIGHT
BEGIN:STANDARD
TZOFFSETFROM:-0400
TZOFFSETTO:-0500
TZNAME:EST
DTSTART:20221106T060000
END:STANDARD
BEGIN:DAYLIGHT
TZOFFSETFROM:-0500
TZOFFSETTO:-0400
TZNAME:EDT
DTSTART:20230312T070000
END:DAYLIGHT
BEGIN:STANDARD
TZOFFSETFROM:-0400
TZOFFSETTO:-0500
TZNAME:EST
DTSTART:20231105T060000
END:STANDARD
BEGIN:DAYLIGHT
TZOFFSETFROM:-0500
TZOFFSETTO:-0400
TZNAME:EDT
DTSTART:20240310T070000
END:DAYLIGHT
BEGIN:STANDARD
TZOFFSETFROM:-0400
TZOFFSETTO:-0500
TZNAME:EST
DTSTART:20241103T060000
END:STANDARD
END:VTIMEZONE
BEGIN:VEVENT
DTSTART;VALUE=DATE:20230102
DTEND;VALUE=DATE:20230103
DTSTAMP:20260424T130341
CREATED:20220421T133546Z
LAST-MODIFIED:20220421T133546Z
UID:10000643-1672617600-1672703999@www.rutlandtown.com
SUMMARY:New Years Holiday - Town Hall Closed
DESCRIPTION:
URL:https://www.rutlandtown.com/event/new-years-holiday-town-hall-closed/
LOCATION:VT\, United States
CATEGORIES:Municipal Date
END:VEVENT
BEGIN:VEVENT
DTSTART;TZID=America/New_York:20230103T180000
DTEND;TZID=America/New_York:20230103T200000
DTSTAMP:20260424T130341
CREATED:20210628T161919Z
LAST-MODIFIED:20221229T150140Z
UID:10000362-1672768800-1672776000@www.rutlandtown.com
SUMMARY:Selectboard Meeting
DESCRIPTION:Selectboard Agenda 1-3-2023 \nClick HERE to join the meeting remotely. \nTOWN OF RUTLAND SELECTBOARD \nPUBLIC MEETING AGENDA FOR TUESDAY JANUARY 3RD\, 2023 \n Location: Rutland Town Municipal Town Hall and Zoom Conferencing \nOpen Meeting – 5:00 PM \n  \nTo participate via zoom please visit zoom.us/join or call (646) 558-8656 and enter meeting ID 939 1518 8696. \nMeeting Opening \n\nPledge of Allegiance\nApproval of Orders\nApproval of Selectboard Minutes:\n\nDecember 20th\n\n\nAnnouncements\nQuestions from the floor; public comments\n\nDepartment Head Reports \n\nMike Rowe – Town Recreation Director\nChris Clark – Town Fire Chief\nDave Sears – Town Road Commissioner\nKari Clark – Town Clerk & Treasurer\nBarbara Pulling – Town Planning Commission Chair\nEd Dumas – Town Police Chief\nMike Delehanty – Town 1st Constable\nJohn Paul Faignant – Town Health Officer / Public Safety Building Clerk / 2nd Constable\nBill Sweet – Town Administrator\nCommittee Meeting Updates / Schedule Committee Meetings\nUpdate on Project List\n\nOld Business \n\nBoard to review for approval\, changes to the Permit Tracking Ordinance\nAny Other Old Business\n\nNew Business \n\nBoard to meet in executive session with the Town Attorney (5PM – 6PM)\nBoard to review for approval\, draft contract with NBF Architects\nBoard to review for approval\, permit applications relating to Public Safety Building\nBoard to review for approval\, water\, and sewer connection permits for the Eco Car Wash\nBoard to meet with Ken Watson\, the new Rutland Free Library Town Representative\nAny Other New Business\nAny necessary Executive Session
URL:https://www.rutlandtown.com/event/select-board-meeting-2021-07-20-2021-08-31-2022-01-18-2023-01-03/
LOCATION:Town of Rutland Municipal Building\, 181Business Route 4\, Center Rutland\, VT\, 05736\, United States
CATEGORIES:Select Board
END:VEVENT
BEGIN:VEVENT
DTSTART;TZID=UTC:20230105T183000
DTEND;TZID=UTC:20230105T200000
DTSTAMP:20260424T130341
CREATED:20210715T124556Z
LAST-MODIFIED:20221229T151022Z
UID:10000377-1672943400-1672948800@www.rutlandtown.com
SUMMARY:Planning Commission Meeting
DESCRIPTION:Planning Commission Agenda 1-5-2023 \nClick HERE to join the meeting remotely. \nTOWN OF RUTLAND PLANNING COMMISSION AGENDA \nThursday\, January 5\, 2023  \nLocation: Rutland Town Municipal Town Hall and Zoom Conferencing  \nOpen Meeting – 6:30 PM  \n To participate via zoom please call (646) 558-8656 or visit zoom.us/join and enter meeting ID 985 4127 6671.  \n  \n  \nCall to Order/ Pledge of Allegiance \n  \nApproval of Agenda \n  \nPublic Comment \n  \nNew Business \n\nReview of Howard Smith subdivision\, Route 4 East\nVLCT advice on current Streets and Sidewalks Ordinance\n\nOld Business \n\nSubdivision Ordinance committee work update\nRules of Procedure update\nPocket Park update\n\nAnnouncements/News \nApproval of Minutes \n\nDecember 8\, 2022\n\nAdjournment
URL:https://www.rutlandtown.com/event/town-of-rutland-planning-commission-meeting-2-2021-12-09-2022-01-27-2023-01-19/
LOCATION:Town of Rutland Municipal Building\, 181Business Route 4\, Center Rutland\, VT\, 05736\, United States
CATEGORIES:Planning Commission
END:VEVENT
BEGIN:VEVENT
DTSTART;VALUE=DATE:20230110
DTEND;VALUE=DATE:20230111
DTSTAMP:20260424T130341
CREATED:20220729T145844Z
LAST-MODIFIED:20220729T150747Z
UID:10000657-1673308800-1673395199@www.rutlandtown.com
SUMMARY:2nd Tax Installment Due
DESCRIPTION:The second installment of taxes are due by close of business on January 10th. \nPayments may be mailed\, delivered to our office\, placed in the drop box next to our front door or made online by going HERE. \nThe drop box is checked at the end of the business day. \nWe do accept postmarks with official USPS postmarks only. We are not responsible for late\, misdirected or incorrectly addressed mail. \nIf you have a question on any previous balance due please contact the office. Notices of prior balances due ARE NOT sent out. \nIf the due date falls on a weekend taxes shall be due by close of business on the next business day.
URL:https://www.rutlandtown.com/event/2nd-installment-of-taxes-due-date/2023-01-10/
LOCATION:VT\, United States
CATEGORIES:Municipal Date
END:VEVENT
BEGIN:VEVENT
DTSTART;TZID=UTC:20230111T090000
DTEND;TZID=UTC:20230111T100000
DTSTAMP:20260424T130341
CREATED:20230104T190258Z
LAST-MODIFIED:20230104T190258Z
UID:10000691-1673427600-1673431200@www.rutlandtown.com
SUMMARY:Personnel Committe Meeting
DESCRIPTION:Personnel Committee Agenda 1-11-2022 \nRUTLAND TOWN SELECTBOARD COMMITTEE MEETING \nPERSONNEL COMMITTEE  \nWednesday January 11th\, 9:00 AM \nLocation: Rutland Town Municipal Town Hall and Zoom Conferencing \nTo participate via zoom please call (646) 558-8656 \nor visit zoom.us/join and enter meeting ID 851 9094 1198. \nAgenda: \n\nCommittee to meet with the Delinquent Tax Collector to discuss the transition in this position with his pending resignation.\nAny other business
URL:https://www.rutlandtown.com/event/personnel-committe-meeting/
LOCATION:Town of Rutland Municipal Building\, 181Business Route 4\, Center Rutland\, VT\, 05736\, United States
CATEGORIES:Committee Meeting
END:VEVENT
BEGIN:VEVENT
DTSTART;TZID=UTC:20230111T130000
DTEND;TZID=UTC:20230111T140000
DTSTAMP:20260424T130341
CREATED:20230104T190437Z
LAST-MODIFIED:20230104T190437Z
UID:10000692-1673442000-1673445600@www.rutlandtown.com
SUMMARY:Personnel Committee Meeting
DESCRIPTION:Personnel Committee Agenda 1-11-2022 \nRUTLAND TOWN SELECTBOARD COMMITTEE MEETING \nPERSONNEL COMMITTEE  \nWednesday January 11th\, 1:00 PM \nLocation: Rutland Town Municipal Town Hall and Zoom Conferencing \nTo participate via zoom please call (646) 558-8656 \nor visit zoom.us/join and enter meeting ID 851 9094 1198. \n Agenda: \n\nCommittee to meet with Town Listers to discuss the transition with a retirement.\nAny other business
URL:https://www.rutlandtown.com/event/personnel-committee-meeting-3/
LOCATION:Town of Rutland Municipal Building\, 181Business Route 4\, Center Rutland\, VT\, 05736\, United States
CATEGORIES:Committee Meeting
END:VEVENT
BEGIN:VEVENT
DTSTART;TZID=America/New_York:20230117T180000
DTEND;TZID=America/New_York:20230117T200000
DTSTAMP:20260424T130341
CREATED:20210628T161919Z
LAST-MODIFIED:20230112T145730Z
UID:10000363-1673978400-1673985600@www.rutlandtown.com
SUMMARY:Selectboard Meeting
DESCRIPTION:Selectboard Agenda 1-17-2023 \nClick HERE to join the meeting remotely. \nTOWN OF RUTLAND SELECTBOARD \nPUBLIC MEETING AGENDA FOR TUESDAY JANUARY 17th\, 2023 \n  \nLocation: Rutland Town Municipal Town Hall and Zoom Conferencing \nOpen Meeting – 6:00 PM \n  \nTo participate via zoom please visit zoom.us/join or call (646) 558-8656 and enter meeting ID 939 1518 8696. \nMeeting Opening \n\nPledge of Allegiance\nApproval of Orders\nApproval of Selectboard Minutes:\n\nDecember 20th\nJanuary 3rd\n\n\nAnnouncements\nQuestions from the floor; public comments\n\nDepartment Head Reports \n\nBarbara Pulling – Town Planning Commission Chair\nMike Delehanty – Town 1st Constable\nJohn Paul Faignant – Town Health Officer / Public Safety Building Clerk / 2nd Constable\nMike Rowe – Town Recreation Director\nChris Clark – Town Fire Chief\nDave Sears – Town Road Commissioner\nKari Clark – Town Clerk & Treasurer\nEd Dumas – Town Police Chief\nBill Sweet – Town Administrator\nCommittee Meeting Updates / Schedule Committee Meetings\n\nPersonnel Committee\n\n\nUpdate on Project List\n\nOld Business \n\nBoard to review for approval\, changes to the Permit Tracking Ordinance\nBoard to discuss the future of the Delinquent Tax Collector position\nAny Other Old Business\n\nNew Business \n\nBoard to review for approval\, Certificate of Highway Mileage\nBoard to review for approval\, Draft policy on Signs on Town Owned Land\nBoard to discuss language for proposed ballot items\nAny Other New Business\nAny necessary Executive Session\n\n 
URL:https://www.rutlandtown.com/event/select-board-meeting-2021-07-20-2021-08-31-2022-01-18-2023-01-17/
LOCATION:Town of Rutland Municipal Building\, 181Business Route 4\, Center Rutland\, VT\, 05736\, United States
CATEGORIES:Select Board
END:VEVENT
BEGIN:VEVENT
DTSTART;TZID=UTC:20230123T180000
DTEND;TZID=UTC:20230123T210000
DTSTAMP:20260424T130341
CREATED:20221221T133756Z
LAST-MODIFIED:20230118T135841Z
UID:10000690-1674496800-1674507600@www.rutlandtown.com
SUMMARY:Pre-Town Meeting Information
DESCRIPTION:Pre Town Meeting Agenda 1-23-2023 \nTown budgets 2023-2024 DRAFT \nPresentations will be in the cafeteria. \nThe School Board will present the school budget first at 6PM. \nThe Selectboard will present the Municipal budget following their presentation. \n  \nTOWN OF RUTLAND SELECTBOARD \nPUBLIC MEETING AGENDA FOR MONDAY JANUARY 23rd\, 2023 \n Location: Rutland Town School\, 1612 Post Road\, Rutland VT 05701 \nOpen Meeting – Immediately following budget / ballot questions item presentations. \nNew Business \n\nBoard to vote on any budget item changes proposed during presentations.\nBoard to vote on ballot item questions discussed during presentations.\nAny other business.
URL:https://www.rutlandtown.com/event/pre-town-meeting-2/
LOCATION:Rutland Town School\, 1612 Post Road\, Rutland\, VT\, 05701\, United States
CATEGORIES:Community,Municipal Date,Select Board
END:VEVENT
BEGIN:VEVENT
DTSTART;TZID=UTC:20230126T183000
DTEND;TZID=UTC:20230126T200000
DTSTAMP:20260424T130341
CREATED:20210715T124556Z
LAST-MODIFIED:20230123T142104Z
UID:10000378-1674757800-1674763200@www.rutlandtown.com
SUMMARY:Planning Commission Meeting
DESCRIPTION:Planning Commission Agenda 1-26-2023 \nClick HERE to join the meeting remotely. \nTOWN OF RUTLAND PLANNING COMMISSION AGENDA \nThursday\, January 26\, 2023  \nLocation: Rutland Town Municipal Town Hall and Zoom Conferencing  \nOpen Meeting – 6:30 PM  \n  \nTo participate via zoom please call (646) 558-8656 or visit zoom.us/join and enter meeting ID 985 4127 6671.  \n  \nCall to Order/ Pledge of Allegiance \n  \nPublic Hearing  \n\nHoward Smith Subdivision Route 4 East \n\nApproval of Agenda \n  \nPublic Comment \n  \nNew Business \n\nHoward Smith Subdivision Decision\nConversation with Kyle Medash\, DEC Floodplain Manager\, on river corridors\n\nOld Business \n\nVLCT advice on current Streets and Sidewalks Ordinance\nSubdivision Ordinance committee work update\nRules of Procedure update\nPocket Park update\n\nAnnouncements/News \n  \nApproval of Minutes \n\nJanuary 5th\, 2023\n\nAdjournment
URL:https://www.rutlandtown.com/event/town-of-rutland-planning-commission-meeting-2-2021-12-09-2022-01-27-2023-01-19-2023-01-26/
LOCATION:Town of Rutland Municipal Building\, 181Business Route 4\, Center Rutland\, VT\, 05736\, United States
CATEGORIES:Planning Commission
END:VEVENT
BEGIN:VEVENT
DTSTART;TZID=UTC:20230130T080000
DTEND;TZID=UTC:20230130T170000
DTSTAMP:20260424T130341
CREATED:20230130T142738Z
LAST-MODIFIED:20230130T142738Z
UID:10000693-1675065600-1675098000@www.rutlandtown.com
SUMMARY:Energy Committee Meeting
DESCRIPTION:Energy Committee Agenda 2-7-2023 \nRUTLAND TOWN SELECTBOARD / PLANNING COMMISSION COMMITTEE MEETING \nENERGY COMMITTEE  \nTuesday February 7th\, 9:00 AM \nLocation: Rutland Town Municipal Town Hall and Zoom Conferencing \n  \nTo participate via zoom please call (646) 558-8656 \nor visit zoom.us/join and enter meeting ID 851 9094 1198. \n  \nAgenda: \n\nReview of the Energy Survey Results\nReview the Municipal Energy Resilience Program\nAny other business
URL:https://www.rutlandtown.com/event/energy-committee-meeting-3/
LOCATION:VT\, United States
CATEGORIES:Committee Meeting
END:VEVENT
BEGIN:VEVENT
DTSTART;TZID=America/New_York:20230131T180000
DTEND;TZID=America/New_York:20230131T200000
DTSTAMP:20260424T130341
CREATED:20210628T161919Z
LAST-MODIFIED:20230126T174642Z
UID:10000536-1675188000-1675195200@www.rutlandtown.com
SUMMARY:Selectboard Meeting
DESCRIPTION:Selectboard Agenda 1-31-2023 \nClick HERE to join the meeting remotely. \nTOWN OF RUTLAND SELECTBOARD \nPUBLIC MEETING AGENDA FOR TUESDAY JANUARY 31st\, 2023 \n Location: Rutland Town Municipal Town Hall and Zoom Conferencing \nOpen Meeting – 6:00 PM \n To participate via zoom please visit zoom.us/join or call (646) 558-8656 and enter meeting ID 939 1518 8696. \nMeeting Opening \n\nPledge of Allegiance\nApproval of Orders\nApproval of Selectboard Minutes:\n\nJanuary 17th\nJanuary 23rd\n\n\nAnnouncements\nQuestions from the floor; public comments\n\nDepartment Head Reports \n\nDave Sears – Town Road Commissioner\nMike Rowe – Town Recreation Director\nChris Clark – Town Fire Chief\nBarbara Pulling – Town Planning Commission Chair\nMike Delehanty – Town 1st Constable\nJohn Paul Faignant – Town Health Officer / Public Safety Building Clerk / 2nd Constable\nKari Clark – Town Clerk & Treasurer\nEd Dumas – Town Police Chief\nBill Sweet – Town Administrator\nCommittee Meeting Updates / Schedule Committee Meetings\nUpdate on Project List\n\nOld Business \n\nBoard to review for approval\, changes to the Permit Tracking Ordinance\nBoard to review for approval\, Draft policy on Signs on Town Owned Land\nAny Other Old Business\n\nNew Business \n\nBoard to review for approval 2 proposals from CAI Technologies\nBoard to discuss insurance coverage request from Fire District #6\nAny Other New Business\nAny necessary Executive Session
URL:https://www.rutlandtown.com/event/select-board-meeting-2021-07-20-2021-08-31-2022-01-18-2023-01-31/
LOCATION:Town of Rutland Municipal Building\, 181Business Route 4\, Center Rutland\, VT\, 05736\, United States
CATEGORIES:Select Board
END:VEVENT
END:VCALENDAR