BEGIN:VCALENDAR
VERSION:2.0
PRODID:-//The Town of Rutland, Vermont - ECPv6.15.20//NONSGML v1.0//EN
CALSCALE:GREGORIAN
METHOD:PUBLISH
X-WR-CALNAME:The Town of Rutland, Vermont
X-ORIGINAL-URL:https://www.rutlandtown.com
X-WR-CALDESC:Events for The Town of Rutland, Vermont
REFRESH-INTERVAL;VALUE=DURATION:PT1H
X-Robots-Tag:noindex
X-PUBLISHED-TTL:PT1H
BEGIN:VTIMEZONE
TZID:America/New_York
BEGIN:DAYLIGHT
TZOFFSETFROM:-0500
TZOFFSETTO:-0400
TZNAME:EDT
DTSTART:20220313T070000
END:DAYLIGHT
BEGIN:STANDARD
TZOFFSETFROM:-0400
TZOFFSETTO:-0500
TZNAME:EST
DTSTART:20221106T060000
END:STANDARD
BEGIN:DAYLIGHT
TZOFFSETFROM:-0500
TZOFFSETTO:-0400
TZNAME:EDT
DTSTART:20230312T070000
END:DAYLIGHT
BEGIN:STANDARD
TZOFFSETFROM:-0400
TZOFFSETTO:-0500
TZNAME:EST
DTSTART:20231105T060000
END:STANDARD
BEGIN:DAYLIGHT
TZOFFSETFROM:-0500
TZOFFSETTO:-0400
TZNAME:EDT
DTSTART:20240310T070000
END:DAYLIGHT
BEGIN:STANDARD
TZOFFSETFROM:-0400
TZOFFSETTO:-0500
TZNAME:EST
DTSTART:20241103T060000
END:STANDARD
END:VTIMEZONE
BEGIN:VTIMEZONE
TZID:UTC
BEGIN:STANDARD
TZOFFSETFROM:+0000
TZOFFSETTO:+0000
TZNAME:UTC
DTSTART:20220101T000000
END:STANDARD
END:VTIMEZONE
BEGIN:VEVENT
DTSTART;TZID=America/New_York:20230131T180000
DTEND;TZID=America/New_York:20230131T200000
DTSTAMP:20260424T220848
CREATED:20210628T161919Z
LAST-MODIFIED:20230126T174642Z
UID:10000536-1675188000-1675195200@www.rutlandtown.com
SUMMARY:Selectboard Meeting
DESCRIPTION:Selectboard Agenda 1-31-2023 \nClick HERE to join the meeting remotely. \nTOWN OF RUTLAND SELECTBOARD \nPUBLIC MEETING AGENDA FOR TUESDAY JANUARY 31st\, 2023 \n Location: Rutland Town Municipal Town Hall and Zoom Conferencing \nOpen Meeting – 6:00 PM \n To participate via zoom please visit zoom.us/join or call (646) 558-8656 and enter meeting ID 939 1518 8696. \nMeeting Opening \n\nPledge of Allegiance\nApproval of Orders\nApproval of Selectboard Minutes:\n\nJanuary 17th\nJanuary 23rd\n\n\nAnnouncements\nQuestions from the floor; public comments\n\nDepartment Head Reports \n\nDave Sears – Town Road Commissioner\nMike Rowe – Town Recreation Director\nChris Clark – Town Fire Chief\nBarbara Pulling – Town Planning Commission Chair\nMike Delehanty – Town 1st Constable\nJohn Paul Faignant – Town Health Officer / Public Safety Building Clerk / 2nd Constable\nKari Clark – Town Clerk & Treasurer\nEd Dumas – Town Police Chief\nBill Sweet – Town Administrator\nCommittee Meeting Updates / Schedule Committee Meetings\nUpdate on Project List\n\nOld Business \n\nBoard to review for approval\, changes to the Permit Tracking Ordinance\nBoard to review for approval\, Draft policy on Signs on Town Owned Land\nAny Other Old Business\n\nNew Business \n\nBoard to review for approval 2 proposals from CAI Technologies\nBoard to discuss insurance coverage request from Fire District #6\nAny Other New Business\nAny necessary Executive Session
URL:https://www.rutlandtown.com/event/select-board-meeting-2021-07-20-2021-08-31-2022-01-18-2023-01-31/
LOCATION:Town of Rutland Municipal Building\, 181Business Route 4\, Center Rutland\, VT\, 05736\, United States
CATEGORIES:Select Board
END:VEVENT
BEGIN:VEVENT
DTSTART;TZID=UTC:20230213T090000
DTEND;TZID=UTC:20230213T100000
DTSTAMP:20260424T220848
CREATED:20230208T180226Z
LAST-MODIFIED:20230208T180529Z
UID:10000694-1676278800-1676282400@www.rutlandtown.com
SUMMARY:Highway Committee Meeting
DESCRIPTION:Highway Committee Agenda 2-13-2023 \nRUTLAND TOWN SELECTBOARD COMMITTEE MEETING \nHIGHWAY COMMITTEE \nMonday February 13th\, 9AM \nLocation: Rutland Town Municipal Town Hall and Zoom Conferencing \n  \nTo participate via zoom please call (646) 558-8656 \nor visit zoom.us/join and enter meeting ID 851 9094 1198. \n  \n  \nAgenda: \n\nSpring / Sumer Project Planning\nReview of applicable policies / ordinances for updates\nAny other business
URL:https://www.rutlandtown.com/event/highway-committee-meeting-9/
LOCATION:VT\, United States
CATEGORIES:Committee Meeting
END:VEVENT
BEGIN:VEVENT
DTSTART;TZID=UTC:20230214T163000
DTEND;TZID=UTC:20230214T180000
DTSTAMP:20260424T220848
CREATED:20230210T153730Z
LAST-MODIFIED:20230210T153730Z
UID:10000696-1676392200-1676397600@www.rutlandtown.com
SUMMARY:Special Selectboard Meeting
DESCRIPTION:Special Selectboard Meeting Agenda 2-14-2023 \n TOWN OF RUTLAND SELECTBOARD \n SPECIAL MEETING AGENDA FOR TUESDAY FEBRUARY 14th\, 2023 \n Location: Rutland Town Municipal Town Hall \nOpen Meeting – 4:30 PM \n  \nNew Business \n\nBoard to meet in executive session to discuss bids for the Public Safety Building
URL:https://www.rutlandtown.com/event/special-selectboard-meeting-7/
LOCATION:Town of Rutland Municipal Building\, 181Business Route 4\, Center Rutland\, VT\, 05736\, United States
CATEGORIES:Select Board
END:VEVENT
BEGIN:VEVENT
DTSTART;TZID=America/New_York:20230214T180000
DTEND;TZID=America/New_York:20230214T200000
DTSTAMP:20260424T220848
CREATED:20210628T161919Z
LAST-MODIFIED:20230209T185950Z
UID:10000528-1676397600-1676404800@www.rutlandtown.com
SUMMARY:Selectboard Meeting
DESCRIPTION:Selectboard Agenda 2-14-2023 \nClick HERE to join the meeting remotely. \nTOWN OF RUTLAND SELECTBOARD \nPUBLIC MEETING AGENDA FOR TUESDAY FEBRUARY 14th\, 2023 \nLocation: Rutland Town Municipal Town Hall and Zoom Conferencing \nOpen Meeting – 6:00 PM \nTo participate via zoom please visit zoom.us/join or call (646) 558-8656 and enter meeting ID 939 1518 8696. \nMeeting Opening \n\nPledge of Allegiance\nApproval of Orders\nApproval of Selectboard Minutes:\n\nJanuary 31st\n\n\nAnnouncements\nQuestions from the floor; public comments\n\nDepartment Head Reports \n\nDave Sears – Town Road Commissioner\nMike Rowe – Town Recreation Director\nChris Clark – Town Fire Chief\nMarcia Chioffi – Town Lister\nBarbara Pulling – Town Planning Commission Chair\nMike Delehanty – Town 1st Constable\nJohn Paul Faignant – Town Health Officer / Public Safety Building Clerk / 2nd Constable\nKari Clark – Town Clerk & Treasurer\nEd Dumas – Town Police Chief\nBill Sweet – Town Administrator\nCommittee Meeting Updates / Schedule Committee Meetings\n\nEnergy Committee\nHighway Committee\n\n\nUpdate on Project List\n\nOld Business \n\nBoard to review for approval proposal from CAI Technologies for online lister cards\nAny Old Business\n\nNew Business \n\nBoard to meet with Carol Driscoll from the Carving Studio\nBoard to review the Municipal Impact Questionnaire from Killington Heights\nBoard to discuss establishing a Town Ordinance on Short Term Rentals\nBoard to review for approval\, Grand List Signature Page\nBoard to review bids received for Public Safety Building\nAny Other New Business\nAny necessary Executive Session
URL:https://www.rutlandtown.com/event/select-board-meeting-2021-07-20-2021-08-31-2022-01-18-2023-02-14/
LOCATION:Town of Rutland Municipal Building\, 181Business Route 4\, Center Rutland\, VT\, 05736\, United States
CATEGORIES:Select Board
END:VEVENT
BEGIN:VEVENT
DTSTART;TZID=UTC:20230216T183000
DTEND;TZID=UTC:20230216T200000
DTSTAMP:20260424T220848
CREATED:20210715T124556Z
LAST-MODIFIED:20230210T155556Z
UID:10000379-1676572200-1676577600@www.rutlandtown.com
SUMMARY:Planning Commission Meeting
DESCRIPTION:Planning Commission Agenda 2-16-2023 \nClick HERE to join the meeting remotely. \nTOWN OF RUTLAND PLANNING COMMISSION AGENDA \nThursday\, February 16th\, 2023  \nLocation: Rutland Town Municipal Town Hall and Zoom Conferencing  \nOpen Meeting – 6:30 PM  \n  \nTo participate via zoom please call (646) 558-8656 or visit zoom.us/join and enter meeting ID 985 4127 6671.  \n Call to Order/ Pledge of Allegiance  \n  \nApproval of Agenda \n  \nPublic Comment    \n  \nNew Business \n\nRevisit Permit Tracking Ordinance\nDiscuss possible new ordinances: Short Term Rentals and Cannabis Sales ordinance/Commission\n\n  \nOld Business \n\nReview final draft of Subdivision Ordinance\nPocket Park update\n\n  \nAnnouncements/News \n  \nApproval of Minutes \n\nJanuary 26\, 2023\n\n  \nAdjournment
URL:https://www.rutlandtown.com/event/town-of-rutland-planning-commission-meeting-2-2021-12-09-2022-01-27-2023-01-19-2023-02-16/
LOCATION:Town of Rutland Municipal Building\, 181Business Route 4\, Center Rutland\, VT\, 05736\, United States
CATEGORIES:Planning Commission
END:VEVENT
BEGIN:VEVENT
DTSTART;VALUE=DATE:20230220
DTEND;VALUE=DATE:20230221
DTSTAMP:20260424T220848
CREATED:20230208T180427Z
LAST-MODIFIED:20230208T180427Z
UID:10000695-1676851200-1676937599@www.rutlandtown.com
SUMMARY:Town Hall Closed
DESCRIPTION:Town Hall will be closed in observance of Presidents Day.
URL:https://www.rutlandtown.com/event/town-hall-closed-10/
LOCATION:VT\, United States
CATEGORIES:Community,Municipal Date
END:VEVENT
BEGIN:VEVENT
DTSTART;TZID=UTC:20230228T170000
DTEND;TZID=UTC:20230228T180000
DTSTAMP:20260424T220848
CREATED:20230223T175600Z
LAST-MODIFIED:20230223T175600Z
UID:10000688-1677603600-1677607200@www.rutlandtown.com
SUMMARY:Special Select Board Meeting
DESCRIPTION:Special Select Board Agenda 2-28-2023 \nTOWN OF RUTLAND SELECTBOARD \nSPECIAL MEETING AGENDA FOR TUESDAY FEBRUARY 28th\, 2023 \nLocation: Rutland Town Municipal Town Hall \nOpen Meeting – 5:00 PM \nNew Business \nBoard to meet in executive session for contract negotiations with the Fire Chiefs
URL:https://www.rutlandtown.com/event/special-select-board-meeting-2/
LOCATION:Town of Rutland Municipal Building\, 181Business Route 4\, Center Rutland\, VT\, 05736\, United States
CATEGORIES:Select Board
END:VEVENT
BEGIN:VEVENT
DTSTART;TZID=America/New_York:20230228T180000
DTEND;TZID=America/New_York:20230228T200000
DTSTAMP:20260424T220848
CREATED:20210628T161919Z
LAST-MODIFIED:20230223T175707Z
UID:10000530-1677607200-1677614400@www.rutlandtown.com
SUMMARY:Select Board Meeting
DESCRIPTION:Select Board Agenda 2-28-2023 \nTOWN OF RUTLAND SELECTBOARD \nPUBLIC MEETING AGENDA FOR TUESDAY FEBRUARY 28th\, 2023 \n  \nLocation: Rutland Town Municipal Town Hall and Zoom Conferencing \nOpen Meeting – 6:00 PM \n  \nTo participate via zoom please visit zoom.us/join or call (646) 558-8656 and enter meeting ID 939 1518 8696. \nMeeting Opening \n\nPledge of Allegiance\nApproval of Orders\nApproval of Selectboard Minutes:\n\nFebruary 14th\n\n\nAnnouncements\nQuestions from the floor; public comments\n\nDepartment Head Reports \n\nDave Sears – Town Road Commissioner\nMike Rowe – Town Recreation Director\nChris Clark – Town Fire Chief\nMarcia Chioffi – Town Lister\nBarbara Pulling – Town Planning Commission Chair\nMike Delehanty – Town 1st Constable\nJohn Paul Faignant – Town Health Officer / Public Safety Building Clerk / 2nd Constable\nKari Clark – Town Clerk & Treasurer\nEd Dumas – Town Police Chief\nBill Sweet – Town Administrator\nCommittee Meeting Updates / Schedule Committee Meetings\nUpdate on Project List\n\nOld Business \n\nAny Old Business\n\nNew Business \n\nBoard to Review for Approval\, Town Road and Bridge Standards\nBoard to appoint town representatives to SWAC\nAny Other New Business\nAny necessary Executive Session
URL:https://www.rutlandtown.com/event/select-board-meeting-2021-07-20-2021-08-31-2022-01-18-2023-02-28/
LOCATION:Town of Rutland Municipal Building\, 181Business Route 4\, Center Rutland\, VT\, 05736\, United States
CATEGORIES:Select Board
END:VEVENT
END:VCALENDAR