BEGIN:VCALENDAR
VERSION:2.0
PRODID:-//The Town of Rutland, Vermont - ECPv6.15.20//NONSGML v1.0//EN
CALSCALE:GREGORIAN
METHOD:PUBLISH
X-WR-CALNAME:The Town of Rutland, Vermont
X-ORIGINAL-URL:https://www.rutlandtown.com
X-WR-CALDESC:Events for The Town of Rutland, Vermont
REFRESH-INTERVAL;VALUE=DURATION:PT1H
X-Robots-Tag:noindex
X-PUBLISHED-TTL:PT1H
BEGIN:VTIMEZONE
TZID:UTC
BEGIN:STANDARD
TZOFFSETFROM:+0000
TZOFFSETTO:+0000
TZNAME:UTC
DTSTART:20220101T000000
END:STANDARD
END:VTIMEZONE
BEGIN:VTIMEZONE
TZID:America/New_York
BEGIN:DAYLIGHT
TZOFFSETFROM:-0500
TZOFFSETTO:-0400
TZNAME:EDT
DTSTART:20220313T070000
END:DAYLIGHT
BEGIN:STANDARD
TZOFFSETFROM:-0400
TZOFFSETTO:-0500
TZNAME:EST
DTSTART:20221106T060000
END:STANDARD
BEGIN:DAYLIGHT
TZOFFSETFROM:-0500
TZOFFSETTO:-0400
TZNAME:EDT
DTSTART:20230312T070000
END:DAYLIGHT
BEGIN:STANDARD
TZOFFSETFROM:-0400
TZOFFSETTO:-0500
TZNAME:EST
DTSTART:20231105T060000
END:STANDARD
BEGIN:DAYLIGHT
TZOFFSETFROM:-0500
TZOFFSETTO:-0400
TZNAME:EDT
DTSTART:20240310T070000
END:DAYLIGHT
BEGIN:STANDARD
TZOFFSETFROM:-0400
TZOFFSETTO:-0500
TZNAME:EST
DTSTART:20241103T060000
END:STANDARD
END:VTIMEZONE
BEGIN:VEVENT
DTSTART;TZID=UTC:20230601T183000
DTEND;TZID=UTC:20230601T200000
DTSTAMP:20260426T002755
CREATED:20210715T124556Z
LAST-MODIFIED:20230525T141134Z
UID:10000549-1685644200-1685649600@www.rutlandtown.com
SUMMARY:Planning Commission Meeting
DESCRIPTION:Planning Commission Agenda 6-1-2023 \nClick HERE to join the meeting remotely. \nTOWN OF RUTLAND PLANNING COMMISSION AGENDA \nThursday\, June 1\, 2023  \nLocation: Rutland Town Municipal Town Hall and Zoom Conferencing  \nOpen Meeting – 6:30 PM  \n To participate via zoom please call (646) 558-8656 or visit zoom.us/join and enter meeting ID 985 4127 6671.  \nCall to Order/ Pledge of Allegiance \nApproval of Agenda \nPublic Comment on Draft Short Term Rentals Ordinance \nOther Public Comment \nNew Business \n\nReview of subdivision application – David & Bonnie Cluxton\, 349 Killington Avenue\n\nOld Business \n\nReview revised draft Short Term Rentals Ordinance (with town attorney additions)\nReview comments from public on draft Short Term Rentals ordinance\nTown Administrator report on recent Act 250 applications and Select Board actions\n\nAnnouncements/News \nApproval of Minutes \n\nMay 11\, 2023\n\nAdjournment
URL:https://www.rutlandtown.com/event/town-of-rutland-planning-commission-meeting-2-2021-12-09-2022-01-27-2023-01-19-2023-06-01/
LOCATION:Town of Rutland Municipal Building\, 181Business Route 4\, Center Rutland\, VT\, 05736\, United States
CATEGORIES:Planning Commission
END:VEVENT
BEGIN:VEVENT
DTSTART;TZID=UTC:20230606T170000
DTEND;TZID=UTC:20230606T190000
DTSTAMP:20260426T002755
CREATED:20230531T143735Z
LAST-MODIFIED:20230531T143735Z
UID:10000705-1686070800-1686078000@www.rutlandtown.com
SUMMARY:Pool Pass and Swim Lesson Sign-ups
DESCRIPTION:
URL:https://www.rutlandtown.com/event/pool-pass-and-swim-lesson-sign-ups-2/2023-06-06/
LOCATION:Northwood Park\, 185 Northwood Park Road\, Rutland\, 05701
CATEGORIES:Community,Municipal Date
END:VEVENT
BEGIN:VEVENT
DTSTART;TZID=America/New_York:20230606T180000
DTEND;TZID=America/New_York:20230606T200000
DTSTAMP:20260426T002755
CREATED:20210628T161919Z
LAST-MODIFIED:20230601T134133Z
UID:10000457-1686074400-1686081600@www.rutlandtown.com
SUMMARY:Select Board Meeting
DESCRIPTION:Click HERE to join the meeting remotely. \nTOWN OF RUTLAND SELECT BOARD \nPUBLIC MEETING AGENDA FOR TUESDAY JUNE 6th\, 2023 \nLocation: Rutland Town Municipal Town Hall and Zoom Conferencing \nOpen Meeting – 6:00 PM \nTo participate via zoom please visit zoom.us/join or call (646) 558-8656 and enter meeting ID 939 1518 8696. \nMeeting Opening \n\nPledge of Allegiance\nApproval of Select Board Minutes:\n\nMay 22nd\n\n\nBoard Member Announcements\nUpdate from the Select Board Chair\nQuestions from the floor; public comments\n\nDepartment Head Reports \n\nMike Rowe – Town Recreation Director\nDave Sears – Town Road Commissioner\nMarcia Chioffi – Town Head Lister\nChris Clark – Town Fire Chief\nKari Clark – Town Clerk & Treasurer\nMike Delehanty – Town 1st Constable\nEd Dumas – Town Police Chief\nJohn Paul Faignant – Town Health Officer / Public Safety Building Clerk / 2nd Constable\nBarbara Pulling – Town Planning Commission Chair\nBill Sweet – Town Administrator\n\nCommittee / Project List Updates \n\nCommittee Meeting Reports\n\nPublic Safety Building\nBuilding / Technology\n\n\nUpdate on Select Board Project List\n\nAction Needed \n\nBoard to meet with Evan Detrick from VHB regarding the service road project at 615PM.\nBoard to hold hearing on vicious dog complaint at 7PM.\nBoard to open bids for the Town owned parcel of land offered for sale\nBoard to vote on accepting MERP Grant funds\nBoard to make annual appointments as needed\nBoard to meet in Executive Session with the Town Attorney 730PM.\nAny Other New Items
URL:https://www.rutlandtown.com/event/select-board-meeting-2021-07-20-2021-08-31-2022-01-18-2022-05-24-2023-06-06/
LOCATION:Town of Rutland Municipal Building\, 181Business Route 4\, Center Rutland\, VT\, 05736\, United States
CATEGORIES:Select Board
END:VEVENT
BEGIN:VEVENT
DTSTART;TZID=UTC:20230607T170000
DTEND;TZID=UTC:20230607T190000
DTSTAMP:20260426T002755
CREATED:20230531T143735Z
LAST-MODIFIED:20230531T143735Z
UID:10000706-1686157200-1686164400@www.rutlandtown.com
SUMMARY:Pool Pass and Swim Lesson Sign-ups
DESCRIPTION:
URL:https://www.rutlandtown.com/event/pool-pass-and-swim-lesson-sign-ups-2/2023-06-07/
LOCATION:Northwood Park\, 185 Northwood Park Road\, Rutland\, 05701
CATEGORIES:Community,Municipal Date
END:VEVENT
BEGIN:VEVENT
DTSTART;TZID=America/New_York:20230620T170000
DTEND;TZID=America/New_York:20230620T200000
DTSTAMP:20260426T002755
CREATED:20210628T161919Z
LAST-MODIFIED:20230615T163424Z
UID:10000458-1687280400-1687291200@www.rutlandtown.com
SUMMARY:Select Board Meeting and Short-Term Rental Ordinance Hearing
DESCRIPTION:The regular Select Board meeting will begin at 5PM. \nA public hearing on the draft Short-Term Rental Ordinance will begin at 6PM and go no later than 7PM. \nInformation on the short-term rental ordinance can be found here. \nClick HERE to join the meeting remotely. \nSelect Board Agenda 6-20-2023 \nTOWN OF RUTLAND SELECT BOARD \nPUBLIC MEETING AGENDA FOR TUESDAY JUNE 20th\, 2023 \n Location: Rutland Town Municipal Town Hall and Zoom Conferencing \nOpen Meeting – 5:00 PM \n To participate via zoom please visit zoom.us/join or call (646) 558-8656 and enter meeting ID 939 1518 8696. \nMeeting Opening \n\nPledge of Allegiance\nApproval of Select Board Minutes:\n\nJune 6th\n\n\nBoard Member Announcements\nUpdate from the Select Board Chair\nQuestions from the floor; public comments\n\nDepartment Head Reports \n\nBarbara Pulling – Town Planning Commission Chair\nMike Rowe – Town Recreation Director\nDave Sears – Town Road Commissioner\nMarcia Chioffi – Town Head Lister\nChris Clark – Town Fire Chief\nKari Clark – Town Clerk & Treasurer\nMike Delehanty – Town 1st Constable\nEd Dumas – Town Police Chief\nJohn Paul Faignant – Town Health Officer / Public Safety Building Clerk / 2nd Constable\nBill Sweet – Town Administrator\n\nCommittee / Project List Updates \n\nCommittee Meeting Reports\nUpdate on Select Board Project List\n\nAction Needed \n\nBoard to hold a public hearing on the proposed Short-Term Rental Ordinance at 6PM.\nBoard to discuss bids received for town owned land offered for sale\nBoard to meet with Andres Torizzo from Watershed Consulting to discuss MS4 topics\nBoard to discuss the update to the Town Local Emergency Management Plan\nBoard to discuss Northwood Park Town and School property\nBoard to discuss hiring a Human Resources Consultant\nBoard to review for approval Public Safety Building Contracts\nBoard to hold a deliberative session on the vicious dog complaint\nBoard to hold any necessary executive sessions\nAny Other New Items\n\n 
URL:https://www.rutlandtown.com/event/select-board-meeting-2021-07-20-2021-08-31-2022-01-18-2022-05-24-2023-06-20/
LOCATION:Town of Rutland Municipal Building\, 181Business Route 4\, Center Rutland\, VT\, 05736\, United States
CATEGORIES:Select Board
END:VEVENT
BEGIN:VEVENT
DTSTART;TZID=UTC:20230622T183000
DTEND;TZID=UTC:20230622T200000
DTSTAMP:20260426T002755
CREATED:20210715T124556Z
LAST-MODIFIED:20230324T175715Z
UID:10000383-1687458600-1687464000@www.rutlandtown.com
SUMMARY:Planning Commission Meeting
DESCRIPTION:The agenda will be published once it is finalized.
URL:https://www.rutlandtown.com/event/town-of-rutland-planning-commission-meeting-2-2021-12-09-2022-01-27-2023-01-19-2023-04-20/2023-06-22/
LOCATION:Town of Rutland Municipal Building\, 181Business Route 4\, Center Rutland\, VT\, 05736\, United States
CATEGORIES:Planning Commission
END:VEVENT
END:VCALENDAR