BEGIN:VCALENDAR
VERSION:2.0
PRODID:-//The Town of Rutland, Vermont - ECPv6.15.20//NONSGML v1.0//EN
CALSCALE:GREGORIAN
METHOD:PUBLISH
X-ORIGINAL-URL:https://www.rutlandtown.com
X-WR-CALDESC:Events for The Town of Rutland, Vermont
REFRESH-INTERVAL;VALUE=DURATION:PT1H
X-Robots-Tag:noindex
X-PUBLISHED-TTL:PT1H
BEGIN:VTIMEZONE
TZID:UTC
BEGIN:STANDARD
TZOFFSETFROM:+0000
TZOFFSETTO:+0000
TZNAME:UTC
DTSTART:20230101T000000
END:STANDARD
END:VTIMEZONE
BEGIN:VEVENT
DTSTART;TZID=UTC:20241003T183000
DTEND;TZID=UTC:20241003T200000
DTSTAMP:20260424T200244
CREATED:20240913T150846Z
LAST-MODIFIED:20241001T130942Z
UID:10000923-1727980200-1727985600@www.rutlandtown.com
SUMMARY:Planning Commission Meeting
DESCRIPTION:Click HERE to join the meeting remotely. \nPlanning Commission Agenda 10-3-2024 \nTOWN OF RUTLAND PLANNING COMMISSION AGENDA \nThursday\, October 3\, 2024  \nLocation: Rutland Town Municipal Town Hall and Zoom Conferencing  \nOpen Meeting – 6:30 PM   \nTo participate via zoom please call (646) 558-8656 or visit zoom.us/join and enter meeting ID 985 4127 6671.  \nCall to Order/ Pledge of Allegiance \nApproval of Agenda \nPublic Comment \nNew Business \n\nTed and Theo Hubbard subdivision hearing\, Cold River Road\nDiamond Run Mall development plans\nRutland Town School land disturbance permit application\n\nOld Business \n\nSB guidance on Act 181\nReview two drafts of Subdivision ordinance\n\nAnnouncements \nMinutes \nSeptember 12\, 2024 \nAdjournment \nHubbard Sub Division Notice 10-3-2024 \n TOWN OF RUTLAND PLANNING COMMISSION \nSUBDIVISION NOTICE \nNotice is hereby given by the Town of Rutland Planning Commission of a public hearing on a final two lot subdivision application by Ted and Theo Hubbard to be held on October 3rd\, 2024\, at 6:30 P.M. at the Rutland Town Municipal Town Hall \nThe applicant has proposed to subdivide a 190 + or – acre parcel of land into two parcels: \nLot 1:       188 + or – acres. \nLot 2:       2.0 + or – acres. \n  \nThe applicant has requested the following full waiver requests pursuant to Section 185 of the Town Subdivision regulations: \n  \n\n\n\nPart ( 1 )\nPart ( 7 )\nPart ( 11 )\nPart ( 15 )\nPart ( 16 )\n\n\n\n  \n\n\n\nPart ( 17 )\nPart ( 18 )\nPart ( 20 )\nPart ( 21 )\nPart ( 23 )\nPart ( 24 )\n\n\n\n  \nThe land is located in the Town of Rutland off Cold River Road. The land is bounded to the North by the lands of Fucci. The land is bounded to the West by the lands of Hubbard\, Isovolta and PLH Vineyard Sky LLC. The land is bounded to the South by the lands of Buck Family Trust\, Buck and Cohen\, Theodor Hubbard Jr\, Timothy and Bonnie Hubbard\, and Norton. The land is bounded to the East by the lands of The State of Vermont \nThe complete Ted and Theo Hubbard subdivision application is available at the Town Municipal Building in Center Rutland\, Vt. with Bill Sweet\, Town Administrator\, 802-773-2528. \nParticipation at the local final subdivision hearing scheduled for October 3rd\, 2024\, at 6:30 P.M. is a prerequisite to the right to take any subsequent appeal. To participate in the meeting please attend in person at the Municipal Town Hall or visit zoom.us/join or call (646) 558-8656 and enter meeting ID 985-4127-6671. \nBarbara Noyes Pulling\, Chairperson \nRutland Town Planning Commission \n 
URL:https://www.rutlandtown.com/event/town-of-rutland-planning-commission-meeting-2-2021-12-09-2022-01-27-2023-01-19-2023-04-20-9-15/
LOCATION:Town of Rutland Municipal Building\, 181Business Route 4\, Center Rutland\, VT\, 05736\, United States
CATEGORIES:Planning Commission
END:VEVENT
BEGIN:VEVENT
DTSTART;TZID=UTC:20241008T170000
DTEND;TZID=UTC:20241008T180000
DTSTAMP:20260424T200244
CREATED:20241002T185904Z
LAST-MODIFIED:20241002T185904Z
UID:10001385-1728406800-1728410400@www.rutlandtown.com
SUMMARY:Rec Committee Meeting
DESCRIPTION:Rec Committee Agenda 10-8-2024 \nRUTLAND TOWN SELECT BOARD COMMITTEE MEETING \nRECREATION COMMITTEE  \nTuesday October 8th \, 5:00PM \nLocation: Rutland Town Municipal Town Hall and Zoom Conferencing \nTo join via zoom call (646) 558-8656 or visit zoom.us/join and enter meeting ID 851 9094 1198. \nAgenda: \n\nDewey field turf replacement\nHalloween Party\nUpcoming budget items\nRec Facebook Page\nAny other business\n\n 
URL:https://www.rutlandtown.com/event/rec-committee-meeting-7/
LOCATION:Town of Rutland Municipal Building\, 181Business Route 4\, Center Rutland\, VT\, 05736\, United States
CATEGORIES:Committee Meeting
END:VEVENT
BEGIN:VEVENT
DTSTART;TZID=UTC:20241008T180000
DTEND;TZID=UTC:20241008T210000
DTSTAMP:20260424T200244
CREATED:20241003T152316Z
LAST-MODIFIED:20241003T152316Z
UID:10001252-1728410400-1728421200@www.rutlandtown.com
SUMMARY:Select Board Meeting
DESCRIPTION:Click HERE to join the meeting remotely. \nSelectboard Agenda 10-8-2024 \nTOWN OF RUTLAND SELECT BOARD \nPUBLIC MEETING AGENDA FOR TUESDAY OCTOBER 8th\, 2024 \nLocation: Municipal Town Hall and Zoom Conferencing \nMeeting Time – 6:00 PM \n  \nTo participate via zoom please visit zoom.us/join or call (646) 558-8656 and enter meeting ID 939 1518 8696. \nMeeting Opening \n\nOpen Meeting to begin at 6:00PM\nPledge of Allegiance\nApproval of Select Board Minutes:\n\nSeptember 27th\n\n\nBoard Member Announcements\nUpdate from the Select Board Chair\nQuestions from the floor; public comments\n\nDepartment Head Reports \n\nMike Rowe – Town Recreation Director\nDave Sears – Town Road Commissioner\nMarcia Chioffi – Town Head Lister\nChris Clark – Town Fire Chief\nKari Clark – Town Clerk & Treasurer\nMike Delehanty – Town 1st Constable\nEd Dumas – Town Police Chief\nJohn Paul Faignant – Town Health Officer / Public Safety Building Clerk / 2nd Constable\nBarbara Pulling – Town Planning Commission Chair\nLarry Dell Veneri – Town Transfer Station Manager\nBill Sweet – Town Administrator\n\nCommittee / Project List Updates \n\nCommittee Meeting Reports\n\nFinance Committee\nHighway Committee\n\n\nUpdate on Select Board Project List\n\nAction items \n\nBoard to meet with Logan Solomon of the RRPC to discuss the Regional Plan\nBoard to discuss Act 250 revisions and village center designation\nBoard to review balance of the capital improvement and Cortina settlement fund balances\nBoard to discuss schedule for budget planning meetings\nReview of meeting with Green Mountain Power and the Pocket Park\nAny Other New Items\nBoard to meet in executive session.
URL:https://www.rutlandtown.com/event/select-board-meeting-2-3/
LOCATION:Town of Rutland Municipal Building\, 181Business Route 4\, Center Rutland\, VT\, 05736\, United States
CATEGORIES:Select Board
END:VEVENT
BEGIN:VEVENT
DTSTART;VALUE=DATE:20241014
DTEND;VALUE=DATE:20241015
DTSTAMP:20260424T200244
CREATED:20230925T125537Z
LAST-MODIFIED:20230925T125537Z
UID:10000875-1728864000-1728950399@www.rutlandtown.com
SUMMARY:Town Hall Closed
DESCRIPTION:Town Hall will be closed in observance of Indigenous Peoples Day.
URL:https://www.rutlandtown.com/event/town-hall-closed-14/2024-10-14/
LOCATION:Town of Rutland Municipal Building\, 181Business Route 4\, Center Rutland\, VT\, 05736\, United States
CATEGORIES:Municipal Date
END:VEVENT
BEGIN:VEVENT
DTSTART;TZID=UTC:20241022T180000
DTEND;TZID=UTC:20241022T210000
DTSTAMP:20260424T200244
CREATED:20241018T143551Z
LAST-MODIFIED:20241018T143551Z
UID:10001253-1729620000-1729630800@www.rutlandtown.com
SUMMARY:Select Board Meeting
DESCRIPTION:Click HERE to join the meeting remotely. \nSelectboard Agenda 10-22-2024 \nTOWN OF RUTLAND SELECTBOARD \nPUBLIC MEETING AGENDA FOR TUESDAY OCTOBER 22nd\, 2024 \nLocation: Municipal Town Hall and Zoom Conferencing \nMeeting Time – 6:00 PM \n To participate via zoom please visit zoom.us/join or call (646) 558-8656 and enter meeting ID 939 1518 8696. \nMeeting Opening \n\nOpen Meeting to begin at 6:00PM\nPledge of Allegiance\nApproval of Selectboard Minutes:\n\nOctober 8th\n\n\nBoard Member Announcements\nUpdate from the Selectboard Chair\nQuestions from the floor; public comments\n\nDepartment Head Reports \n\nEd Dumas – Town Police Chief\nMike Rowe – Town Recreation Director\nDave Sears – Town Road Commissioner\nLarry Dell Veneri – Town Transfer Station Manager\nMarcia Chioffi – Town Head Lister\nChris Clark – Town Fire Chief\nKari Clark – Town Clerk & Treasurer\nMike Delehanty – Town 1st Constable\nJohn Paul Faignant – Town Health Officer / Public Safety Building Clerk / 2nd Constable\nBarbara Pulling – Town Planning Commission Chair\nBill Sweet – Town Administrator\n\nCommittee / Project List Updates \n\nCommittee Meeting Reports\nUpdate on Select Board Project List\n\nAction items \n\nBoard to meet with members from the RRPC regarding the LHMP update\nBoard to discuss dates for per-town meeting.\nBoard to discuss Act 250 revisions and village center designation\nDog complaint hearing canceled\, the complaint was withdrawn\nAny Other New Items\nBoard to meet in executive session.\n\nUpcoming Board meetings – Nov 4th\, Nov 19th\, Dec 3rd\, Dec 10th (Budget)\, Dec 17th\, Dec 31st
URL:https://www.rutlandtown.com/event/select-board-meeting-2-4/
LOCATION:Town of Rutland Municipal Building\, 181Business Route 4\, Center Rutland\, VT\, 05736\, United States
CATEGORIES:Select Board
END:VEVENT
BEGIN:VEVENT
DTSTART;TZID=UTC:20241024T160000
DTEND;TZID=UTC:20241024T173000
DTSTAMP:20260424T200244
CREATED:20241009T181757Z
LAST-MODIFIED:20241009T181757Z
UID:10001387-1729785600-1729791000@www.rutlandtown.com
SUMMARY:Personnel Committee Meeting
DESCRIPTION:Personnel Committee Agenda 10-24-2024 \nRUTLAND TOWN SELECT BOARD COMMITTEE MEETING \nPERSONNEL COMMITTEE  \nThursday\, October 24th\, 4:00PM \nLocation: Rutland Town Municipal Town Hall and Zoom Conferencing \nTo join via zoom call (646) 558-8656 or visit zoom.us/join and enter meeting ID 851 9094 1198. \nAgenda: \n\nWork to finalize the updates to the Personnel Policy\n\n\nAny other business
URL:https://www.rutlandtown.com/event/personnel-committee-meeting-17/
LOCATION:Town of Rutland Municipal Building\, 181Business Route 4\, Center Rutland\, VT\, 05736\, United States
CATEGORIES:Committee Meeting
END:VEVENT
BEGIN:VEVENT
DTSTART;TZID=UTC:20241024T183000
DTEND;TZID=UTC:20241024T200000
DTSTAMP:20260424T200244
CREATED:20241021T135448Z
LAST-MODIFIED:20241021T135448Z
UID:10000924-1729794600-1729800000@www.rutlandtown.com
SUMMARY:Planning Commission Meeting
DESCRIPTION:Click HERE to join the meeting remotely. \nPlanning Commission Agenda 10-24-2024 \nTOWN OF RUTLAND PLANNING COMMISSION AGENDA \nThursday\, October 24th\, 2024  \nLocation: Rutland Town Municipal Town Hall and Zoom Conferencing  \nOpen Meeting – 6:30 PM   \nTo participate via zoom please call (646) 558-8656 or visit zoom.us/join and enter meeting ID 985 4127 6671.  \nCall to Order/ Pledge of Allegiance \nApproval of Agenda \nPublic Comment \nNew Business \n\nScott & Nancy Goodrich subdivision (one lot to two)\, Easy St. and Post Road\n\nOld Business \n\nReview latest additions to Subdivision ordinance\nUpdate on Act 181\nReview river corridor ordinance\n\nAnnouncements \nMinutes \nOctober 3rd\, 2024 \nAdjournment
URL:https://www.rutlandtown.com/event/town-of-rutland-planning-commission-meeting-2-2021-12-09-2022-01-27-2023-01-19-2023-04-20-9-16/
LOCATION:Town of Rutland Municipal Building\, 181Business Route 4\, Center Rutland\, VT\, 05736\, United States
CATEGORIES:Planning Commission
END:VEVENT
BEGIN:VEVENT
DTSTART;TZID=UTC:20241025T163000
DTEND;TZID=UTC:20241025T180000
DTSTAMP:20260424T200244
CREATED:20240918T185915Z
LAST-MODIFIED:20240918T185915Z
UID:10001383-1729873800-1729879200@www.rutlandtown.com
SUMMARY:RT Rec Halloween Party
DESCRIPTION:
URL:https://www.rutlandtown.com/event/rt-rec-halloween-party/
LOCATION:Rutland Town School\, 1612 Post Road\, Rutland\, VT\, 05701\, United States
CATEGORIES:Community
END:VEVENT
END:VCALENDAR