BEGIN:VCALENDAR
VERSION:2.0
PRODID:-//The Town of Rutland, Vermont - ECPv6.15.20//NONSGML v1.0//EN
CALSCALE:GREGORIAN
METHOD:PUBLISH
X-WR-CALNAME:The Town of Rutland, Vermont
X-ORIGINAL-URL:https://www.rutlandtown.com
X-WR-CALDESC:Events for The Town of Rutland, Vermont
REFRESH-INTERVAL;VALUE=DURATION:PT1H
X-Robots-Tag:noindex
X-PUBLISHED-TTL:PT1H
BEGIN:VTIMEZONE
TZID:UTC
BEGIN:STANDARD
TZOFFSETFROM:+0000
TZOFFSETTO:+0000
TZNAME:UTC
DTSTART:20230101T000000
END:STANDARD
END:VTIMEZONE
BEGIN:VEVENT
DTSTART;TZID=UTC:20241203T180000
DTEND;TZID=UTC:20241203T210000
DTSTAMP:20260424T130337
CREATED:20241126T202901Z
LAST-MODIFIED:20241126T202901Z
UID:10001256-1733248800-1733259600@www.rutlandtown.com
SUMMARY:Selectboard Meeting
DESCRIPTION:Selectboard Agenda 12-3-2024 \nTOWN OF RUTLAND SELECTBOARD MEETING NOTICE AND AGENDA \nMUNICIPAL TOWN HALL AND ZOOM CONFERENCING \n6:00 PM Tuesday\, December 3rd\, 2024 \nTo participate via zoom please visit zoom.us/join or call (646) 558-8656 and enter meeting ID 939 1518 8696. \nMeeting Opening \n\nPledge of Allegiance\nApproval of Selectboard Minutes:\n\nNovember 19th\n\n\nBoard Member Announcements\nUpdate from the Selectboard Chair\nQuestions from the floor; public comments\n\nDepartment Head Reports \n\nEd Dumas – Town Police Chief\nMike Rowe – Town Recreation Director\nDave Sears – Town Road Commissioner\nMike Delehanty – Town 1st Constable\nJohn Paul Faignant – Town Health Officer / Public Safety Building Clerk / 2nd Constable\nBarbara Pulling – Town Planning Commission Chair\nLarry Dell Veneri – Town Transfer Station Manager\nMarcia Chioffi – Town Head Lister\nChris Clark – Town Fire Chief\nKari Clark – Town Clerk & Treasurer\nBill Sweet – Town Administrator\n\nAction items \n\nDiscuss dates for pre-town meeting\nAny Other New Items\nUpdate on committee meetings\, budget planning\, and the Selectboard project list.\nMeet in executive session\n\n 
URL:https://www.rutlandtown.com/event/select-board-meeting-2-7/
LOCATION:Town of Rutland Municipal Building\, 181Business Route 4\, Center Rutland\, VT\, 05736\, United States
CATEGORIES:Select Board
END:VEVENT
BEGIN:VEVENT
DTSTART;TZID=UTC:20241205T183000
DTEND;TZID=UTC:20241205T200000
DTSTAMP:20260424T130337
CREATED:20241202T152925Z
LAST-MODIFIED:20241202T152925Z
UID:10000926-1733423400-1733428800@www.rutlandtown.com
SUMMARY:Planning Commission Meeting
DESCRIPTION:Click HERE to join the meeting remotely. \nPlanning Commission Agenda 12-5-2024 \nTOWN OF RUTLAND PLANNING COMMISSION AGENDA \nThursday\, December 5th\, 2024  \nLocation: Rutland Town Municipal Town Hall and Zoom Conferencing  \nOpen Meeting – 6:30 PM   \nTo participate via zoom please call (646) 558-8656 or visit zoom.us/join and enter meeting ID 985 4127 6671.  \nCall to Order/ Pledge of Allegiance \nApproval of Agenda \nPublic Comment \nOld Business \n\nPocket Park grant pre-application update\nRiver corridor ordinance – questions for Kyle Medash\n\nAnnouncements \nMinutes \nNovember 14\, 2024 \nAdjournment
URL:https://www.rutlandtown.com/event/town-of-rutland-planning-commission-meeting-2-2021-12-09-2022-01-27-2023-01-19-2023-04-20-9-18/
LOCATION:Town of Rutland Municipal Building\, 181Business Route 4\, Center Rutland\, VT\, 05736\, United States
CATEGORIES:Planning Commission
END:VEVENT
BEGIN:VEVENT
DTSTART;TZID=UTC:20241210T173000
DTEND;TZID=UTC:20241210T210000
DTSTAMP:20260424T130337
CREATED:20241204T194539Z
LAST-MODIFIED:20241204T194539Z
UID:10001402-1733851800-1733864400@www.rutlandtown.com
SUMMARY:Selectboard Budget Meeting Agenda
DESCRIPTION:Selectboard Budget Meeting Agenda 12-10-2024 \nTOWN OF RUTLAND SELECTBOARD \nMEETING NOTICE AND AGENDA \nMUNICIPAL TOWN HALL AND ZOOM CONFERENCING \n5:30 PM Tuesday\, December 10th\, 2024 \nTo participate via zoom please visit zoom.us/join or call (646) 558-8656 and enter meeting ID 939 1518 8696. \nMeeting Opening  \n\nPledge of Allegiance\nBoard Member Announcements\nUpdate from the Selectboard Chair\nQuestions from the floor; public comments\n\nAction items \n\nMeet with Department heads to finalize their budgets\n\n530PM Recreation – Mike Rowe\n600PM Fire – Chris Clark\n630PM Highway – Dave Sears\n700PM Police – Ed Dumas\n\n\nReview the general budget\nAny other new items\nMeet in executive session
URL:https://www.rutlandtown.com/event/selectboard-budget-meeting-agenda/
LOCATION:Town of Rutland Municipal Building\, 181Business Route 4\, Center Rutland\, VT\, 05736\, United States
CATEGORIES:Select Board
END:VEVENT
BEGIN:VEVENT
DTSTART;TZID=UTC:20241213T100000
DTEND;TZID=UTC:20241213T120000
DTSTAMP:20260424T130337
CREATED:20241211T130028Z
LAST-MODIFIED:20241211T130028Z
UID:10001404-1734084000-1734091200@www.rutlandtown.com
SUMMARY:Highway Committee Meeting
DESCRIPTION:Highway Committee Agenda 12-13-2024 \nRUTLAND TOWN SELECTBOARD COMMITTEE MEETING \nHIGHWAY COMMITTEE  \nFriday\, December 13th\, 1000AM \nLocation: Rutland Town Municipal Town Hall and Zoom Conferencing \nTo join via zoom call (646) 558-8656 or visit zoom.us/join and enter meeting ID 851 9094 1198. \nAgenda: \n\nDiscuss the Route 7 South Sewer\nDiscuss the Simons Avenue intersection change\nAny other business
URL:https://www.rutlandtown.com/event/highway-committee-meeting-23/
LOCATION:Town of Rutland Municipal Building\, 181Business Route 4\, Center Rutland\, VT\, 05736\, United States
CATEGORIES:Committee Meeting
END:VEVENT
BEGIN:VEVENT
DTSTART;TZID=UTC:20241217T111500
DTEND;TZID=UTC:20241217T123000
DTSTAMP:20260424T130337
CREATED:20241209T155330Z
LAST-MODIFIED:20241209T155330Z
UID:10001403-1734434100-1734438600@www.rutlandtown.com
SUMMARY:Rutland Town Seniors Luncheon
DESCRIPTION:All Rutland Town seniors are invited to attend a luncheon at our Town School at 1612 Post Road \nThe school band will play during the meal. \nPlease arrive by 1115AM. \nlunch will be at 1130AM.
URL:https://www.rutlandtown.com/event/rutland-town-seniors-luncheon-5/
LOCATION:Rutland Town School\, 1612 Post Road\, Rutland\, VT\, 05701\, United States
CATEGORIES:Community
END:VEVENT
BEGIN:VEVENT
DTSTART;TZID=UTC:20241217T160000
DTEND;TZID=UTC:20241217T170000
DTSTAMP:20260424T130337
CREATED:20241212T161205Z
LAST-MODIFIED:20241212T161205Z
UID:10001405-1734451200-1734454800@www.rutlandtown.com
SUMMARY:Finance Committee Meeting
DESCRIPTION:Finance Committee Agenda 12-17-2024 \nRUTLAND TOWN SELECTBOARD COMMITTEE MEETING \nFINANCE COMMITTEE  \nTuesday\, December 17th\, 4:00PM \nLocation: Rutland Town Municipal Town Hall and Zoom Conferencing \nTo join via zoom call (646) 558-8656 or visit zoom.us/join and enter meeting ID 851 9094 1198. \nAgenda: \n\nMeet with the Town Auditor to review the draft audit.\nAny other business.
URL:https://www.rutlandtown.com/event/finance-committee-meeting-3/
LOCATION:Town of Rutland Municipal Building\, 181Business Route 4\, Center Rutland\, VT\, 05736\, United States
CATEGORIES:Committee Meeting
END:VEVENT
BEGIN:VEVENT
DTSTART;TZID=UTC:20241217T180000
DTEND;TZID=UTC:20241217T210000
DTSTAMP:20260424T130337
CREATED:20241212T161346Z
LAST-MODIFIED:20241212T161346Z
UID:10001257-1734458400-1734469200@www.rutlandtown.com
SUMMARY:Selectboard Meeting
DESCRIPTION:Click HERE to join the meeting remotely. \nSelectboard Agenda 12-17-2024 \nTOWN OF RUTLAND SELECTBOARD MEETING NOTICE AND AGENDA \nMUNICIPAL TOWN HALL AND ZOOM CONFERENCING \n6:00 PM Tuesday\, December 17th\, 2024 \nTo participate via zoom please visit zoom.us/join or call (646) 558-8656 and enter meeting ID 939 1518 8696. \nMeeting Opening \n\nPledge of Allegiance\nApproval of Selectboard Minutes:\n\nDecember 3rd\nDecember 10th\n\n\nBoard Member Announcements\nUpdate from the Selectboard Chair\nQuestions from the floor; public comments\n\nDepartment Head Reports \n\nDave Sears – Town Road Commissioner\nEd Dumas – Town Police Chief\nMike Rowe – Town Recreation Director\nKari Clark – Town Clerk & Treasurer\nMike Delehanty – Town 1st Constable\nJohn Paul Faignant – Town Health Officer / Public Safety Building Clerk / 2nd Constable\nBarbara Pulling – Town Planning Commission Chair\nLarry Dell Veneri – Town Transfer Station Manager\nMarcia Chioffi – Town Head Lister\nChris Clark – Town Fire Chief\nBill Sweet – Town Administrator\n\nAction items \n\nDiscuss changing from Listers to Assessors\nDiscuss the Finance Committee meeting / Auditor report\nDiscuss setting the date for pre-town meeting\nAny other new items\nUpdate on committee meetings\, budget planning\, and the Selectboard project list.\nMeet in executive session
URL:https://www.rutlandtown.com/event/select-board-meeting-2-8/
LOCATION:Town of Rutland Municipal Building\, 181Business Route 4\, Center Rutland\, VT\, 05736\, United States
CATEGORIES:Select Board
END:VEVENT
BEGIN:VEVENT
DTSTART;TZID=UTC:20241230T180000
DTEND;TZID=UTC:20241230T210000
DTSTAMP:20260424T130337
CREATED:20241220T182449Z
LAST-MODIFIED:20241224T154550Z
UID:10001258-1735581600-1735592400@www.rutlandtown.com
SUMMARY:Selectboard Meeting
DESCRIPTION:Click HERE to join the meeting remotely. \nSelectboard Agenda 12-30-2024 \nTOWN OF RUTLAND SELECTBOARD \nMEETING NOTICE AND AGENDA \nMUNICIPAL TOWN HALL AND ZOOM CONFERENCING \n6:00 PM Monday\, December 30th\, 2024 \nTo participate via zoom please visit zoom.us/join or call (646) 558-8656 and enter meeting ID 939 1518 8696. \nMeeting Opening \n\nPledge of Allegiance\nApproval of Selectboard Minutes:\n\nDecember 17th\n\n\nBoard Member Announcements\nUpdate from the Selectboard Chair\nQuestions from the floor; public comments\n\nDepartment Head Reports \n\nMike Rowe – Town Recreation Director\nDave Sears – Town Road Commissioner\nEd Dumas – Town Police Chief\nChris Clark – Town Fire Chief\nKari Clark – Town Clerk & Treasurer\nMike Delehanty – Town 1st Constable\nJohn Paul Faignant – Town Health Officer / Public Safety Building Clerk / 2nd Constable\nBarbara Pulling – Town Planning Commission Chair\nLarry Dell Veneri – Town Transfer Station Manager\nMarcia Chioffi – Town Head Lister\nBill Sweet – Town Administrator\n\nAction items \n\nVote on approval of town audit\nDiscuss changing from Listers to Assessors\nAny other new items\nUpdate on committee meetings\, budget planning\, and the Selectboard project list.\nMeet in executive session
URL:https://www.rutlandtown.com/event/select-board-meeting-2-9/
LOCATION:Town of Rutland Municipal Building\, 181Business Route 4\, Center Rutland\, VT\, 05736\, United States
CATEGORIES:Select Board
END:VEVENT
END:VCALENDAR