BEGIN:VCALENDAR
VERSION:2.0
PRODID:-//The Town of Rutland, Vermont - ECPv6.15.20//NONSGML v1.0//EN
CALSCALE:GREGORIAN
METHOD:PUBLISH
X-ORIGINAL-URL:https://www.rutlandtown.com
X-WR-CALDESC:Events for The Town of Rutland, Vermont
REFRESH-INTERVAL;VALUE=DURATION:PT1H
X-Robots-Tag:noindex
X-PUBLISHED-TTL:PT1H
BEGIN:VTIMEZONE
TZID:UTC
BEGIN:STANDARD
TZOFFSETFROM:+0000
TZOFFSETTO:+0000
TZNAME:UTC
DTSTART:20240101T000000
END:STANDARD
END:VTIMEZONE
BEGIN:VEVENT
DTSTART;TZID=UTC:20250102T183000
DTEND;TZID=UTC:20250102T200000
DTSTAMP:20260424T125148
CREATED:20241230T153022Z
LAST-MODIFIED:20241230T153022Z
UID:10001410-1735842600-1735848000@www.rutlandtown.com
SUMMARY:Planning Commission Meeting
DESCRIPTION:Click HERE to join the meeting remotely. \nPlanning Commission Agenda 1-2-2025 \nTOWN OF RUTLAND PLANNING COMMISSION AGENDA \nThursday\, January 2\, 2025  \nLocation: Rutland Town Municipal Town Hall and Zoom Conferencing  \nOpen Meeting – 6:30 PM   \nTo participate via zoom please call (646) 558-8656 or visit zoom.us/join and enter meeting ID 985 4127 6671.  \nCall to Order/ Pledge of Allegiance \nApproval of Agenda \nPublic Comment \nNew Business \n\nRon LaVictoire\, Victoria Drive possible subdivision\nVELCO/Thomas subdivision\n\nOld Business \n\nPocket Park grant pre-application update\nRiver corridor ordinance – questions for Kyle Medash\nGoodrich Sub-Division update\n\nAnnouncements \nMinutes \nDecember 5\, 2024 \nAdjournment
URL:https://www.rutlandtown.com/event/town-of-rutland-planning-commission-meeting-2-2021-12-09-2022-01-27-2023-01-19-2023-04-20-9-19/
LOCATION:Town of Rutland Municipal Building\, 181Business Route 4\, Center Rutland\, VT\, 05736\, United States
CATEGORIES:Planning Commission
END:VEVENT
BEGIN:VEVENT
DTSTART;TZID=UTC:20250106T160000
DTEND;TZID=UTC:20250106T170000
DTSTAMP:20260424T125148
CREATED:20250103T162512Z
LAST-MODIFIED:20250103T162512Z
UID:10001498-1736179200-1736182800@www.rutlandtown.com
SUMMARY:Police Committee Meeting
DESCRIPTION:Police Committee Agenda 1-6-2025 \nRUTLAND TOWN SELECTBOARD COMMITTEE MEETING \nPOLICE COMMITTEE  \nMonday\, January 6th\, 2025\, 4:00PM \nLocation: Rutland Town Municipal Town Hall and Zoom Conferencing \nTo join via zoom call (646) 558-8656 or visit zoom.us/join and enter meeting ID 851 9094 1198. \nAgenda: \n\nReview the cruiser replacement schedule\nReview the bid language for a new cruiser\nAny other business.
URL:https://www.rutlandtown.com/event/police-committee-meeting-17/
LOCATION:Town of Rutland Municipal Building\, 181Business Route 4\, Center Rutland\, VT\, 05736\, United States
CATEGORIES:Committee Meeting
END:VEVENT
BEGIN:VEVENT
DTSTART;VALUE=DATE:20250110
DTEND;VALUE=DATE:20250111
DTSTAMP:20260424T125148
CREATED:20220729T145844Z
LAST-MODIFIED:20220729T150747Z
UID:10000659-1736467200-1736553599@www.rutlandtown.com
SUMMARY:2nd Tax Installment Due
DESCRIPTION:The second installment of taxes are due by close of business on January 10th. \nPayments may be mailed\, delivered to our office\, placed in the drop box next to our front door or made online by going HERE. \nThe drop box is checked at the end of the business day. \nWe do accept postmarks with official USPS postmarks only. We are not responsible for late\, misdirected or incorrectly addressed mail. \nIf you have a question on any previous balance due please contact the office. Notices of prior balances due ARE NOT sent out. \nIf the due date falls on a weekend taxes shall be due by close of business on the next business day.
URL:https://www.rutlandtown.com/event/2nd-installment-of-taxes-due-date/2025-01-10/
LOCATION:VT\, United States
CATEGORIES:Municipal Date
END:VEVENT
BEGIN:VEVENT
DTSTART;TZID=UTC:20250114T173000
DTEND;TZID=UTC:20250114T190000
DTSTAMP:20260424T125148
CREATED:20250102T142104Z
LAST-MODIFIED:20250109T200355Z
UID:10001259-1736875800-1736881200@www.rutlandtown.com
SUMMARY:Selectboard Meeting
DESCRIPTION:Click HERE to join the meeting remotely. \nSelectboard Agenda 1-14-2025 \nTOWN OF RUTLAND SELECTBOARD MEETING NOTICE AND AGENDA \nRUTLAND TOWN SCHOOL AND ZOOM CONFERENCING \n5:30 PM Tuesday January 14th\, 2025 \nTo participate via zoom please visit zoom.us/join or call (646) 558-8656 and enter meeting ID 939 1518 8696. \nMeeting Opening \n\nPledge of Allegiance\nApproval of Selectboard Minutes:\n\nDecember 30th\n\n\nBoard Member Announcements\nUpdate from the Selectboard Chair\nQuestions from the floor; public comments\n\nDepartment Head Reports \n\nEd Dumas – Town Police Chief\nMike Rowe – Town Recreation Director\nDave Sears – Town Road Commissioner\nMarcia Chioffi – Town Head Lister\nChris Clark – Town Fire Chief\nKari Clark – Town Clerk & Treasurer\nMike Delehanty – Town 1st Constable\nJohn Paul Faignant – Town Health Officer / Public Safety Building Clerk / 2nd Constable\nBarbara Pulling – Town Planning Commission Chair\nLarry Dell Veneri – Town Transfer Station Manager\nBill Sweet – Town Administrator\n\nAction items \n\nAdjustment of proposed Police Budget\nApprove Rec and Highway depreciation language for ballot\nApprove annual certificate of highway mileage\nAny other new items\nUpdate on committee meetings\, budget planning\, and the Selectboard project list.\nMeet in executive session
URL:https://www.rutlandtown.com/event/select-board-meeting-2-10/
LOCATION:Rutland Town School\, 1612 Post Road\, Rutland\, VT\, 05701\, United States
CATEGORIES:Select Board
END:VEVENT
BEGIN:VEVENT
DTSTART;TZID=UTC:20250114T190000
DTEND;TZID=UTC:20250114T210000
DTSTAMP:20260424T125148
CREATED:20241216T203702Z
LAST-MODIFIED:20250108T172646Z
UID:10001408-1736881200-1736888400@www.rutlandtown.com
SUMMARY:Pre-Town Meeting
DESCRIPTION:FY 26 Municipal Draft Budget Sheets \nPre-Town meeting will start at 700PM in the library at the Town School. \nTo join the meting remotely follow this link – https://us06web.zoom.us/j/85190941198 \nThe Selectboard will present the draft budgets beginning at 7Pm and the School Board \nMore details will be posted here as they become available.
URL:https://www.rutlandtown.com/event/pre-town-meeting-4/
LOCATION:Rutland Town School\, 1612 Post Road\, Rutland\, VT\, 05701\, United States
CATEGORIES:Community,Municipal Date,Select Board
END:VEVENT
BEGIN:VEVENT
DTSTART;TZID=UTC:20250123T183000
DTEND;TZID=UTC:20250123T200000
DTSTAMP:20260424T125148
CREATED:20250121T191534Z
LAST-MODIFIED:20250121T191534Z
UID:10001411-1737657000-1737662400@www.rutlandtown.com
SUMMARY:Planning Commission Meeting
DESCRIPTION:Click HERE to join the meeting remotely. \nPlanning Commission Agenda 1-23-2025 \nTOWN OF RUTLAND PLANNING COMMISSION AGENDA \nThursday\, January 23\, 2025  \nLocation: Rutland Town Municipal Town Hall and Zoom Conferencing  \nOpen Meeting – 6:30 PM   \nTo participate via zoom please call (646) 558-8656 or visit zoom.us/join and enter meeting ID 985 4127 6671.  \nCall to Order/ Pledge of Allegiance \nApproval of Agenda \nPublic Comment \nNew Business \n\nBoundary Line Adjustment for Baird/Levins parcels on McKinley Ave\n\nOld Business \n\nVELCO/Thomas subdivision boundary lines on Post Road – Jim Goss\nSubdivision Ordinance update\nRiver corridor ordinance review\nPocket Park grant full application update\n\nAnnouncements \nMinutes \nJanuary 2\, 2025 \nAdjournment
URL:https://www.rutlandtown.com/event/town-of-rutland-planning-commission-meeting-2-2021-12-09-2022-01-27-2023-01-19-2023-04-20-9-20/
LOCATION:Town of Rutland Municipal Building\, 181Business Route 4\, Center Rutland\, VT\, 05736\, United States
CATEGORIES:Planning Commission
END:VEVENT
BEGIN:VEVENT
DTSTART;TZID=UTC:20250128T180000
DTEND;TZID=UTC:20250128T210000
DTSTAMP:20260424T125148
CREATED:20250123T161907Z
LAST-MODIFIED:20250123T161907Z
UID:10001260-1738087200-1738098000@www.rutlandtown.com
SUMMARY:Selectboard Meeting
DESCRIPTION:Click HERE to join the meeting remotely. \nSelectboard Agenda 1-28-2025 \nTOWN OF RUTLAND SELECTBOARD MEETING NOTICE AND AGENDA \nMUNICIPAL TOWN HALL AND ZOOM CONFERENCING 6:00 PM Tuesday January 28th\, 2025 \nTo participate via zoom please visit zoom.us/join or call (646) 558-8656 and enter meeting ID 939 1518 8696. \nMeeting Opening \n\nPledge of Allegiance\nApproval of Selectboard Minutes:\n\nJanuary 14th\n\n\nBoard Member Announcements\nUpdate from the Selectboard Chair\nQuestions from the floor; public comments\n\nDepartment Head Reports \n\nEd Dumas – Town Police Chief\nMike Rowe – Town Recreation Director\nDave Sears – Town Road Commissioner\nMarcia Chioffi – Town Head Lister\nChris Clark – Town Fire Chief\nKari Clark – Town Clerk & Treasurer\nMike Delehanty – Town 1st Constable\nJohn Paul Faignant – Town Health Officer / Public Safety Building Clerk / 2nd Constable\nBarbara Pulling – Town Planning Commission Chair\nLarry Dell Veneri – Town Transfer Station Manager\nBill Sweet – Town Administrator\n\nAction items \n\nPresentation on final draft of the Local Hazard Mitigation Plan\nPublic Safety Building update\nAny other new items\nUpdate on committee meetings\, budget planning\, and the Selectboard project list.\nMeet in executive session
URL:https://www.rutlandtown.com/event/select-board-meeting-2-11/
LOCATION:Town of Rutland Municipal Building\, 181Business Route 4\, Center Rutland\, VT\, 05736\, United States
CATEGORIES:Select Board
END:VEVENT
END:VCALENDAR