BEGIN:VCALENDAR
VERSION:2.0
PRODID:-//The Town of Rutland, Vermont - ECPv6.15.20//NONSGML v1.0//EN
CALSCALE:GREGORIAN
METHOD:PUBLISH
X-WR-CALNAME:The Town of Rutland, Vermont
X-ORIGINAL-URL:https://www.rutlandtown.com
X-WR-CALDESC:Events for The Town of Rutland, Vermont
REFRESH-INTERVAL;VALUE=DURATION:PT1H
X-Robots-Tag:noindex
X-PUBLISHED-TTL:PT1H
BEGIN:VTIMEZONE
TZID:UTC
BEGIN:STANDARD
TZOFFSETFROM:+0000
TZOFFSETTO:+0000
TZNAME:UTC
DTSTART:20240101T000000
END:STANDARD
END:VTIMEZONE
BEGIN:VEVENT
DTSTART;VALUE=DATE:20250401
DTEND;VALUE=DATE:20250402
DTSTAMP:20260424T032249
CREATED:20240329T135032Z
LAST-MODIFIED:20240329T135032Z
UID:10001033-1743465600-1743551999@www.rutlandtown.com
SUMMARY:Dog Registrations Due
DESCRIPTION:Please call or stop into the Town Clerks office with any questions.
URL:https://www.rutlandtown.com/event/dog-registrations-due/2025-04-01/
LOCATION:Town of Rutland Municipal Building\, 181Business Route 4\, Center Rutland\, VT\, 05736\, United States
CATEGORIES:Community,Municipal Date
END:VEVENT
BEGIN:VEVENT
DTSTART;TZID=UTC:20250408T180000
DTEND;TZID=UTC:20250408T210000
DTSTAMP:20260424T032249
CREATED:20250403T162741Z
LAST-MODIFIED:20250403T162741Z
UID:10001265-1744135200-1744146000@www.rutlandtown.com
SUMMARY:Selectboard Meeting
DESCRIPTION:Click HERE to join the meeting remotely. \nSelectboard Agenda 4-8-2025 \nTOWN OF RUTLAND SELECTBOARD MEETING NOTICE AND AGENDA \nMUNICIPAL TOWN HALL AND ZOOM CONFERENCING \n6:00 PM Tuesday April 8th\, 2025 \nTo participate via zoom please visit zoom.us/join or call (646) 558-8656 and enter meeting ID 939 1518 8696. \nMeeting Opening \n\nPledge of Allegiance\nApproval of Selectboard Minutes:\n\nMarch 25th Regular Meeting\n\n\nApproval of Orders\nBoard Member Announcements\nUpdate from the Selectboard Chair\nQuestions from the floor; public comments\n\nDepartment Head Reports \n\nMike Rowe – Town Recreation Director\nDave Sears – Town Road Commissioner\nEd Dumas – Town Police Chief\nMike Delehanty – Town 1st Constable\nJoe Denardo – Public Safety Building Clerk\nJohn Paul Faignant – Town Health Officer / 2nd Constable\nBarbara Pulling – Town Planning Commission Chair\nLarry Dell Veneri – Town Transfer Station Manager\nMarcia Chioffi – Town Head Lister\nChris Clark – Town Fire Chief\nKari Clark – Town Clerk & Treasurer\nBill Sweet – Town Administrator\n\nAction items \n\nDiscuss priorities and projects for the coming year\nReview the updated Purchasing policy\, Meeting Room Use policy\, and Public Records policy\nSewer Allocation increase request from 287 US Route 4 East\nReview draft policies for accounting after the town auditor provides feedback (May 1st or later)\nReview draft alarm ordinance\, once feedback from the Police Department is received\nAny other new items\nUpdate on committee meetings\nUpdate the Selectboard project list.\nBoard to meet in executive session if necessary
URL:https://www.rutlandtown.com/event/select-board-meeting-2-16/
LOCATION:Town of Rutland Municipal Building\, 181Business Route 4\, Center Rutland\, VT\, 05736\, United States
CATEGORIES:Select Board
END:VEVENT
BEGIN:VEVENT
DTSTART;TZID=UTC:20250417T183000
DTEND;TZID=UTC:20250417T200000
DTSTAMP:20260424T032249
CREATED:20250414T131904Z
LAST-MODIFIED:20250414T131904Z
UID:10001415-1744914600-1744920000@www.rutlandtown.com
SUMMARY:Planning Commission Meeting
DESCRIPTION:Click HERE to join the meeting remotely. \nPlanning Commission Agenda 4-17-2025 \nTOWN OF RUTLAND PLANNING COMMISSION AGENDA \nThursday\, April 17\, 2025  \nLocation: Rutland Town Municipal Town Hall and Zoom Conferencing  \nOpen Meeting – 6:30 PM   \nTo participate via zoom please call (646) 558-8656 or visit zoom.us/join and enter meeting ID 985 4127 6671.  \nCall to Order/ Pledge of Allegiance \nApproval of Agenda \nPublic Comment \nNew Business \nOld Business \n\nSubdivision Ordinance discussion with the town attorney\nRiver Corridor ordinance update\nPocket Park next steps\n\nAnnouncements \nMinutes \nMarch 27\, 2025 \nAdjournment
URL:https://www.rutlandtown.com/event/town-of-rutland-planning-commission-meeting-2-2021-12-09-2022-01-27-2023-01-19-2023-04-20-9-24/
LOCATION:Town of Rutland Municipal Building\, 181Business Route 4\, Center Rutland\, VT\, 05736\, United States
CATEGORIES:Planning Commission
END:VEVENT
BEGIN:VEVENT
DTSTART;TZID=UTC:20250422T180000
DTEND;TZID=UTC:20250422T210000
DTSTAMP:20260424T032249
CREATED:20250417T165702Z
LAST-MODIFIED:20250417T165702Z
UID:10001266-1745344800-1745355600@www.rutlandtown.com
SUMMARY:Selectboard Meeting
DESCRIPTION:Click HERE to join the meeting remotely. \nSelectboard Agenda 4-22-2025 \nTOWN OF RUTLAND SELECTBOARD MEETING NOTICE AND AGENDA \nMUNICIPAL TOWN HALL AND ZOOM CONFERENCING \n6:00 PM Tuesday April 22nd\, 2025 \nTo participate via zoom please visit zoom.us/join or call (646) 558-8656 and enter meeting ID 939 1518 8696. \nMeeting Opening \n\nPledge of Allegiance\nApproval of Selectboard Minutes:\n\nApril 8th Regular Meeting\n\n\nApproval of Orders\nBoard Member Announcements\nUpdate from the Selectboard Chair\nQuestions from the floor; public comments\n\nDepartment Head Reports \n\nEd Dumas – Town Police Chief\nMike Rowe – Town Recreation Director\nDave Sears – Town Road Commissioner\nKari Clark – Town Clerk & Treasurer\nMike Delehanty – Town 1st Constable\nJoe Denardo – Public Safety Building Clerk\nJohn Paul Faignant – Town Health Officer / 2nd Constable\nBarbara Pulling – Town Planning Commission Chair\nLarry Dell Veneri – Town Transfer Station Manager\nMarcia Chioffi – Town Head Lister\nChris Clark – Town Fire Chief\nBill Sweet – Town Administrator\n\nAction items \n\nMeet with Andres Torizzo from Watershed consulting to discuss MS4 projects and priorities\nDiscuss needed appointments\nPlanning for the Public Safety Building open house\nDiamond Run Mall / Walmart project discussion with David Grayck Esq.\nReview draft policies for accounting after the town auditor provides feedback (May 1st or later)\nReview draft alarm ordinance\, once feedback from the Police Department is received\nAny other new items\nUpdate on committee meetings\nUpdate the Selectboard project list.\nBoard to meet in executive session if necessary
URL:https://www.rutlandtown.com/event/select-board-meeting-2-17/
LOCATION:Town of Rutland Municipal Building\, 181Business Route 4\, Center Rutland\, VT\, 05736\, United States
CATEGORIES:Select Board
END:VEVENT
BEGIN:VEVENT
DTSTART;TZID=UTC:20250426T083000
DTEND;TZID=UTC:20250426T123000
DTSTAMP:20260424T032249
CREATED:20250310T200914Z
LAST-MODIFIED:20250310T200914Z
UID:10001514-1745656200-1745670600@www.rutlandtown.com
SUMMARY:Household Hazardous Waste Collection Event
DESCRIPTION:
URL:https://www.rutlandtown.com/event/household-hazardous-waste-collection-event/
LOCATION:Northwood Park\, 185 Northwood Park Road\, Rutland\, 05701
CATEGORIES:Community,Municipal Date
END:VEVENT
BEGIN:VEVENT
DTSTART;TZID=UTC:20250429T170000
DTEND;TZID=UTC:20250429T180000
DTSTAMP:20260424T032249
CREATED:20250424T172533Z
LAST-MODIFIED:20250424T172533Z
UID:10001523-1745946000-1745949600@www.rutlandtown.com
SUMMARY:Police Committee Meeting
DESCRIPTION:Police Committee Agenda 4-29-2025 \nRUTLAND TOWN SELECTBOARD COMMITTEE MEETING \nPOLICE COMMITTEE  \nTuesday\, April 29th\, 2025\, 5:00PM \nLocation: Rutland Town Municipal Town Hall and Zoom Conferencing \nTo join via zoom call (646) 558-8656 or visit zoom.us/join and enter meeting ID 851 9094 1198. \nAgenda: \n\nReview the contract to replace the Police Department firearms\nReview the contract for a new copier\nReview the contract for the tasers\nDiscuss emergency management planning at the Town School\nAny other business
URL:https://www.rutlandtown.com/event/police-committee-meeting-19/
LOCATION:Town of Rutland Municipal Building\, 181Business Route 4\, Center Rutland\, VT\, 05736\, United States
CATEGORIES:Committee Meeting
END:VEVENT
BEGIN:VEVENT
DTSTART;TZID=UTC:20250429T180000
DTEND;TZID=UTC:20250429T193000
DTSTAMP:20260424T032249
CREATED:20250410T200510Z
LAST-MODIFIED:20250424T172132Z
UID:10001520-1745949600-1745955000@www.rutlandtown.com
SUMMARY:Special Selectboard meeting
DESCRIPTION:Selectboard Special Meeting Agenda 4-29-2025 \nTOWN OF RUTLAND SELECTBOARD SPECIAL MEETING NOTICE AND AGENDA \nMUNICIPAL TOWN HALL AND ZOOM CONFERENCING \n6:00 PM Tuesday April 29th\, 2025 \nTo participate via zoom**  please visit zoom.us/join or call (646) 558-8656 and enter meeting ID 939 1518 8696. \nAction items \nA. Meet with members of the Rutland Regional Planning Commission for a presentation which will: \n\n\n\nProvide an overview of the Regional Plan elements and how Act 181 overhauled Vermont’s land use planning framework.\nDive into the new Act 181 land use categories\, state designations\, and location-based Act 250 jurisdiction tiers.\nWalk through the draft regional future land use map and highlight key changes from the 2018 map.\n\n\n\nB.  Discuss the purchase of an excavator for the highway department. \nC. Review the plan and agreement to replace the Police Department firearms \nD. Review of the agreement for new services from Consolidated Communications for the Public Safety Building \nE. Review the proposal for installing a transfer switch for the public safety building sprinkler pump \n  \n** Please note\, while this meeting does have a remote attendance option\, it will only be effective for listening to this discussion. Hardcopies of maps and other documents will be viewed and will not be able to be displayed for remote attendees.
URL:https://www.rutlandtown.com/event/special-selectboard-meeting-8/
LOCATION:Town of Rutland Municipal Building\, 181Business Route 4\, Center Rutland\, VT\, 05736\, United States
CATEGORIES:Select Board
END:VEVENT
END:VCALENDAR