BEGIN:VCALENDAR
VERSION:2.0
PRODID:-//The Town of Rutland, Vermont - ECPv6.15.20//NONSGML v1.0//EN
CALSCALE:GREGORIAN
METHOD:PUBLISH
X-ORIGINAL-URL:https://www.rutlandtown.com
X-WR-CALDESC:Events for The Town of Rutland, Vermont
REFRESH-INTERVAL;VALUE=DURATION:PT1H
X-Robots-Tag:noindex
X-PUBLISHED-TTL:PT1H
BEGIN:VTIMEZONE
TZID:UTC
BEGIN:STANDARD
TZOFFSETFROM:+0000
TZOFFSETTO:+0000
TZNAME:UTC
DTSTART:20240101T000000
END:STANDARD
END:VTIMEZONE
BEGIN:VEVENT
DTSTART;TZID=UTC:20250506T170000
DTEND;TZID=UTC:20250506T180000
DTSTAMP:20260423T182001
CREATED:20250501T183531Z
LAST-MODIFIED:20250501T183531Z
UID:10001525-1746550800-1746554400@www.rutlandtown.com
SUMMARY:Rec Committee Meeting
DESCRIPTION:Rec Committee Agenda 5-6-2025 \nRUTLAND TOWN SELECTBOARD COMMITTEE MEETING \nRECREATION COMMITTEE  \nTuesday\, May 6th\, 2025\, 5:00PM \nLocation: Rutland Town Municipal Town Hall and Zoom Conferencing \nTo join via zoom call (646) 558-8656 or visit zoom.us/join and enter meeting ID 851 9094 1198. \nAgenda: \n\nSummer lifeguards\nNorthwood Park\nDewey field maintenance worker\nAny other business
URL:https://www.rutlandtown.com/event/rec-committee-meeting-10/
LOCATION:Town of Rutland Municipal Building\, 181Business Route 4\, Center Rutland\, VT\, 05736\, United States
CATEGORIES:Committee Meeting
END:VEVENT
BEGIN:VEVENT
DTSTART;TZID=UTC:20250506T180000
DTEND;TZID=UTC:20250506T210000
DTSTAMP:20260423T182001
CREATED:20250501T164336Z
LAST-MODIFIED:20250501T164337Z
UID:10001267-1746554400-1746565200@www.rutlandtown.com
SUMMARY:Selectboard Meeting
DESCRIPTION:Click HERE to join the meeting remotely. \nSelectboard Agenda 5-6-2025 \nTOWN OF RUTLAND SELECTBOARD MEETING NOTICE AND AGENDA \nMUNICIPAL TOWN HALL AND ZOOM CONFERENCING \n6:00 PM Tuesday May 6th\, 2025 \nTo participate via zoom please visit zoom.us/join \nor call (646) 558-8656 and enter meeting ID 939 1518 8696. \nMeeting Opening \n\nPledge of Allegiance\nApproval of Selectboard Minutes:\n\nApril 22nd Regular Meeting\nApril 29th Special Meeting\n\n\nApproval of Orders\nBoard Member Announcements\nUpdate from the Selectboard Chair\nQuestions from the floor; public comments \n\nDepartment Head Reports \n\nDave Sears – Town Road Commissioner\nEd Dumas – Town Police Chief\nMike Rowe – Town Recreation Director\nChris Clark – Town Fire Chief\nKari Clark – Town Clerk & Treasurer\nMike Delehanty – Town 1st Constable\nJoe Denardo – Public Safety Building Clerk\nJohn Paul Faignant – Town Health Officer / 2nd Constable\nBarbara Pulling – Town Planning Commission Chair\nLarry Dell Veneri – Town Transfer Station Manager\nMarcia Chioffi – Town Head Lister\nBill Sweet – Town Administrator\n\nAction items \n\nDiscuss the purchase of an excavator for the Highway Department\nDiscuss the draft regional plan\nPlanning for the Public Safety Building open house\nReview draft policies for accounting with the town auditor provides feedback\nReview draft alarm ordinance\, once feedback from the Police Department is received\nAny other new items\nUpdate on committee meetings\, Police Committee\nUpdate the Selectboard project list.\nBoard to meet in executive session if necessary
URL:https://www.rutlandtown.com/event/select-board-meeting-2-18/
LOCATION:Town of Rutland Municipal Building\, 181Business Route 4\, Center Rutland\, VT\, 05736\, United States
CATEGORIES:Select Board
END:VEVENT
BEGIN:VEVENT
DTSTART;TZID=UTC:20250508T183000
DTEND;TZID=UTC:20250508T200000
DTSTAMP:20260423T182001
CREATED:20250505T180256Z
LAST-MODIFIED:20250505T180256Z
UID:10001416-1746729000-1746734400@www.rutlandtown.com
SUMMARY:Planning Commission Meeting
DESCRIPTION:Click HERE to join the meeting remotely. \nPlanning Commission Agenda 5-8-2025 \n TOWN OF RUTLAND PLANNING COMMISSION AGENDA \nThursday\, May 8\, 2025 \nLocation: Rutland Town Municipal Town Hall and Zoom Conferencing \nOpen Meeting – 6:30 PM  \nTo participate via Zoom\, please call (646) 558-8656 or visit zoom.us/join and enter meeting ID 985 4127 6671. \nCall to Order/ Pledge of Allegiance \nApproval of Agenda  \nPublic Comment \nNew Business \nOld Business \n\nSubdivision Ordinance – next steps\nPocket Park – Phase 1\nRiver Corridor ordinance – next steps\n\nAnnouncements \nMinutes  \nApril 17\, 2025 \nAdjournment
URL:https://www.rutlandtown.com/event/town-of-rutland-planning-commission-meeting-2-2021-12-09-2022-01-27-2023-01-19-2023-04-20-9-25/
LOCATION:Town of Rutland Municipal Building\, 181Business Route 4\, Center Rutland\, VT\, 05736\, United States
CATEGORIES:Planning Commission
END:VEVENT
BEGIN:VEVENT
DTSTART;TZID=UTC:20250509T143000
DTEND;TZID=UTC:20250509T153000
DTSTAMP:20260423T182001
CREATED:20250507T143022Z
LAST-MODIFIED:20250507T143022Z
UID:10001527-1746801000-1746804600@www.rutlandtown.com
SUMMARY:Cheney Hill Cemetery Commission Meeting
DESCRIPTION:Cheney Hill Cemetery Commission Meeting 5-9-2025 \nRUTLAND TOWN CHENEY HILL CEMETERY COMMISSION MEETING \n Friday\, May 9th\, 2025\, 2:30PM \nLocation: Rutland Town Municipal Town Hall \nAgenda: \n\nAnnual meeting\nAny other business
URL:https://www.rutlandtown.com/event/cheney-hill-cemetery-commission-meeting/
LOCATION:Town of Rutland Municipal Building\, 181Business Route 4\, Center Rutland\, VT\, 05736\, United States
END:VEVENT
BEGIN:VEVENT
DTSTART;VALUE=DATE:20250510
DTEND;VALUE=DATE:20250511
DTSTAMP:20260423T182001
CREATED:20210716T172210Z
LAST-MODIFIED:20220729T150816Z
UID:10000597-1746835200-1746921599@www.rutlandtown.com
SUMMARY:3rd Tax Installment Due
DESCRIPTION:The third installment of taxes are due by close of business on May 10th. \nPayments may be mailed\, delivered to our office\, placed in the drop box next to our front door or made online by going HERE. \nThe drop box is checked at the end of the business day. \nWe do accept postmarks with official USPS postmarks only. We are not responsible for late\, misdirected or incorrectly addressed mail. \nIf you have a question on any previous balance due please contact the office. Notices of prior balances due ARE NOT sent out. \nIf the due date falls on a weekend taxes shall be due by close of business on the next business day.
URL:https://www.rutlandtown.com/event/3rd-tax-installment-due-date/2025-05-10/
LOCATION:Town of Rutland Municipal Building\, 181Business Route 4\, Center Rutland\, VT\, 05736\, United States
CATEGORIES:Municipal Date
END:VEVENT
BEGIN:VEVENT
DTSTART;TZID=UTC:20250512T110000
DTEND;TZID=UTC:20250512T130000
DTSTAMP:20260423T182001
CREATED:20250507T202135Z
LAST-MODIFIED:20250507T202135Z
UID:10001529-1747047600-1747054800@www.rutlandtown.com
SUMMARY:Highway Commitee Meeting
DESCRIPTION:Highway Commitee Agenda 5-11-2025 \nRUTLAND TOWN SELECTBOARD HIGHWAY COMMITTEE MEETING \nMonday\, May 12th\, 11:00AM \nLocation: Rutland Town Municipal Town Hall and Zoom Conferencing \nTo join via zoom call (646) 558-8656 or visit zoom.us/join and enter meeting ID 851 9094 1198. \nAgenda: \n\nReview / update 5 Year plan\nTown Highway Grant programs\nSimons Avenue Intersection rework\nRoute 7 South sewer line repair\nVehicle replacement schedule\nExcavator purchase\nSalt shed replacement\nReview the draft Streets & Sidewalk Ordinance with excavation language\nWater connection request for US 7S and Cold River Road\nAny other business
URL:https://www.rutlandtown.com/event/highway-commitee-meeting-5/
CATEGORIES:Committee Meeting
END:VEVENT
BEGIN:VEVENT
DTSTART;TZID=UTC:20250515T090000
DTEND;TZID=UTC:20250515T110000
DTSTAMP:20260423T182001
CREATED:20250507T175402Z
LAST-MODIFIED:20250507T175402Z
UID:10001528-1747299600-1747306800@www.rutlandtown.com
SUMMARY:Personnel / Finance Committee Meeting
DESCRIPTION:Personnel / Finance Committee Agenda 5-15-2025 \nRUTLAND TOWN SELECTBOARD COMMITTEE MEETING \nPERSONNEL & FINANCE COMMITTEES \nThursday\, May 15th\, 2025\, 9:00AM \nLocation: Rutland Town Municipal Town Hall and Zoom Conferencing \nTo join via zoom call (646) 558-8656 or visit zoom.us/join and enter meeting ID 851 9094 1198. \nAgenda: \n\nMeet with Teresa Miele at 9AM to continue personnel work\nUpdated timesheet / Payroll service\nFuture Planning\nCOMP Time\nDept Head Monthly Meetings\nMeet with Andrew Simonds at 930AM to discuss draft accounting policy comments\nAny other business
URL:https://www.rutlandtown.com/event/personnel-finance-committee-meeting-3/
LOCATION:Town of Rutland Municipal Building\, 181Business Route 4\, Center Rutland\, VT\, 05736\, United States
CATEGORIES:Committee Meeting
END:VEVENT
BEGIN:VEVENT
DTSTART;TZID=UTC:20250516T110000
DTEND;TZID=UTC:20250516T130000
DTSTAMP:20260423T182001
CREATED:20250513T122834Z
LAST-MODIFIED:20250513T122834Z
UID:10001530-1747393200-1747400400@www.rutlandtown.com
SUMMARY:Scholarship Committee Meeting
DESCRIPTION:Scholarship Committee Meeting 5-16-2025 \nRUTLAND TOWN SELECTBOARD SCHOLARSHIP COMMITTEE MEETING \nFriday\, May 16th\, 11:00AM \nLocation: Rutland Town Municipal Town Hall \nAgenda: \n\nReview 2025 scholarship applications\nAny other business
URL:https://www.rutlandtown.com/event/scholarship-committee-meeting-2/
LOCATION:Town of Rutland Municipal Building\, 181Business Route 4\, Center Rutland\, VT\, 05736\, United States
CATEGORIES:Committee Meeting
END:VEVENT
BEGIN:VEVENT
DTSTART;TZID=UTC:20250520T163000
DTEND;TZID=UTC:20250520T180000
DTSTAMP:20260423T182001
CREATED:20250515T182935Z
LAST-MODIFIED:20250515T182935Z
UID:10001531-1747758600-1747764000@www.rutlandtown.com
SUMMARY:Fire Committee Meeting
DESCRIPTION:Fire Committee Agenda 5-20-2025 \nRUTLAND TOWN SELECTBOARD COMMITTEE MEETING \nFIRE COMMITTEE  \nTuesday\, May 20th\, 2025\, 4:30 PM \nLocation: Rutland Town Municipal Town Hall and Zoom Conferencing \nTo join via zoom call (646) 558-8656 or visit zoom.us/join and enter meeting ID 851 9094 1198. \nAgenda: \n\nDiscuss proposed changes to the bylaws\nAny other business.
URL:https://www.rutlandtown.com/event/fire-committee-meeting-8/
LOCATION:Town of Rutland Municipal Building\, 181Business Route 4\, Center Rutland\, VT\, 05736\, United States
CATEGORIES:Committee Meeting
END:VEVENT
BEGIN:VEVENT
DTSTART;TZID=UTC:20250520T180000
DTEND;TZID=UTC:20250520T210000
DTSTAMP:20260423T182001
CREATED:20250515T194222Z
LAST-MODIFIED:20250515T194222Z
UID:10001268-1747764000-1747774800@www.rutlandtown.com
SUMMARY:Selectboard Meeting
DESCRIPTION:Click HERE to join the meeting remotely. \nSelectboard Agenda 5-20-2025 \nTOWN OF RUTLAND SELECTBOARD MEETING NOTICE AND AGENDA \nMUNICIPAL TOWN HALL AND ZOOM CONFERENCING \n6:00 PM Tuesday May 20th\, 2025 \nTo participate via zoom please visit zoom.us/join or call (646) 558-8656 and enter meeting ID 939 1518 8696. \nMeeting Opening \n\nPledge of Allegiance\nApproval of Selectboard Minutes:\n\nMay 6th Regular Meeting\n\n\nApproval of Orders\nBoard Member Announcements\nUpdate from the Selectboard Chair\nQuestions from the floor; public comments\n\nDepartment Head Reports \n\nMike Rowe – Town Recreation Director\nDave Sears – Town Road Commissioner\nEd Dumas – Town Police Chief\nMarcia Chioffi – Town Head Lister\nChris Clark – Town Fire Chief\nKari Clark – Town Clerk & Treasurer\nMike Delehanty – Town 1st Constable\nJoe Denardo – Public Safety Building Clerk\nJohn Paul Faignant – Town Health Officer / 2nd Constable\nBarbara Pulling – Town Planning Commission Chair\nLarry Dell Veneri – Town Transfer Station Manager\nBill Sweet – Town Administrator\n\nAction items \n\nScholarship award approval\nReview Grand List extension request from the Lister Office\nReview Auditing\, Accounting and Financial Reporting Policy for approval if updated language is ready\nReview draft alarm ordinance\, once feedback from the Police Department is received\nAny other new items\nUpdate on committee meetings\, Personnel / Finance\, Highway\, Fire\nUpdate the Selectboard project list.\nBoard to meet in executive session if necessary
URL:https://www.rutlandtown.com/event/select-board-meeting-2-19/
LOCATION:Town of Rutland Municipal Building\, 181Business Route 4\, Center Rutland\, VT\, 05736\, United States
CATEGORIES:Select Board
END:VEVENT
BEGIN:VEVENT
DTSTART;TZID=UTC:20250528T090000
DTEND;TZID=UTC:20250528T100000
DTSTAMP:20260423T182001
CREATED:20250521T161331Z
LAST-MODIFIED:20250521T161331Z
UID:10001534-1748422800-1748426400@www.rutlandtown.com
SUMMARY:Highway Committee Meeting
DESCRIPTION:Highway Committee Agenda 5-28-2025 \nRUTLAND TOWN SELECTBOARD HIGHWAY COMMITTEE MEETING \nWednesday\, May 28th\, 9:00AM \nLocation: Rutland Town Municipal Town Hall and Zoom Conferencing \nTo join via zoom call (646) 558-8656 or visit zoom.us/join and enter meeting ID 851 9094 1198. \nAgenda: \n\nReview the bid package for the Route 7 South sewer line\nReview the draft Streets & Sidewalk Ordinance with excavation language\nMunicipal water expansion plan\nAny other business\n\n 
URL:https://www.rutlandtown.com/event/highway-committee-meeting-25/
CATEGORIES:Committee Meeting
END:VEVENT
BEGIN:VEVENT
DTSTART;TZID=UTC:20250529T183000
DTEND;TZID=UTC:20250529T200000
DTSTAMP:20260423T182001
CREATED:20250523T133939Z
LAST-MODIFIED:20250523T133940Z
UID:10001417-1748543400-1748548800@www.rutlandtown.com
SUMMARY:Planning Commission Meeting
DESCRIPTION:Click HERE to join the meeting remotely. \nPlanning Commission Agenda 5-29-2025 \nTOWN OF RUTLAND PLANNING COMMISSION AGENDA \nThursday\, May 29\, 2025 \nLocation: Rutland Town Municipal Town Hall and Zoom Conferencing \nOpen Meeting – 6:30 PM  \nTo participate via Zoom\, please call (646) 558-8656 or visit zoom.us/join and enter meeting ID 985 4127 6671. \nCall to Order/ Pledge of Allegiance \nApproval of Agenda \nPublic Comment \nNew Business \nDavid Grayck\, Diamond Run Mall demolition and Act 250 Municipal Impact Questionnaire \nOld Business \n\nSubdivision Ordinance – finalize next steps\nPocket Park – Phase 1 meetings\n\nAnnouncements \nMinutes \nMay 8\, 2025 \nAdjournment
URL:https://www.rutlandtown.com/event/town-of-rutland-planning-commission-meeting-2-2021-12-09-2022-01-27-2023-01-19-2023-04-20-9-26/
LOCATION:Town of Rutland Municipal Building\, 181Business Route 4\, Center Rutland\, VT\, 05736\, United States
CATEGORIES:Planning Commission
END:VEVENT
END:VCALENDAR