BEGIN:VCALENDAR
VERSION:2.0
PRODID:-//The Town of Rutland, Vermont - ECPv6.15.20//NONSGML v1.0//EN
CALSCALE:GREGORIAN
METHOD:PUBLISH
X-ORIGINAL-URL:https://www.rutlandtown.com
X-WR-CALDESC:Events for The Town of Rutland, Vermont
REFRESH-INTERVAL;VALUE=DURATION:PT1H
X-Robots-Tag:noindex
X-PUBLISHED-TTL:PT1H
BEGIN:VTIMEZONE
TZID:UTC
BEGIN:STANDARD
TZOFFSETFROM:+0000
TZOFFSETTO:+0000
TZNAME:UTC
DTSTART:20240101T000000
END:STANDARD
END:VTIMEZONE
BEGIN:VEVENT
DTSTART;VALUE=DATE:20250901
DTEND;VALUE=DATE:20250902
DTSTAMP:20260422T155125
CREATED:20230828T125043Z
LAST-MODIFIED:20230828T125043Z
UID:10000861-1756684800-1756771199@www.rutlandtown.com
SUMMARY:Town Hall Closed
DESCRIPTION:Town Hall will be closed in observance on Labor Day.
URL:https://www.rutlandtown.com/event/town-hall-closed-13/2025-09-01/
LOCATION:Town of Rutland Municipal Building\, 181Business Route 4\, Center Rutland\, VT\, 05736\, United States
CATEGORIES:Municipal Date
END:VEVENT
BEGIN:VEVENT
DTSTART;TZID=UTC:20250909T180000
DTEND;TZID=UTC:20250909T210000
DTSTAMP:20260422T155125
CREATED:20250904T153059Z
LAST-MODIFIED:20250904T153059Z
UID:10001276-1757440800-1757451600@www.rutlandtown.com
SUMMARY:Selectboard Meeting
DESCRIPTION:Click HERE to join the meeting remotely. \nSelectboard Agenda 9-9-2025 \nTOWN OF RUTLAND SELECTBOARD MEETING NOTICE AND AGENDA \nMUNICIPAL TOWN HALL AND ZOOM CONFERENCING \n6:00 PM Tuesday September 9th\, 2025 \nTo participate via zoom please visit zoom.us/join or call (646) 558-8656 and enter meeting ID 939 1518 8696. \nMeeting Opening \n\nPledge of Allegiance\nApproval of Selectboard Minutes:\n\nAugust 26th Regular Meeting\n\n\nApproval of Orders\nBoard Member Announcements\nUpdate from the Selectboard Chair\nQuestions from the floor; public comments\n\nDepartment Head Reports \n\nMike Rowe – Town Recreation Director\nDave Sears – Town Road Commissioner\nEd Dumas – Town Police Chief\nMarcia Chioffi – Town Head Lister\nChris Clark – Town Fire Chief\nKari Clark – Town Clerk & Treasurer\nMike Delehanty – Town 1st Constable\nJoe Denardo – Public Safety Building Clerk\nJohn Paul Faignant – Town Health Officer / 2nd Constable\nBarbara Pulling – Town Planning Commission Chair\nLarry Dell Veneri – Town Transfer Station Manager\nBill Sweet – Town Administrator\n\nAction items \n\nBoard to review for approval letter to Joe Anthony\nBoard to appoint an intermunicipal team to coordinate with the City for the State 250th anniversary\nBoard to discuss budget planning for the next fiscal year\nUpdate the Selectboard project list\nCommittee meeting reports\nReminder of meeting on September 16th with Town Counsel
URL:https://www.rutlandtown.com/event/select-board-meeting-2-26/
LOCATION:Town of Rutland Municipal Building\, 181Business Route 4\, Center Rutland\, VT\, 05736\, United States
CATEGORIES:Select Board
END:VEVENT
BEGIN:VEVENT
DTSTART;TZID=UTC:20250911T090000
DTEND;TZID=UTC:20250911T100000
DTSTAMP:20260422T155125
CREATED:20250908T154126Z
LAST-MODIFIED:20250908T154126Z
UID:10001560-1757581200-1757584800@www.rutlandtown.com
SUMMARY:Highway Committee Meeting
DESCRIPTION:Highway Committee Agenda 9-11-2025 \nRUTLAND TOWN SELECTBOARD HIGHWAY COMMITTEE MEETING \nThursday\, September 11th\, 9:00AM \nLocation: Rutland Town Municipal Town Hall and Zoom Conferencing \nTo join via zoom call (646) 558-8656 or visit zoom.us/join and enter meeting ID 851 9094 1198. \nAgenda: \n\nDiscuss the addition of a diesel tank at the salt shed\nDiscuss the Stratton Road culvert replacement\nReview the inventory record list\nReview the 5-year plan\nAny other business
URL:https://www.rutlandtown.com/event/highway-committee-meeting-27/
LOCATION:Town of Rutland Municipal Building\, 181Business Route 4\, Center Rutland\, VT\, 05736\, United States
CATEGORIES:Committee Meeting
END:VEVENT
BEGIN:VEVENT
DTSTART;TZID=UTC:20250911T183000
DTEND;TZID=UTC:20250911T200000
DTSTAMP:20260422T155125
CREATED:20250908T124300Z
LAST-MODIFIED:20250908T124300Z
UID:10001422-1757615400-1757620800@www.rutlandtown.com
SUMMARY:Planning Commission Meeting
DESCRIPTION:Click HERE to join the meeting remotely. \nPlanning Commission Agenda 9-11-2025 \n TOWN OF RUTLAND PLANNING COMMISSION AGENDA \nThursday\, September 11\, 2025 \nLocation: Rutland Town Municipal Town Hall and Zoom Conferencing \nOpen Meeting – 6:30 PM  \nTo participate via Zoom\, please call (646) 558-8656 or visit zoom.us/join and enter meeting ID 985 4127 6671. \nCall to Order/ Pledge of Allegiance \nApproval of Agenda  \nPublic Comment \nNew Business \nBoundary Line Adjustment\, Baird and Levins parcels\, McKinley Ave. \nOld Business \n\nSubdivision Bylaw – Ferrisburgh (initial review pp. 53-59)\n\nAnnouncements \nMinutes  \nJuly 10 and July 31\, 2025 \nAdjournment
URL:https://www.rutlandtown.com/event/town-of-rutland-planning-commission-meeting-2-2021-12-09-2022-01-27-2023-01-19-2023-04-20-9-31/
LOCATION:Town of Rutland Municipal Building\, 181Business Route 4\, Center Rutland\, VT\, 05736\, United States
CATEGORIES:Planning Commission
END:VEVENT
BEGIN:VEVENT
DTSTART;TZID=UTC:20250916T163000
DTEND;TZID=UTC:20250916T180000
DTSTAMP:20260422T155125
CREATED:20250909T212855Z
LAST-MODIFIED:20250910T120400Z
UID:10001561-1758040200-1758045600@www.rutlandtown.com
SUMMARY:Rec Committee Meeting
DESCRIPTION:Rec Committee Agenda 9-16-2025 \nRUTLAND TOWN SELECTBOARD COMMITTEE MEETING \nRECREATION COMMITTEE  \nTuesday\, September 16th\, 2025\, 4:30PM \nLocation: Rutland Town Municipal Town Hall and Zoom Conferencing \nTo join via zoom call (646) 558-8656 or visit zoom.us/join and enter meeting ID 851 9094 1198. \nAgenda: \n\nBackground check policy update\nNew pool info\nPool work needed\nReview of the 5-year plan\nReview of the inventory list\nAny other business
URL:https://www.rutlandtown.com/event/rec-committee-meeting-13/
LOCATION:Town of Rutland Municipal Building\, 181Business Route 4\, Center Rutland\, VT\, 05736\, United States
CATEGORIES:Committee Meeting
END:VEVENT
BEGIN:VEVENT
DTSTART;TZID=UTC:20250916T180000
DTEND;TZID=UTC:20250916T200000
DTSTAMP:20260422T155125
CREATED:20250910T165027Z
LAST-MODIFIED:20250910T165027Z
UID:10001562-1758045600-1758052800@www.rutlandtown.com
SUMMARY:Special Selectboard Meeting
DESCRIPTION:Special Selectboard Meeting Agenda 9-16-2025 \nTOWN OF RUTLAND SELECTBOARD MEETING NOTICE AND AGENDA \nMUNICIPAL TOWN HALL AND ZOOM CONFERENCING \n6:00 PM Tuesday\, September 16th\, 2025 \nTo participate via zoom please visit zoom.us/join or call (646) 558-8656 and enter meeting ID 939 1518 8696. \n  \nMeeting topics \n\nBoard to meet in executive session with the Town Attorney\nAny other business
URL:https://www.rutlandtown.com/event/special-selectboard-meeting-10/
LOCATION:Town of Rutland Municipal Building\, 181Business Route 4\, Center Rutland\, VT\, 05736\, United States
CATEGORIES:Select Board
END:VEVENT
BEGIN:VEVENT
DTSTART;TZID=UTC:20250923T180000
DTEND;TZID=UTC:20250923T210000
DTSTAMP:20260422T155125
CREATED:20250918T161309Z
LAST-MODIFIED:20250918T161309Z
UID:10001277-1758650400-1758661200@www.rutlandtown.com
SUMMARY:Selectboard Meeting
DESCRIPTION:Click HERE to join the meeting remotely. \nSelectboard Agenda 9-23-2025 \nTOWN OF RUTLAND SELECTBOARD MEETING NOTICE AND AGENDA \nMUNICIPAL TOWN HALL AND ZOOM CONFERENCING \n6:00 PM Tuesday September 23rd\, 2025 \nTo participate via zoom please visit zoom.us/join or call (646) 558-8656 and enter meeting ID 939 1518 8696. \nhttps://us06web.zoom.us/j/93915188696 \nMeeting Opening \n\nPledge of Allegiance\nApproval of Selectboard Minutes:\n\nSeptember 9th Regular Meeting\nSeptember 16th Special Meeting\n\n\nApproval of Orders\nBoard Member Announcements\nUpdate from the Selectboard Chair\nQuestions from the floor; public comments\n\nDepartment Head Reports \n\nEd Dumas – Town Police Chief\nMike Rowe – Town Recreation Director\nDave Sears – Town Road Commissioner\nLarry Dell Veneri – Town Transfer Station Manager\nMarcia Chioffi – Town Head Lister\nChris Clark – Town Fire Chief\nKari Clark – Town Clerk & Treasurer\nMike Delehanty – Town 1st Constable\nJoe Denardo – Public Safety Building Clerk\nJohn Paul Faignant – Town Health Officer / 2nd Constable\nBarbara Pulling – Town Planning Commission Chair\nBill Sweet – Town Administrator\n\nAction items \n\nBoard to review for approval LHMP adoption form\nUpdate the Selectboard project list\nCommittee meeting reports – Highway & Rec
URL:https://www.rutlandtown.com/event/select-board-meeting-2-27/
LOCATION:Town of Rutland Municipal Building\, 181Business Route 4\, Center Rutland\, VT\, 05736\, United States
CATEGORIES:Select Board
END:VEVENT
BEGIN:VEVENT
DTSTART;TZID=UTC:20250930T163000
DTEND;TZID=UTC:20250930T173000
DTSTAMP:20260422T155125
CREATED:20250922T193445Z
LAST-MODIFIED:20250922T193445Z
UID:10001566-1759249800-1759253400@www.rutlandtown.com
SUMMARY:Rec Committee Meeting
DESCRIPTION:Rec Committee Agenda 9-30-2025 \nRUTLAND TOWN SELECTBOARD  \nRECREATION COMMITTEE MEETING \nTuesday\, September 30th\, 2025\, 4:30PM \nLocation: Rutland Town Municipal Town Hall and Zoom Conferencing \nTo join via zoom call (646) 558-8656 or visit zoom.us/join and enter meeting ID 851 9094 1198. \nAgenda: \n\nPersonnel budget\nPool repair\nPool replacement options\nAny other business
URL:https://www.rutlandtown.com/event/rec-committee-meeting-14/
LOCATION:Town of Rutland Municipal Building\, 181Business Route 4\, Center Rutland\, VT\, 05736\, United States
CATEGORIES:Committee Meeting
END:VEVENT
END:VCALENDAR