BEGIN:VCALENDAR
VERSION:2.0
PRODID:-//The Town of Rutland, Vermont - ECPv6.15.20//NONSGML v1.0//EN
CALSCALE:GREGORIAN
METHOD:PUBLISH
X-ORIGINAL-URL:https://www.rutlandtown.com
X-WR-CALDESC:Events for The Town of Rutland, Vermont
REFRESH-INTERVAL;VALUE=DURATION:PT1H
X-Robots-Tag:noindex
X-PUBLISHED-TTL:PT1H
BEGIN:VTIMEZONE
TZID:UTC
BEGIN:STANDARD
TZOFFSETFROM:+0000
TZOFFSETTO:+0000
TZNAME:UTC
DTSTART:20260101T000000
END:STANDARD
END:VTIMEZONE
BEGIN:VEVENT
DTSTART;TZID=UTC:20271102T180000
DTEND;TZID=UTC:20271102T210000
DTSTAMP:20260422T084503
CREATED:20240913T121329Z
LAST-MODIFIED:20241126T202850Z
UID:10001332-1825178400-1825189200@www.rutlandtown.com
SUMMARY:Selectboard Meeting
DESCRIPTION:The agenda will be posted once it is finalized. \nClick HERE to join the meeting remotely.
URL:https://www.rutlandtown.com/event/select-board-meeting-2/2027-11-02/
LOCATION:Town of Rutland Municipal Building\, 181Business Route 4\, Center Rutland\, VT\, 05736\, United States
CATEGORIES:Select Board
END:VEVENT
BEGIN:VEVENT
DTSTART;TZID=UTC:20271111T183000
DTEND;TZID=UTC:20271111T200000
DTSTAMP:20260422T084503
CREATED:20231221T182044Z
LAST-MODIFIED:20251209T145128Z
UID:10001626-1825957800-1825963200@www.rutlandtown.com
SUMMARY:Planning Commission Meeting
DESCRIPTION:The agenda will be published once it is finalized. \nClick HERE to join the meeting remotely.
URL:https://www.rutlandtown.com/event/town-of-rutland-planning-commission-meeting-2-2021-12-09-2022-01-27-2023-01-19-2023-04-20-9/2027-11-11/
LOCATION:Town of Rutland Municipal Building\, 181Business Route 4\, Center Rutland\, VT\, 05736\, United States
CATEGORIES:Planning Commission
END:VEVENT
BEGIN:VEVENT
DTSTART;TZID=UTC:20271116T180000
DTEND;TZID=UTC:20271116T210000
DTSTAMP:20260422T084503
CREATED:20240913T121329Z
LAST-MODIFIED:20241126T202850Z
UID:10001333-1826388000-1826398800@www.rutlandtown.com
SUMMARY:Selectboard Meeting
DESCRIPTION:The agenda will be posted once it is finalized. \nClick HERE to join the meeting remotely.
URL:https://www.rutlandtown.com/event/select-board-meeting-2/2027-11-16/
LOCATION:Town of Rutland Municipal Building\, 181Business Route 4\, Center Rutland\, VT\, 05736\, United States
CATEGORIES:Select Board
END:VEVENT
BEGIN:VEVENT
DTSTART;TZID=UTC:20271130T180000
DTEND;TZID=UTC:20271130T210000
DTSTAMP:20260422T084503
CREATED:20240913T121329Z
LAST-MODIFIED:20241126T202850Z
UID:10001334-1827597600-1827608400@www.rutlandtown.com
SUMMARY:Selectboard Meeting
DESCRIPTION:The agenda will be posted once it is finalized. \nClick HERE to join the meeting remotely.
URL:https://www.rutlandtown.com/event/select-board-meeting-2/2027-11-30/
LOCATION:Town of Rutland Municipal Building\, 181Business Route 4\, Center Rutland\, VT\, 05736\, United States
CATEGORIES:Select Board
END:VEVENT
END:VCALENDAR