BEGIN:VCALENDAR
VERSION:2.0
PRODID:-//The Town of Rutland, Vermont - ECPv6.15.20//NONSGML v1.0//EN
CALSCALE:GREGORIAN
METHOD:PUBLISH
X-WR-CALNAME:The Town of Rutland, Vermont
X-ORIGINAL-URL:https://www.rutlandtown.com
X-WR-CALDESC:Events for The Town of Rutland, Vermont
REFRESH-INTERVAL;VALUE=DURATION:PT1H
X-Robots-Tag:noindex
X-PUBLISHED-TTL:PT1H
BEGIN:VTIMEZONE
TZID:UTC
BEGIN:STANDARD
TZOFFSETFROM:+0000
TZOFFSETTO:+0000
TZNAME:UTC
DTSTART:20200101T000000
END:STANDARD
END:VTIMEZONE
BEGIN:VEVENT
DTSTART;TZID=UTC:20210727T113000
DTEND;TZID=UTC:20210727T130000
DTSTAMP:20260426T002757
CREATED:20210707T142728Z
LAST-MODIFIED:20210707T142728Z
UID:10000563-1627385400-1627390800@www.rutlandtown.com
SUMMARY:Rutland Town Seniors Luncheon
DESCRIPTION:Our next luncheon for the Rutland Town Seniors is planned! \nPlease contact Mike Rowe or Jim Hall if you would like to attend!
URL:https://www.rutlandtown.com/event/rutland-town-seniors-luncheon-2/
LOCATION:Northwood Park\, 185 Northwood Park Road\, Rutland\, 05701
CATEGORIES:Community
END:VEVENT
BEGIN:VEVENT
DTSTART;TZID=UTC:20210727T170000
DTEND;TZID=UTC:20210727T180000
DTSTAMP:20260426T002757
CREATED:20210721T193742Z
LAST-MODIFIED:20210723T171704Z
UID:10000600-1627405200-1627408800@www.rutlandtown.com
SUMMARY:Select Board Meeting for the Tax Rate
DESCRIPTION:Select Board Meeting for the Tax Rate 7-27-2021 \nTOWN OF RUTLAND SELECT BOARD \nPUBLIC MEETING AGENDA FOR TUESDAY JULY 27th\, 2021 \n Location: Rutland Town Municipal Town Hall and Zoom Conferencing \nOpen Meeting – 5:00 PM \n  \nTo attend in person\, you must be considered fully vaccinated against the covid-19 virus. \nIf you are not\, please use our zoom option to attend remotely. \nTo participate via zoom please call (646) 558-8656 or visit zoom.us/join and enter meeting ID 939 1518 8696. \n  \nMeeting Opening \n\nPledge of Allegiance\n\nNew Business \n\nBoard to discuss setting the new tax rate\nAny other new business
URL:https://www.rutlandtown.com/event/select-board-meeting-for-the-tax-rate-7-27-2021/
LOCATION:Town of Rutland Municipal Building\, 181Business Route 4\, Center Rutland\, VT\, 05736\, United States
CATEGORIES:Select Board
END:VEVENT
BEGIN:VEVENT
DTSTART;TZID=UTC:20210729T090000
DTEND;TZID=UTC:20210729T100000
DTSTAMP:20260426T002757
CREATED:20210723T165735Z
LAST-MODIFIED:20210723T171649Z
UID:10000602-1627549200-1627552800@www.rutlandtown.com
SUMMARY:Water and Sewer Committee Meeting
DESCRIPTION:Water and Sewer Committee Agenda 7-29-2021 \nTOWN OF RUTLAND \nWATER & SEWER COMMITTEE MEETING \nThursday July 29th\,2021 9:00 AM \nLocation: Rutland Town Municipal Building\, or Zoom Conference Call Line \nTo participate via zoom call (646) 558-8656 or \nvisit Zoom.us/join and enter meeting ID 939 1518 8696. \n  \nAgenda: \n\nExtending the Post Road water line\, meet with Robert Clark\nAny other business
URL:https://www.rutlandtown.com/event/water-and-sewer-committee-agenda-7-29-2021/
LOCATION:Town of Rutland Municipal Building\, 181Business Route 4\, Center Rutland\, VT\, 05736\, United States
CATEGORIES:Committee Meeting
END:VEVENT
END:VCALENDAR