BEGIN:VCALENDAR
VERSION:2.0
PRODID:-//The Town of Rutland, Vermont - ECPv6.15.20//NONSGML v1.0//EN
CALSCALE:GREGORIAN
METHOD:PUBLISH
X-ORIGINAL-URL:https://www.rutlandtown.com
X-WR-CALDESC:Events for The Town of Rutland, Vermont
REFRESH-INTERVAL;VALUE=DURATION:PT1H
X-Robots-Tag:noindex
X-PUBLISHED-TTL:PT1H
BEGIN:VTIMEZONE
TZID:America/New_York
BEGIN:DAYLIGHT
TZOFFSETFROM:-0500
TZOFFSETTO:-0400
TZNAME:EDT
DTSTART:20200308T070000
END:DAYLIGHT
BEGIN:STANDARD
TZOFFSETFROM:-0400
TZOFFSETTO:-0500
TZNAME:EST
DTSTART:20201101T060000
END:STANDARD
BEGIN:DAYLIGHT
TZOFFSETFROM:-0500
TZOFFSETTO:-0400
TZNAME:EDT
DTSTART:20210314T070000
END:DAYLIGHT
BEGIN:STANDARD
TZOFFSETFROM:-0400
TZOFFSETTO:-0500
TZNAME:EST
DTSTART:20211107T060000
END:STANDARD
BEGIN:DAYLIGHT
TZOFFSETFROM:-0500
TZOFFSETTO:-0400
TZNAME:EDT
DTSTART:20220313T070000
END:DAYLIGHT
BEGIN:STANDARD
TZOFFSETFROM:-0400
TZOFFSETTO:-0500
TZNAME:EST
DTSTART:20221106T060000
END:STANDARD
END:VTIMEZONE
BEGIN:VEVENT
DTSTART;TZID=America/New_York:20210817T180000
DTEND;TZID=America/New_York:20210817T200000
DTSTAMP:20260426T015728
CREATED:20210628T161919Z
LAST-MODIFIED:20210812T175957Z
UID:10000433-1629223200-1629230400@www.rutlandtown.com
SUMMARY:Town of Rutland Select Board Meeting
DESCRIPTION:Selectboard Agenda 8-17-2021 \nTOWN OF RUTLAND SELECT BOARD \nPUBLIC MEETING AGENDA FOR TUESDAY AUGUST 17th\, 2021 \n Location: Rutland Town Municipal Town Hall and Zoom Conferencing \nOpen Meeting – 6:00 PM \n  \nTo attend in person\, you must be considered fully vaccinated against the covid-19 virus. \nIf you are not\, please use our zoom option to attend remotely. \nTo participate via zoom please call (646) 558-8656 or visit zoom.us/join and enter meeting ID 939 1518 8696. \nMeeting Opening \n\nPledge of Allegiance\nApproval of Orders\nApproval of Select Board Minutes: August 3rd\n\nQuestions from the floor: Public Comment \n\nAny member of the public who is not already included on the agenda.\n\nDepartment Head Reports \n\nEd Dumas – Town Police Chief\nChris Clark – Town Fire Chief\nKari Clark – Town Clerk & Treasurer\nByron Hathaway – Town Road Commissioner\nMike Rowe – Town Recreation Director\nBarbara Pulling – Town Planning Commission Chair\nBill Sweet – Town Administrative Assistant\nJP Faignant – Town Health Officer\nCommittee Meeting Updates / Schedule Committee Meetings\n\nPublic Safety Building\, Inter-municipal\, Building / Technology\, Personnel\, Transfer Station\n\n\nUpdate on Project List\n\nNew Business \n\nBoard to review for approval\, Agreement for Professional Services with MSK Engineering\nBoard to review for approval\, Grant Award for the Post Road Sidewalk\nBoard to hold Public Concern Hearing for the Route 7 North Scoping Study with the Dufresne Group at 630PM\nBoard to review Fire District VLCT reimbursement request letters\nBoard to review draft letter to be sent to BAI Rutland\, LLC\nBoard to discuss the personnel policy and who should be signing it\nBoard to discuss succession planning and storage of department records\nBoard to meet in Executive Session with Town Lister Howard Burgess\nAny other new business\n\nOld Business \n\nAny old business
URL:https://www.rutlandtown.com/event/select-board-meeting-2021-07-20-2021-08-17/
LOCATION:Town of Rutland Municipal Building\, 181Business Route 4\, Center Rutland\, VT\, 05736\, United States
CATEGORIES:Select Board
END:VEVENT
END:VCALENDAR