BEGIN:VCALENDAR
VERSION:2.0
PRODID:-//The Town of Rutland, Vermont - ECPv6.15.20//NONSGML v1.0//EN
CALSCALE:GREGORIAN
METHOD:PUBLISH
X-ORIGINAL-URL:https://www.rutlandtown.com
X-WR-CALDESC:Events for The Town of Rutland, Vermont
REFRESH-INTERVAL;VALUE=DURATION:PT1H
X-Robots-Tag:noindex
X-PUBLISHED-TTL:PT1H
BEGIN:VTIMEZONE
TZID:UTC
BEGIN:STANDARD
TZOFFSETFROM:+0000
TZOFFSETTO:+0000
TZNAME:UTC
DTSTART:20200101T000000
END:STANDARD
END:VTIMEZONE
BEGIN:VEVENT
DTSTART;TZID=UTC:20211005T180000
DTEND;TZID=UTC:20211005T190000
DTSTAMP:20260425T160807
CREATED:20210930T154407Z
LAST-MODIFIED:20210930T154407Z
UID:10000432-1633456800-1633460400@www.rutlandtown.com
SUMMARY:Highway & Personnel Committee Meeting
DESCRIPTION:Highway & Personnel Committee Meeting 10-5-2021 \nTOWN OF RUTLAND \nHIGHWAY COMMITTEE AND \nPERSONNEL COMMITTEE MEETING \nTuesday October 5th\,2021 6:00 PM \nLocation: Town Hall. To attend\, masks are required \nAgenda: \n\nDiscuss succession planning for the Road Commissioner Position\nAny other business
URL:https://www.rutlandtown.com/event/highway-personnel-committee-meeting/
LOCATION:Town of Rutland Municipal Building\, 181Business Route 4\, Center Rutland\, VT\, 05736\, United States
CATEGORIES:Committee Meeting
END:VEVENT
BEGIN:VEVENT
DTSTART;TZID=UTC:20211006T110000
DTEND;TZID=UTC:20211006T120000
DTSTAMP:20260425T160807
CREATED:20210930T135542Z
LAST-MODIFIED:20211004T154200Z
UID:10000430-1633518000-1633521600@www.rutlandtown.com
SUMMARY:Police Committee Meeting 10-6-2021
DESCRIPTION:Police Committee Agenda 10-6-2021 \nTOWN OF RUTLAND \nPOLICE COMMITTEE MEETING \nWednesday October 6th\,2021 11:00 AM \nLocation: Town Hall. To attend\, masks are required. \n  \nAgenda: \n\nDiscuss 1st Constable position\nAny other business
URL:https://www.rutlandtown.com/event/police-committee-agenda-10-6-2021/
LOCATION:Town of Rutland Municipal Building\, 181Business Route 4\, Center Rutland\, VT\, 05736\, United States
CATEGORIES:Committee Meeting
END:VEVENT
BEGIN:VEVENT
DTSTART;TZID=UTC:20211007T183000
DTEND;TZID=UTC:20211007T200000
DTSTAMP:20260425T160807
CREATED:20210715T124556Z
LAST-MODIFIED:20211004T124902Z
UID:10000366-1633631400-1633636800@www.rutlandtown.com
SUMMARY:Town of Rutland Planning Commission Meeting
DESCRIPTION:Click HERE to join the meeting remotely. \nPlanning Commission Agenda 10-7-2021 \nTOWN OF RUTLAND PLANNING COMMISSION AGENDA \nTHURSDAY\, October 7\, 2021 \nLocation: Rutland Town Municipal Town Hall and Zoom Conferencing \nOpen Meeting – 6:30 PM \n  \nTo attend in person\, you must wear a mask and be fully vaccinated. \nIf you are not\, please use our zoom option to attend remotely. \nTo participate via zoom please call (646) 558-8656 or visit zoom.us/join and enter meeting ID 985 4127 6671. \n  \n  \nCall to Order/ Pledge of Allegiance \n  \nApproval of Agenda \n  \nPublic Comment \n  \nNew Business \n\nStormwater Online Map link on town webpage\n\n  \nOld Business \n\nMcKinley Avenue boundary line adjustments\nFinalize model rules of procedure\nCompile a list of questions for VLCT assistance on ordinances – current and proposed\n\n  \nAnnouncements/News \n\nPocket Park update\n\n  \nApproval of Minutes \n\nSeptember 16\, 2021\n\n  \nAdjournment
URL:https://www.rutlandtown.com/event/town-of-rutland-planning-commission-meeting-2-2021-10-07/
LOCATION:Town of Rutland Municipal Building\, 181Business Route 4\, Center Rutland\, VT\, 05736\, United States
CATEGORIES:Planning Commission
END:VEVENT
BEGIN:VEVENT
DTSTART;TZID=UTC:20211009T083000
DTEND;TZID=UTC:20211009T123000
DTSTAMP:20260425T160807
CREATED:20210921T144947Z
LAST-MODIFIED:20210921T150913Z
UID:10000571-1633768200-1633782600@www.rutlandtown.com
SUMMARY:Fall Household Hazardous Waste Disposal Event
DESCRIPTION:2021 Fall Hazardous Waste Notice\n\nLink to the Facebook Event – HERE.\n\nPlease note\, the fall event location is at the Town of Fair Haven. NO hazardous waste drop off will be accepted at Northwood Park under any circumstance. Please see the notice using the link at the top of the post.\n\nDue to Covid-19\, hazardous waste dates are subject to change/cancellation. Please visit the SWAC website at www.rutlandcountyswac.org for up to date information.\n\nSince the Town of Rutland is a SWAC member\, all Town residents can use this drop off site free of charge.
URL:https://www.rutlandtown.com/event/fall-household-hazardous-waste-disposal-event/
CATEGORIES:Community
END:VEVENT
END:VCALENDAR