BEGIN:VCALENDAR
VERSION:2.0
PRODID:-//The Town of Rutland, Vermont - ECPv6.15.20//NONSGML v1.0//EN
CALSCALE:GREGORIAN
METHOD:PUBLISH
X-ORIGINAL-URL:https://www.rutlandtown.com
X-WR-CALDESC:Events for The Town of Rutland, Vermont
REFRESH-INTERVAL;VALUE=DURATION:PT1H
X-Robots-Tag:noindex
X-PUBLISHED-TTL:PT1H
BEGIN:VTIMEZONE
TZID:UTC
BEGIN:STANDARD
TZOFFSETFROM:+0000
TZOFFSETTO:+0000
TZNAME:UTC
DTSTART:20200101T000000
END:STANDARD
END:VTIMEZONE
BEGIN:VTIMEZONE
TZID:America/New_York
BEGIN:DAYLIGHT
TZOFFSETFROM:-0500
TZOFFSETTO:-0400
TZNAME:EDT
DTSTART:20200308T070000
END:DAYLIGHT
BEGIN:STANDARD
TZOFFSETFROM:-0400
TZOFFSETTO:-0500
TZNAME:EST
DTSTART:20201101T060000
END:STANDARD
BEGIN:DAYLIGHT
TZOFFSETFROM:-0500
TZOFFSETTO:-0400
TZNAME:EDT
DTSTART:20210314T070000
END:DAYLIGHT
BEGIN:STANDARD
TZOFFSETFROM:-0400
TZOFFSETTO:-0500
TZNAME:EST
DTSTART:20211107T060000
END:STANDARD
BEGIN:DAYLIGHT
TZOFFSETFROM:-0500
TZOFFSETTO:-0400
TZNAME:EDT
DTSTART:20220313T070000
END:DAYLIGHT
BEGIN:STANDARD
TZOFFSETFROM:-0400
TZOFFSETTO:-0500
TZNAME:EST
DTSTART:20221106T060000
END:STANDARD
END:VTIMEZONE
BEGIN:VEVENT
DTSTART;VALUE=DATE:20211011
DTEND;VALUE=DATE:20211012
DTSTAMP:20260425T165026
CREATED:20210630T184433Z
LAST-MODIFIED:20210630T184433Z
UID:10000558-1633910400-1633996799@www.rutlandtown.com
SUMMARY:Town Hall Closed
DESCRIPTION:Town Hall will be closed in observance of Indigenous Peoples Day
URL:https://www.rutlandtown.com/event/town-hall-closed-3/
END:VEVENT
BEGIN:VEVENT
DTSTART;TZID=America/New_York:20211012T180000
DTEND;TZID=America/New_York:20211012T200000
DTSTAMP:20260425T165026
CREATED:20210628T161919Z
LAST-MODIFIED:20211007T190630Z
UID:10000422-1634061600-1634068800@www.rutlandtown.com
SUMMARY:Town of Rutland Selectboard Meeting
DESCRIPTION:Selectboard Agenda 10-12-2021 \nClick HERE to join the meeting remotely. \nTOWN OF RUTLAND SELECTBOARD \nPUBLIC MEETING AGENDA FOR TUESDAY OCTOBER 12th\, 2021 \n  \nLocation: Rutland Town Municipal Town Hall and Zoom Conferencing \nOpen Meeting – 6:00 PM \n  \nTo attend in person\, masks are required\, and you must be considered fully vaccinated against the covid-19 virus. \nIf you are not\, please use our zoom option to attend remotely. \nTo participate via zoom please call (646) 558-8656 or visit zoom.us/join and enter meeting ID 939 1518 8696. \nMeeting Opening \n\nPledge of Allegiance\nApproval of Orders\nApproval of Selectboard Minutes: September 28th\n\n  \nQuestions from the floor: Public Comment \n\nAny member of the public who is not already included on the agenda.\n\nDepartment Head Reports \n\nByron Hathaway – Town Road Commissioner\nBarbara Pulling – Town Planning Commission Chair\nKari Clark – Town Clerk & Treasurer\nEd Dumas – Town Police Chief\nChris Clark – Town Fire Chief\nMike Rowe – Town Recreation Director\nBill Sweet – Town Administrative Assistant\nJP Faignant – Town Health Officer\nCommittee Meeting Updates / Schedule Committee Meetings\n\nPersonnel and Highway\nPolice\n\n\nUpdate on Project List\n\n  \nNew Business \n\nBoard to review for approval\, sewer discharge allocation and water connection request\nBoard to review contract from Cott Systems for digitizing land records\nBoard to discuss tabled motion from September 28th\, Contract with Department of Children and Families\nBoard to discuss tabled motion from September 14th\, Approving the CEDRR maintenance request.\nAny other new business\n\n  \nOld Business \n\nBoard to discuss succession planning and storage of department records\nBoard to meet with representatives for the Diamond Run Mall property to discuss security options\nAny old business\n\n 
URL:https://www.rutlandtown.com/event/select-board-meeting-2021-07-20-2021-08-31-2021-10-12/
LOCATION:Town of Rutland Municipal Building\, 181Business Route 4\, Center Rutland\, VT\, 05736\, United States
CATEGORIES:Select Board
END:VEVENT
END:VCALENDAR