BEGIN:VCALENDAR
VERSION:2.0
PRODID:-//The Town of Rutland, Vermont - ECPv6.15.20//NONSGML v1.0//EN
CALSCALE:GREGORIAN
METHOD:PUBLISH
X-WR-CALNAME:The Town of Rutland, Vermont
X-ORIGINAL-URL:https://www.rutlandtown.com
X-WR-CALDESC:Events for The Town of Rutland, Vermont
REFRESH-INTERVAL;VALUE=DURATION:PT1H
X-Robots-Tag:noindex
X-PUBLISHED-TTL:PT1H
BEGIN:VTIMEZONE
TZID:UTC
BEGIN:STANDARD
TZOFFSETFROM:+0000
TZOFFSETTO:+0000
TZNAME:UTC
DTSTART:20200101T000000
END:STANDARD
END:VTIMEZONE
BEGIN:VTIMEZONE
TZID:America/New_York
BEGIN:DAYLIGHT
TZOFFSETFROM:-0500
TZOFFSETTO:-0400
TZNAME:EDT
DTSTART:20200308T070000
END:DAYLIGHT
BEGIN:STANDARD
TZOFFSETFROM:-0400
TZOFFSETTO:-0500
TZNAME:EST
DTSTART:20201101T060000
END:STANDARD
BEGIN:DAYLIGHT
TZOFFSETFROM:-0500
TZOFFSETTO:-0400
TZNAME:EDT
DTSTART:20210314T070000
END:DAYLIGHT
BEGIN:STANDARD
TZOFFSETFROM:-0400
TZOFFSETTO:-0500
TZNAME:EST
DTSTART:20211107T060000
END:STANDARD
BEGIN:DAYLIGHT
TZOFFSETFROM:-0500
TZOFFSETTO:-0400
TZNAME:EDT
DTSTART:20220313T070000
END:DAYLIGHT
BEGIN:STANDARD
TZOFFSETFROM:-0400
TZOFFSETTO:-0500
TZNAME:EST
DTSTART:20221106T060000
END:STANDARD
END:VTIMEZONE
BEGIN:VEVENT
DTSTART;TZID=UTC:20211213T090000
DTEND;TZID=UTC:20211213T100000
DTSTAMP:20260425T032945
CREATED:20211209T151223Z
LAST-MODIFIED:20211209T151223Z
UID:10000623-1639386000-1639389600@www.rutlandtown.com
SUMMARY:Highway Commitee Meeting
DESCRIPTION:Highway Commitee Meeting 12-13-2021 \nRUTLAND TOWN SELECTBOARD COMMITTEE MEETING \nHIGHWAY COMMITTEE  \nMonday December 13th \,2021 9:00 AM \nLocation: Rutland Town Municipal Town Hall and Zoom Conferencing \n To attend in person\, masks are required\, and you must be considered fully vaccinated against the covid-19 virus. \nIf you are not\, please use our zoom option to attend remotely. \nTo participate via zoom please call (646) 558-8656 or visit zoom.us/join and enter meeting ID 939 1518 8696. \nAgenda: \n\nDiscuss supplemental pay for the highway crew\nReview application for the Road Commissioner position\nDiscuss winter plow contractor process\nAny other business
URL:https://www.rutlandtown.com/event/highway-commitee-meeting/
LOCATION:Town of Rutland Municipal Building\, 181Business Route 4\, Center Rutland\, VT\, 05736\, United States
CATEGORIES:Committee Meeting
END:VEVENT
BEGIN:VEVENT
DTSTART;TZID=UTC:20211214T170000
DTEND;TZID=UTC:20211214T180000
DTSTAMP:20260425T032945
CREATED:20211208T144814Z
LAST-MODIFIED:20211208T144814Z
UID:10000622-1639501200-1639504800@www.rutlandtown.com
SUMMARY:Public Safety Building Committee Meeting
DESCRIPTION:Public Safety Building Committee Meeting \n  \nRUTLAND TOWN SELECTBOARD COMMITTEE MEETING \nPUBLIC SAFETY BUILDING COMMITTEE  \nTuesday December 14th\, 2021\, 5:00 PM \nLocation: Rutland Town Municipal Town Hall and Zoom Conferencing \n  \nTo attend in person\, masks are required\, and you must be considered fully vaccinated against the covid-19 virus. \nIf you are not\, please use our zoom option to attend remotely. \nTo participate via zoom please call (646) 558-8656 or visit zoom.us/join and enter meeting ID 939 1518 8696. \n  \nAgenda: \n\nDiscuss plans for a new facility.\nAny other business\n\n 
URL:https://www.rutlandtown.com/event/public-safety-building-committee-meeting-2/
LOCATION:Town of Rutland Municipal Building\, 181Business Route 4\, Center Rutland\, VT\, 05736\, United States
CATEGORIES:Committee Meeting
END:VEVENT
BEGIN:VEVENT
DTSTART;TZID=America/New_York:20211214T180000
DTEND;TZID=America/New_York:20211214T200000
DTSTAMP:20260425T032945
CREATED:20211207T205825Z
LAST-MODIFIED:20211208T153354Z
UID:10000607-1639504800-1639512000@www.rutlandtown.com
SUMMARY:Selectboard Budget Planning Meeting
DESCRIPTION:Click HERE to join the meeting remotely. \nTOWN OF RUTLAND SELECTBOARD \nPUBLIC MEETING AGENDA FOR TUESDAY DECEMBER 14th\, 2021 \n Location: Rutland Town Municipal Town Hall and Zoom Conferencing \nOpen Meeting – 6:00 PM \n  \nTo attend in person\, masks are required\, and you must be considered fully vaccinated against the covid-19 virus. \nIf you are not\, please use our zoom option to attend remotely. \nTo participate via zoom please call (646) 558-8656 or visit zoom.us/join and enter meeting ID 939 1518 8696. \nMeeting Opening \n\nPledge of Allegiance\n\nQuestions from the floor: Public Comment \n\nAny member of the public who would like to address the board.\n\nNew Business \n\nBoard to review draft budgets for 2022 – 2023\n\n\n\n\nChris Clark – Town Fire Chief\nEd Dumas – Town Police Chief\nLarry Dell Veneri – Town Transfer Station Manager\nBarbara Pulling – Town Planning Commission Chair\nHoward Burgess – Town Lister\nMike Rowe – Town Recreation Director\nMichael Delehanty – Town First Constable\nJohn Paul Faignant – Town Health Officer / Second Constable\nKari Clark – Town Clerk & Treasurer\nBill Sweet – Town Administrative Assistant\n\n\nAny other new business\n\nOld Business \n\nAny old business\n\n 
URL:https://www.rutlandtown.com/event/selectboard-budget-planning-meeting/
LOCATION:Town of Rutland Municipal Building\, 181Business Route 4\, Center Rutland\, VT\, 05736\, United States
CATEGORIES:Select Board
END:VEVENT
BEGIN:VEVENT
DTSTART;TZID=UTC:20211216T183000
DTEND;TZID=UTC:20211216T200000
DTSTAMP:20260425T032945
CREATED:20210715T124556Z
LAST-MODIFIED:20220103T191954Z
UID:10000369-1639679400-1639684800@www.rutlandtown.com
SUMMARY:Planning Commission Meeting
DESCRIPTION:Planning Commission Agenda 12-16-2021 \nClick HERE to join the meeting remotely. \nTOWN OF RUTLAND PLANNING COMMISSION AGENDA THURSDAY\, December 16\, 2021 \nLocation: Rutland Town Municipal Town Hall and Zoom Conferencing \nOpen Meeting – 6:30 PM \n  \nTo attend in person\, you must wear a mask and be fully vaccinated. \nIf you are not\, please use our zoom option to attend remotely. \nTo participate via zoom please call (646) 558-8656 or visit zoom.us/join and enter meeting ID 985 4127 6671. \n  \nCall to Order/ Pledge of Allegiance \nApproval of Agenda \nPublic Comment \nNew Business \n\nGrandpa’s Knob Community Wind\, Sam Carlson\nVELCO subdivision\, Post Road\n\nOld Business \n\nSubcommittee report on Building Notification ordinance\nReport from Select Board meetings\nPocket Park update\n\nAnnouncements/News \nApproval of Minutes \n\nNovember 18\, 2021\n\n 
URL:https://www.rutlandtown.com/event/town-of-rutland-planning-commission-meeting-2-2021-12-09/
LOCATION:Town of Rutland Municipal Building\, 181Business Route 4\, Center Rutland\, VT\, 05736\, United States
CATEGORIES:Planning Commission
END:VEVENT
END:VCALENDAR