BEGIN:VCALENDAR
VERSION:2.0
PRODID:-//The Town of Rutland, Vermont - ECPv6.15.20//NONSGML v1.0//EN
CALSCALE:GREGORIAN
METHOD:PUBLISH
X-WR-CALNAME:The Town of Rutland, Vermont
X-ORIGINAL-URL:https://www.rutlandtown.com
X-WR-CALDESC:Events for The Town of Rutland, Vermont
REFRESH-INTERVAL;VALUE=DURATION:PT1H
X-Robots-Tag:noindex
X-PUBLISHED-TTL:PT1H
BEGIN:VTIMEZONE
TZID:UTC
BEGIN:STANDARD
TZOFFSETFROM:+0000
TZOFFSETTO:+0000
TZNAME:UTC
DTSTART:20210101T000000
END:STANDARD
END:VTIMEZONE
BEGIN:VEVENT
DTSTART;VALUE=DATE:20220110
DTEND;VALUE=DATE:20220111
DTSTAMP:20260424T154719
CREATED:20210716T171737Z
LAST-MODIFIED:20220216T151800Z
UID:10000592-1641772800-1641859199@www.rutlandtown.com
SUMMARY:2nd Tax Installment Due Date
DESCRIPTION:The second installment of taxes are due by close of business on January 10th\, 2022. \nPayments may be mailed\, delivered to our office\, placed in the drop box next to our front door or made online by going HERE. \nThe drop box is checked at the end of the business day. \nWe do accept postmarks with official USPS postmarks only. We are not responsible for late\, misdirected or incorrectly addressed mail. \nIf you have a question on any previous balance due please contact the office. Notices of prior balances due ARE NOT sent out.
URL:https://www.rutlandtown.com/event/2nd-tax-installment-due-date-2022-07-10/
LOCATION:Town of Rutland Municipal Building\, 181Business Route 4\, Center Rutland\, VT\, 05736\, United States
CATEGORIES:Municipal Date
END:VEVENT
BEGIN:VEVENT
DTSTART;TZID=UTC:20220111T183000
DTEND;TZID=UTC:20220111T210000
DTSTAMP:20260424T154719
CREATED:20211222T174125Z
LAST-MODIFIED:20220111T215036Z
UID:10000626-1641925800-1641934800@www.rutlandtown.com
SUMMARY:Pre-Town Meeting
DESCRIPTION:Pre-Town Meeting will be held virtually for anyone to join and discuss the topics with the Selectboard and the School Board.\n2022 – 2023 Rutland Town Draft Budgets \nMarch 2022 Pre-Town Meeting Ballot Warning \nTo participate via zoom \nBy Phone \nplease call (646) 558-8656 and enter meeting ID 939 1518 8696 \nComputer / Tablet / Smartphone \nClick HERE \n  \nPre-Town Meeting Schedule \n6:30 Meeting begins \n\nRutland Town Selectboard budget presentation\nImmediately following the presentation\, the Selectboard will meet to approve the budgets and warning articles with any changes.\nRutland Town School Board budget presentation will immediately follow\n\nTown Budget Presentations \n\nGeneral Budget – Mary Ashcroft\nPolice Budget – Sharon Russell\nFire Budget – John Paul Faignant\nHighway Budget – Joe Denardo\nRecreation Budget – Don Chioffi\n\nProposed Ballot Item Questions \n\nFire Station Bond – John Paul Faignant and Don Chioffi\nAllowing the sale of cannabis in Town – John Paul Faignant\nShifting funds from cash to open amount – Mary Ashcroft\nIncreasing the Recreation Department depreciation contribution amount – Sharon Russell\nChanging the Road Commissioner position from elected to appointed – Joe Denardo
URL:https://www.rutlandtown.com/event/pre-town-meeting/
LOCATION:VT\, United States
CATEGORIES:Committee Meeting,Municipal Date,Select Board
END:VEVENT
END:VCALENDAR