BEGIN:VCALENDAR
VERSION:2.0
PRODID:-//The Town of Rutland, Vermont - ECPv6.15.20//NONSGML v1.0//EN
CALSCALE:GREGORIAN
METHOD:PUBLISH
X-WR-CALNAME:The Town of Rutland, Vermont
X-ORIGINAL-URL:https://www.rutlandtown.com
X-WR-CALDESC:Events for The Town of Rutland, Vermont
REFRESH-INTERVAL;VALUE=DURATION:PT1H
X-Robots-Tag:noindex
X-PUBLISHED-TTL:PT1H
BEGIN:VTIMEZONE
TZID:America/New_York
BEGIN:DAYLIGHT
TZOFFSETFROM:-0500
TZOFFSETTO:-0400
TZNAME:EDT
DTSTART:20210314T070000
END:DAYLIGHT
BEGIN:STANDARD
TZOFFSETFROM:-0400
TZOFFSETTO:-0500
TZNAME:EST
DTSTART:20211107T060000
END:STANDARD
BEGIN:DAYLIGHT
TZOFFSETFROM:-0500
TZOFFSETTO:-0400
TZNAME:EDT
DTSTART:20220313T070000
END:DAYLIGHT
BEGIN:STANDARD
TZOFFSETFROM:-0400
TZOFFSETTO:-0500
TZNAME:EST
DTSTART:20221106T060000
END:STANDARD
BEGIN:DAYLIGHT
TZOFFSETFROM:-0500
TZOFFSETTO:-0400
TZNAME:EDT
DTSTART:20230312T070000
END:DAYLIGHT
BEGIN:STANDARD
TZOFFSETFROM:-0400
TZOFFSETTO:-0500
TZNAME:EST
DTSTART:20231105T060000
END:STANDARD
END:VTIMEZONE
BEGIN:VEVENT
DTSTART;TZID=America/New_York:20220201T180000
DTEND;TZID=America/New_York:20220201T200000
DTSTAMP:20260424T112352
CREATED:20210628T161919Z
LAST-MODIFIED:20220127T164632Z
UID:10000453-1643738400-1643745600@www.rutlandtown.com
SUMMARY:Selectboard Meeting
DESCRIPTION:Selectboard Agenda 2-1-2022 \nClick HERE to join the meeting remotely. \nTOWN OF RUTLAND SELECTBOARD \nPUBLIC MEETING AGENDA FOR TUESDAY FEBRUARY 1st\, 2022 \n  \nLocation: Rutland Town Municipal Town Hall and Zoom Conferencing \nOpen Meeting – 6:00 PM \n  \nTo attend in person\, masks are required\, and you must be considered fully vaccinated against the covid-19 virus. \nIf you are not\, please use our zoom option to attend remotely. \nTo participate via zoom please call (646) 558-8656 or visit zoom.us/join and enter meeting ID 939 1518 8696. \n Meeting Opening \n\nPledge of Allegiance\nApproval of Orders\nApproval of Selectboard Minutes: January 18th\n\n  \nQuestions from the floor: Public Comment \n\nAny member of the public who is not already included on the agenda.\n\nDepartment Head Reports \n\nBarbara Pulling – Town Planning Commission Chair\nWalt Tripp and Jason Bathalon – Town Highway\nEd Dumas – Town Police Chief\nMike Rowe – Town Recreation Director\nKari Clark – Town Clerk & Treasurer\nChris Clark – Town Fire Chief\nBill Sweet – Town Administrative Assistant\nJohn Paul Faignant – Town Health Officer\nCommittee Meeting Updates / Schedule Committee Meetings\n\nPolice Committee\n\n\nUpdate on Project List\n\nNew Business \n\nBoard to ratify mask rule\nBoard to meet with Christina Haskins from the Dufresne Group to discuss the Route 7 N sidewalk\nBoard to meet with Robert Clark from Otter Creek Engineering regarding Town Line Rd culvert bids\nBoard to review for approval\, Post Road water line bid and construction management proposal\nBoard to review for approval Town Tax Map Maintenance Agreement\nBoard to discuss a “rain date” for the fireworks display\nBoard to discuss plan for Selectboard meeting scheduled for March 1st\nAny necessary executive sessions\nAny other new business\n\nOld Business \n\nBoard to discuss succession planning and storage of department records\nAny old business
URL:https://www.rutlandtown.com/event/select-board-meeting-2021-07-20-2021-08-31-2022-01-18-2022-02-01/
LOCATION:Town of Rutland Municipal Building\, 181Business Route 4\, Center Rutland\, VT\, 05736\, United States
CATEGORIES:Select Board
END:VEVENT
END:VCALENDAR