BEGIN:VCALENDAR
VERSION:2.0
PRODID:-//The Town of Rutland, Vermont - ECPv6.15.20//NONSGML v1.0//EN
CALSCALE:GREGORIAN
METHOD:PUBLISH
X-ORIGINAL-URL:https://www.rutlandtown.com
X-WR-CALDESC:Events for The Town of Rutland, Vermont
REFRESH-INTERVAL;VALUE=DURATION:PT1H
X-Robots-Tag:noindex
X-PUBLISHED-TTL:PT1H
BEGIN:VTIMEZONE
TZID:UTC
BEGIN:STANDARD
TZOFFSETFROM:+0000
TZOFFSETTO:+0000
TZNAME:UTC
DTSTART:20210101T000000
END:STANDARD
END:VTIMEZONE
BEGIN:VEVENT
DTSTART;TZID=UTC:20220323T090000
DTEND;TZID=UTC:20220323T100000
DTSTAMP:20260424T125146
CREATED:20220317T194208Z
LAST-MODIFIED:20220321T130002Z
UID:10000612-1648026000-1648029600@www.rutlandtown.com
SUMMARY:Highway / Rec Committee Meeting
DESCRIPTION:Highway Committee Agenda 3-23-2022 \nRUTLAND TOWN SELECTBOARD COMMITTEE MEETING \nHIGHWAY COMMITTEE  \nWednesday March 23rd\, 2022\, 9:00 AM \nLocation: Rutland Town Municipal Town Hall and Zoom Conferencing \n To participate via zoom please call (646) 558-8656 or visit zoom.us/join and enter meeting ID 939 1518 8696. \nAgenda: \n\nPost Road Sidewalk / Shared Use Path / Water Line Extension\nReview job description for Road Commissioner\nDiscuss winter maintenance contracts for 2022 – 2023 season\nRequest for equestrian signs on Cold River Road\nAny other business
URL:https://www.rutlandtown.com/event/highway-committee-meeting/
LOCATION:Town of Rutland Municipal Building\, 181Business Route 4\, Center Rutland\, VT\, 05736\, United States
CATEGORIES:Committee Meeting
END:VEVENT
END:VCALENDAR