BEGIN:VCALENDAR
VERSION:2.0
PRODID:-//The Town of Rutland, Vermont - ECPv6.15.20//NONSGML v1.0//EN
CALSCALE:GREGORIAN
METHOD:PUBLISH
X-ORIGINAL-URL:https://www.rutlandtown.com
X-WR-CALDESC:Events for The Town of Rutland, Vermont
REFRESH-INTERVAL;VALUE=DURATION:PT1H
X-Robots-Tag:noindex
X-PUBLISHED-TTL:PT1H
BEGIN:VTIMEZONE
TZID:UTC
BEGIN:STANDARD
TZOFFSETFROM:+0000
TZOFFSETTO:+0000
TZNAME:UTC
DTSTART:20210101T000000
END:STANDARD
END:VTIMEZONE
BEGIN:VTIMEZONE
TZID:America/New_York
BEGIN:DAYLIGHT
TZOFFSETFROM:-0500
TZOFFSETTO:-0400
TZNAME:EDT
DTSTART:20210314T070000
END:DAYLIGHT
BEGIN:STANDARD
TZOFFSETFROM:-0400
TZOFFSETTO:-0500
TZNAME:EST
DTSTART:20211107T060000
END:STANDARD
BEGIN:DAYLIGHT
TZOFFSETFROM:-0500
TZOFFSETTO:-0400
TZNAME:EDT
DTSTART:20220313T070000
END:DAYLIGHT
BEGIN:STANDARD
TZOFFSETFROM:-0400
TZOFFSETTO:-0500
TZNAME:EST
DTSTART:20221106T060000
END:STANDARD
BEGIN:DAYLIGHT
TZOFFSETFROM:-0500
TZOFFSETTO:-0400
TZNAME:EDT
DTSTART:20230312T070000
END:DAYLIGHT
BEGIN:STANDARD
TZOFFSETFROM:-0400
TZOFFSETTO:-0500
TZNAME:EST
DTSTART:20231105T060000
END:STANDARD
END:VTIMEZONE
BEGIN:VEVENT
DTSTART;TZID=UTC:20220426T170000
DTEND;TZID=UTC:20220426T180000
DTSTAMP:20260423T211257
CREATED:20220420T151443Z
LAST-MODIFIED:20220426T173226Z
UID:10000632-1650992400-1650996000@www.rutlandtown.com
SUMMARY:Recreation Committee Meeting
DESCRIPTION:Recreation Committee Agenda 4-26-2022 \nRUTLAND TOWN SELECTBOARD COMMITTEE MEETING \nRECREATION COMMITTEE  \nTuesday April 26th\, 2022\, 5:00 PM \nLocation: Rutland Town Municipal Town Hall and Zoom Conferencing \n  \nTo participate via zoom please call (646) 558-8656 or visit zoom.us/join and enter meeting ID 851 9094 1198. \nAgenda: \n\nUpdate on the Act 250 amendment application\nFencing at Dewey Field\nMowing\nStaffing Plan\nAny other business
URL:https://www.rutlandtown.com/event/recreation-committee-meeting-2/
LOCATION:Town of Rutland Municipal Building\, 181Business Route 4\, Center Rutland\, VT\, 05736\, United States
CATEGORIES:Committee Meeting
END:VEVENT
BEGIN:VEVENT
DTSTART;TZID=America/New_York:20220426T180000
DTEND;TZID=America/New_York:20220426T200000
DTSTAMP:20260423T211257
CREATED:20210628T161919Z
LAST-MODIFIED:20220421T174043Z
UID:10000472-1650996000-1651003200@www.rutlandtown.com
SUMMARY:Selectboard Meeting
DESCRIPTION:Selectboard Agenda 4-26-2022 \nClick HERE to join the meeting remotely. \nTOWN OF RUTLAND SELECTBOARD \nPUBLIC MEETING AGENDA FOR TUESDAY APRIL 26th\, 2022  \nLocation: Rutland Town Municipal Town Hall and Zoom Conferencing \nOpen Meeting – 6:00 PM \n  \nTo participate via zoom please call (646) 558-8656 or visit zoom.us/join and enter meeting ID 939 1518 8696. \nMeeting Opening \n\nPledge of Allegiance\nApproval of Orders\nApproval of Selectboard Minutes: April 12th \nAnnouncements\n\nQuestions from the floor: Public Comment \n\nAny member of the public who is not already included on the agenda.\n\n  \nDepartment Head Reports \n\nWalt Tripp – Acting Town Road Commissioner\nJason Bathalon – Acting Town Water & Sewer Commissioner\nKari Clark – Town Clerk & Treasurer\nChris Clark – Town Fire Chief\nBarbara Pulling – Town Planning Commission Chair\nEd Dumas – Town Police Chief\nMike Rowe – Town Recreation Director\nJohn Paul Faignant – Town Health Officer / Public Safety Building Clerk / 2nd Constable\nBill Sweet – Town Administrative Assistant\nCommittee Meeting Updates / Schedule Committee Meetings\n\n\nEnergy Committee\nTown Wide Celebration Committee\nRecreation Committee\n\n\nUpdate on Project List\n\nNew Business \n\nBoard to review paving bid results with the Acting Road Commissioner\nBoard to review proposals for engineering work on the Public Safety Building\nBoard to review proposal for engineering services for the Post Road sidewalk\nBoard to vote on certifying the amended Vehicle and Traffic Ordinance\nAny other New Business\n\nOld Business \n\nAny old business
URL:https://www.rutlandtown.com/event/select-board-meeting-2021-07-20-2021-08-31-2022-01-18-2022-04-26/
LOCATION:Town of Rutland Municipal Building\, 181Business Route 4\, Center Rutland\, VT\, 05736\, United States
CATEGORIES:Select Board
END:VEVENT
BEGIN:VEVENT
DTSTART;TZID=UTC:20220429T120000
DTEND;TZID=UTC:20220429T120000
DTSTAMP:20260423T211257
CREATED:20220420T202254Z
LAST-MODIFIED:20220420T202328Z
UID:10000633-1651233600-1651233600@www.rutlandtown.com
SUMMARY:High School Seniors Scholarships Due Date
DESCRIPTION:All scholarship applications are due to the town office on or before 12 noon!
URL:https://www.rutlandtown.com/event/high-school-seniors-scholarships-due-date/
LOCATION:Town of Rutland Municipal Building\, 181Business Route 4\, Center Rutland\, VT\, 05736\, United States
CATEGORIES:Community,Municipal Date
END:VEVENT
BEGIN:VEVENT
DTSTART;TZID=UTC:20220430T083000
DTEND;TZID=UTC:20220430T123000
DTSTAMP:20260423T211257
CREATED:20211018T124152Z
LAST-MODIFIED:20211018T124152Z
UID:10000441-1651307400-1651321800@www.rutlandtown.com
SUMMARY:Spring Household Hazardous Waste Event
DESCRIPTION:See our event on Facebook HERE. \nApril 2022 Household Hazardous Waste event information
URL:https://www.rutlandtown.com/event/spring-household-hazardous-waste-event/
LOCATION:Northwood Park\, 185 Northwood Park Road\, Rutland\, 05701
CATEGORIES:Municipal Date
END:VEVENT
END:VCALENDAR