BEGIN:VCALENDAR
VERSION:2.0
PRODID:-//The Town of Rutland, Vermont - ECPv6.15.20//NONSGML v1.0//EN
CALSCALE:GREGORIAN
METHOD:PUBLISH
X-WR-CALNAME:The Town of Rutland, Vermont
X-ORIGINAL-URL:https://www.rutlandtown.com
X-WR-CALDESC:Events for The Town of Rutland, Vermont
REFRESH-INTERVAL;VALUE=DURATION:PT1H
X-Robots-Tag:noindex
X-PUBLISHED-TTL:PT1H
BEGIN:VTIMEZONE
TZID:America/New_York
BEGIN:DAYLIGHT
TZOFFSETFROM:-0500
TZOFFSETTO:-0400
TZNAME:EDT
DTSTART:20210314T070000
END:DAYLIGHT
BEGIN:STANDARD
TZOFFSETFROM:-0400
TZOFFSETTO:-0500
TZNAME:EST
DTSTART:20211107T060000
END:STANDARD
BEGIN:DAYLIGHT
TZOFFSETFROM:-0500
TZOFFSETTO:-0400
TZNAME:EDT
DTSTART:20220313T070000
END:DAYLIGHT
BEGIN:STANDARD
TZOFFSETFROM:-0400
TZOFFSETTO:-0500
TZNAME:EST
DTSTART:20221106T060000
END:STANDARD
BEGIN:DAYLIGHT
TZOFFSETFROM:-0500
TZOFFSETTO:-0400
TZNAME:EDT
DTSTART:20230312T070000
END:DAYLIGHT
BEGIN:STANDARD
TZOFFSETFROM:-0400
TZOFFSETTO:-0500
TZNAME:EST
DTSTART:20231105T060000
END:STANDARD
END:VTIMEZONE
BEGIN:VTIMEZONE
TZID:UTC
BEGIN:STANDARD
TZOFFSETFROM:+0000
TZOFFSETTO:+0000
TZNAME:UTC
DTSTART:20210101T000000
END:STANDARD
END:VTIMEZONE
BEGIN:VEVENT
DTSTART;TZID=America/New_York:20220523T180000
DTEND;TZID=America/New_York:20220524T200000
DTSTAMP:20260423T140941
CREATED:20210628T161919Z
LAST-MODIFIED:20240731T175212Z
UID:10001080-1653328800-1653422400@www.rutlandtown.com
SUMMARY:Select Board Meeting
DESCRIPTION:The agenda will be posted once it is finalized. \nClick HERE to join the meeting remotely.
URL:https://www.rutlandtown.com/event/select-board-meeting-2021-07-20-2021-08-31-2022-01-18-2022-05-24/2022-05-23/
LOCATION:Town of Rutland Municipal Building\, 181Business Route 4\, Center Rutland\, VT\, 05736\, United States
CATEGORIES:Select Board
END:VEVENT
BEGIN:VEVENT
DTSTART;TZID=UTC:20220524T180000
DTEND;TZID=UTC:20220524T200000
DTSTAMP:20260423T140941
CREATED:20220524T213710Z
LAST-MODIFIED:20220524T213741Z
UID:10000537-1653415200-1653422400@www.rutlandtown.com
SUMMARY:Selectboard Meeting
DESCRIPTION:Selectboard Agenda 5-24-2022 \nClick HERE to join the meeting remotely. \nTOWN OF RUTLAND SELECTBOARD \nPUBLIC MEETING AGENDA FOR TUESDAY MAY 24th\, 2022 \n  \nLocation: Rutland Town Municipal Town Hall and Zoom Conferencing \nOpen Meeting – 6:00 PM \n  \nTo participate via zoom please call (646) 558-8656 or visit zoom.us/join and enter meeting ID 939 1518 8696. \n  \nMeeting Opening \n  \n\nPledge of Allegiance\nApproval of Orders\nApproval of Selectboard Minutes: May 10th \nAnnouncements\n\n  \nQuestions from the floor: Public Comment \n\nAny member of the public who is not already included on the agenda.\n\n  \nDepartment Head Reports \n\nHoward Burgess – Head Lister / E911 Coordinator\nWalt Tripp – Acting Road Commissioner\nJason Bathalon – Acting Water & Sewer Commissioner\nKari Clark –Clerk & Treasurer\nChris Clark –Fire Chief\nBarbara Pulling –Planning Commission Chair\nEd Dumas – Police Chief\nMike Rowe –Recreation Director\nJohn Paul Faignant –Health Officer / Public Safety Building Clerk / 2nd Constable\nBill Sweet – Administrative Assistant\nCommittee Meeting Updates / Schedule Committee Meetings\nUpdate on Project List\n\n  \nOld Business \n\nAny Old Business\n\nNew Business \n\nBoard to meet with Town E911 Coordinator to discuss Sugarwood Hill Road Extension signage\nBoard to discuss the Route 7 North Sidewalk Project Grant opportunity\nBoard to discuss the Cortina Inn usage / Act 250\nBoard to discuss Transportation Advisory Council appointment\nAny other New Business\nAny necessary executive sessions\n\n  \n  \n  \n 
URL:https://www.rutlandtown.com/event/selectboard-meeting/
LOCATION:Town of Rutland Municipal Building\, 181Business Route 4\, Center Rutland\, VT\, 05736\, United States
CATEGORIES:Select Board
END:VEVENT
BEGIN:VEVENT
DTSTART;TZID=America/New_York:20220524T180000
DTEND;TZID=America/New_York:20220525T200000
DTSTAMP:20260423T140941
CREATED:20210628T161919Z
LAST-MODIFIED:20240731T175212Z
UID:10000474-1653415200-1653508800@www.rutlandtown.com
SUMMARY:Select Board Meeting
DESCRIPTION:The agenda will be posted once it is finalized. \nClick HERE to join the meeting remotely.
URL:https://www.rutlandtown.com/event/select-board-meeting-2021-07-20-2021-08-31-2022-01-18-2022-05-24/2022-05-24/
LOCATION:Town of Rutland Municipal Building\, 181Business Route 4\, Center Rutland\, VT\, 05736\, United States
CATEGORIES:Select Board
END:VEVENT
BEGIN:VEVENT
DTSTART;TZID=UTC:20220527T080000
DTEND;TZID=UTC:20220527T100000
DTSTAMP:20260423T140941
CREATED:20220524T160009Z
LAST-MODIFIED:20220525T184810Z
UID:10000535-1653638400-1653645600@www.rutlandtown.com
SUMMARY:Personnel Committee Meeting
DESCRIPTION:Personnel Committee Agenda 5-27-2022 \nRUTLAND TOWN SELECTBOARD COMMITTEE MEETING \nPERSONNEL COMMITTEE  \nFriday May 27th\, 2022\, 8:00 AM \nLocation: Rutland Town Municipal Town Hall and Zoom Conferencing \n  \nTo participate via zoom please call (646) 558-8656 or visit zoom.us/join and enter meeting ID 851 9094 1198. \n  \nAgenda: \n\nDiscuss revising the current personnel policy\nEstablish a personnel performance review system\, and create job descriptions\nAny other business\n\n 
URL:https://www.rutlandtown.com/event/personnel-committee-meeting-2/
LOCATION:Town of Rutland Municipal Building\, 181Business Route 4\, Center Rutland\, VT\, 05736\, United States
CATEGORIES:Committee Meeting
END:VEVENT
END:VCALENDAR