BEGIN:VCALENDAR
VERSION:2.0
PRODID:-//The Town of Rutland, Vermont - ECPv6.15.20//NONSGML v1.0//EN
CALSCALE:GREGORIAN
METHOD:PUBLISH
X-WR-CALNAME:The Town of Rutland, Vermont
X-ORIGINAL-URL:https://www.rutlandtown.com
X-WR-CALDESC:Events for The Town of Rutland, Vermont
REFRESH-INTERVAL;VALUE=DURATION:PT1H
X-Robots-Tag:noindex
X-PUBLISHED-TTL:PT1H
BEGIN:VTIMEZONE
TZID:America/New_York
BEGIN:DAYLIGHT
TZOFFSETFROM:-0500
TZOFFSETTO:-0400
TZNAME:EDT
DTSTART:20210314T070000
END:DAYLIGHT
BEGIN:STANDARD
TZOFFSETFROM:-0400
TZOFFSETTO:-0500
TZNAME:EST
DTSTART:20211107T060000
END:STANDARD
BEGIN:DAYLIGHT
TZOFFSETFROM:-0500
TZOFFSETTO:-0400
TZNAME:EDT
DTSTART:20220313T070000
END:DAYLIGHT
BEGIN:STANDARD
TZOFFSETFROM:-0400
TZOFFSETTO:-0500
TZNAME:EST
DTSTART:20221106T060000
END:STANDARD
BEGIN:DAYLIGHT
TZOFFSETFROM:-0500
TZOFFSETTO:-0400
TZNAME:EDT
DTSTART:20230312T070000
END:DAYLIGHT
BEGIN:STANDARD
TZOFFSETFROM:-0400
TZOFFSETTO:-0500
TZNAME:EST
DTSTART:20231105T060000
END:STANDARD
END:VTIMEZONE
BEGIN:VEVENT
DTSTART;TZID=America/New_York:20220607T180000
DTEND;TZID=America/New_York:20220607T200000
DTSTAMP:20260423T193659
CREATED:20210628T161919Z
LAST-MODIFIED:20220602T173814Z
UID:10000459-1654624800-1654632000@www.rutlandtown.com
SUMMARY:Selectboard Meeting
DESCRIPTION:Selectboard Agenda 6-7-2022 \nClick HERE to join the meeting remotely. \nTOWN OF RUTLAND SELECTBOARD \nPUBLIC MEETING AGENDA FOR TUESDAY JUNE 7th\, 2022 \n Location: Rutland Town Municipal Town Hall and Zoom Conferencing \nOpen Meeting – 6:00 PM \nTo participate via zoom please call (646) 558-8656 or visit zoom.us/join and enter meeting ID 939 1518 8696. \nMeeting Opening \n\nPledge of Allegiance\nApproval of Orders\nApproval of Selectboard Minutes: May 24th \nAnnouncements\n\nQuestions from the floor: Public Comment \n\nAny member of the public who is not already included on the agenda.\n\nDepartment Head Reports \n\nDave Sears – New Road Commissioner Introduction\nMike Rowe – Recreation Director\nChris Clark – Fire Chief\nKari Clark – Clerk & Treasurer\nBarbara Pulling – Planning Commission Chair\nEd Dumas – Police Chief\nJohn Paul Faignant – Health Officer / Public Safety Building Clerk / 2nd Constable\nBill Sweet – Administrative Assistant\nCommittee Meeting Updates / Schedule Committee Meetings\n\nPersonnel Committee\nTown Wide Celebration Committee\nHighway Committee\n\n\nUpdate on Project List\n\nOld Business \n\nAny Old Business\n\nNew Business \n\nBoard to review the draft energy survey from the Planning Commission\nBoard to discuss signing agreement with VELCO to acquire used utility poles\nBoard to review for adoption\, revised Personnel Policy\nBoard to consider meeting room request from Fire District #5\nBoard to meet with Robert Clark from Otter Creek Engineering regarding various projects\nAny other New Business\nAny necessary executive sessions
URL:https://www.rutlandtown.com/event/select-board-meeting-2021-07-20-2021-08-31-2022-01-18-2022-06-07/
LOCATION:Town of Rutland Municipal Building\, 181Business Route 4\, Center Rutland\, VT\, 05736\, United States
CATEGORIES:Select Board
END:VEVENT
END:VCALENDAR