BEGIN:VCALENDAR
VERSION:2.0
PRODID:-//The Town of Rutland, Vermont - ECPv6.15.20//NONSGML v1.0//EN
CALSCALE:GREGORIAN
METHOD:PUBLISH
X-ORIGINAL-URL:https://www.rutlandtown.com
X-WR-CALDESC:Events for The Town of Rutland, Vermont
REFRESH-INTERVAL;VALUE=DURATION:PT1H
X-Robots-Tag:noindex
X-PUBLISHED-TTL:PT1H
BEGIN:VTIMEZONE
TZID:UTC
BEGIN:STANDARD
TZOFFSETFROM:+0000
TZOFFSETTO:+0000
TZNAME:UTC
DTSTART:20210101T000000
END:STANDARD
END:VTIMEZONE
BEGIN:VEVENT
DTSTART;VALUE=DATE:20220618
DTEND;VALUE=DATE:20220619
DTSTAMP:20260423T153552
CREATED:20220602T134211Z
LAST-MODIFIED:20220602T134211Z
UID:10000645-1655510400-1655596799@www.rutlandtown.com
SUMMARY:Northwood Pool Open - Full Week
DESCRIPTION:
URL:https://www.rutlandtown.com/event/northwood-pool-open-full-week/
LOCATION:Northwood Park\, 185 Northwood Park Road\, Rutland\, 05701
CATEGORIES:Community,Municipal Date
END:VEVENT
END:VCALENDAR