BEGIN:VCALENDAR
VERSION:2.0
PRODID:-//The Town of Rutland, Vermont - ECPv6.15.20//NONSGML v1.0//EN
CALSCALE:GREGORIAN
METHOD:PUBLISH
X-ORIGINAL-URL:https://www.rutlandtown.com
X-WR-CALDESC:Events for The Town of Rutland, Vermont
REFRESH-INTERVAL;VALUE=DURATION:PT1H
X-Robots-Tag:noindex
X-PUBLISHED-TTL:PT1H
BEGIN:VTIMEZONE
TZID:UTC
BEGIN:STANDARD
TZOFFSETFROM:+0000
TZOFFSETTO:+0000
TZNAME:UTC
DTSTART:20210101T000000
END:STANDARD
END:VTIMEZONE
BEGIN:VTIMEZONE
TZID:America/New_York
BEGIN:DAYLIGHT
TZOFFSETFROM:-0500
TZOFFSETTO:-0400
TZNAME:EDT
DTSTART:20210314T070000
END:DAYLIGHT
BEGIN:STANDARD
TZOFFSETFROM:-0400
TZOFFSETTO:-0500
TZNAME:EST
DTSTART:20211107T060000
END:STANDARD
BEGIN:DAYLIGHT
TZOFFSETFROM:-0500
TZOFFSETTO:-0400
TZNAME:EDT
DTSTART:20220313T070000
END:DAYLIGHT
BEGIN:STANDARD
TZOFFSETFROM:-0400
TZOFFSETTO:-0500
TZNAME:EST
DTSTART:20221106T060000
END:STANDARD
BEGIN:DAYLIGHT
TZOFFSETFROM:-0500
TZOFFSETTO:-0400
TZNAME:EDT
DTSTART:20230312T070000
END:DAYLIGHT
BEGIN:STANDARD
TZOFFSETFROM:-0400
TZOFFSETTO:-0500
TZNAME:EST
DTSTART:20231105T060000
END:STANDARD
END:VTIMEZONE
BEGIN:VEVENT
DTSTART;TZID=UTC:20220621T110000
DTEND;TZID=UTC:20220621T113000
DTSTAMP:20260423T111853
CREATED:20220620T164412Z
LAST-MODIFIED:20220620T164412Z
UID:10000650-1655809200-1655811000@www.rutlandtown.com
SUMMARY:Rutland Town Senior Luncheon
DESCRIPTION:Rutland Town seniors are welcome to come together for lunch!
URL:https://www.rutlandtown.com/event/rutland-town-senior-luncheon-3/
LOCATION:Dennys\, 361 US Route 7 South\, Rutland\, 05701
CATEGORIES:Community
END:VEVENT
BEGIN:VEVENT
DTSTART;TZID=America/New_York:20220621T180000
DTEND;TZID=America/New_York:20220621T200000
DTSTAMP:20260423T111853
CREATED:20210628T161919Z
LAST-MODIFIED:20220616T183556Z
UID:10000460-1655834400-1655841600@www.rutlandtown.com
SUMMARY:Selectboard Meeting
DESCRIPTION:Selectboard Agenda 6-21-2022 \nClick HERE to join the meeting remotely. \nTOWN OF RUTLAND SELECTBOARD \nPUBLIC MEETING AGENDA FOR TUESDAY JUNE 21st\, 2022 \nLocation: Rutland Town Municipal Town Hall and Zoom Conferencing \nOpen Meeting – 6:00 PM \nTo participate via zoom please call (646) 558-8656 or visit zoom.us/join and enter meeting ID 939 1518 8696. \nMeeting Opening \n\nPledge of Allegiance\nApproval of Orders\nApproval of Selectboard Minutes: June 7th \nAnnouncements\n\nQuestions from the floor: Public Comment \n\nAny member of the public who is not already included on the agenda.\n\nDepartment Head Reports \n\nMike Rowe – Recreation Director\nChris Clark – Fire Chief\nKari Clark – Clerk & Treasurer\nDave Sears – Road Commissioner\nBarbara Pulling – Planning Commission Chair\nEd Dumas – Police Chief\nJohn Paul Faignant – Health Officer / Public Safety Building Clerk / 2nd Constable\nBill Sweet – Administrator\nCommittee Meeting Updates / Schedule Committee Meetings\nUpdate on Project List\n\nOld Business \n\nAny Old Business\n\nNew Business \n\nBoard to meet with Robert Clark from Otter Creek Engineering regarding various projects\nBoard to consider meeting room request from Fire District #5\nBoard to review bids for Highway Garage heating system\nAny other New Business\nAny necessary executive sessions
URL:https://www.rutlandtown.com/event/select-board-meeting-2021-07-20-2021-08-31-2022-01-18-2022-06-21/
LOCATION:Town of Rutland Municipal Building\, 181Business Route 4\, Center Rutland\, VT\, 05736\, United States
CATEGORIES:Select Board
END:VEVENT
BEGIN:VEVENT
DTSTART;TZID=UTC:20220622T090000
DTEND;TZID=UTC:20220622T100000
DTSTAMP:20260423T111853
CREATED:20220620T085801Z
LAST-MODIFIED:20220620T180426Z
UID:10000651-1655888400-1655892000@www.rutlandtown.com
SUMMARY:Highway and Water / Sewer Commitee Meeting
DESCRIPTION:Highway and Water / Sewer Commitee Agenda 6-22-2022 \nRUTLAND TOWN SELECTBOARD COMMITTEE MEETING \nHIGHWAY & WATER / SEWER COMMITTEE  \nWednesday June 22nd\, 2022\, 9:00 AM \nLocation: Post Road at Chasanna Drive \n  \nAgenda: \n\nReview the water line extension project\nAny other business
URL:https://www.rutlandtown.com/event/highway-and-water-sewer-commitee-meeting/
LOCATION:VT\, United States
CATEGORIES:Committee Meeting
END:VEVENT
BEGIN:VEVENT
DTSTART;TZID=UTC:20220623T183000
DTEND;TZID=UTC:20220623T200000
DTSTAMP:20260423T111853
CREATED:20210715T124556Z
LAST-MODIFIED:20220620T151305Z
UID:10000540-1656009000-1656014400@www.rutlandtown.com
SUMMARY:Planning Commission Meeting
DESCRIPTION:Planning Commission Agenda 6-23-2022 \nClick HERE to join the meeting remotely. \nTOWN OF RUTLAND PLANNING COMMISSION AGENDA \nThursday\, June 23\, 2022  \n  \nLocation: Rutland Town Municipal Town Hall and Zoom Conferencing  \nOpen Meeting – 6:30 PM  \n To participate via zoom please call (646) 558-8656 or visit zoom.us/join and enter meeting ID 985 4127 6671.  \n  \nCall to Order/ Pledge of Allegiance \n  \nApproval of Agenda \n  \nPublic Comment \n  \nNew Business \n  \nOld Business \n\nFinal review of Building Notification Ordinance Questionnaire for possible inclusion in Permit Tracking Ordinance\nDiscussion of upcoming work on other new ordinances\nUpdate on energy survey for town residents\nBooth at Town Wide Celebration – August 27\n\nAnnouncements/News \n\nAct 250 review of Cortina Inn change of use\n\nApproval of Minutes \n\nJune 2\, 2022\n\nAdjournment
URL:https://www.rutlandtown.com/event/town-of-rutland-planning-commission-meeting-2-2021-12-09-2022-01-27-2022-06-23/
LOCATION:Town of Rutland Municipal Building\, 181Business Route 4\, Center Rutland\, VT\, 05736\, United States
CATEGORIES:Planning Commission
END:VEVENT
END:VCALENDAR