BEGIN:VCALENDAR
VERSION:2.0
PRODID:-//The Town of Rutland, Vermont - ECPv6.15.20//NONSGML v1.0//EN
CALSCALE:GREGORIAN
METHOD:PUBLISH
X-ORIGINAL-URL:https://www.rutlandtown.com
X-WR-CALDESC:Events for The Town of Rutland, Vermont
REFRESH-INTERVAL;VALUE=DURATION:PT1H
X-Robots-Tag:noindex
X-PUBLISHED-TTL:PT1H
BEGIN:VTIMEZONE
TZID:America/New_York
BEGIN:DAYLIGHT
TZOFFSETFROM:-0500
TZOFFSETTO:-0400
TZNAME:EDT
DTSTART:20210314T070000
END:DAYLIGHT
BEGIN:STANDARD
TZOFFSETFROM:-0400
TZOFFSETTO:-0500
TZNAME:EST
DTSTART:20211107T060000
END:STANDARD
BEGIN:DAYLIGHT
TZOFFSETFROM:-0500
TZOFFSETTO:-0400
TZNAME:EDT
DTSTART:20220313T070000
END:DAYLIGHT
BEGIN:STANDARD
TZOFFSETFROM:-0400
TZOFFSETTO:-0500
TZNAME:EST
DTSTART:20221106T060000
END:STANDARD
BEGIN:DAYLIGHT
TZOFFSETFROM:-0500
TZOFFSETTO:-0400
TZNAME:EDT
DTSTART:20230312T070000
END:DAYLIGHT
BEGIN:STANDARD
TZOFFSETFROM:-0400
TZOFFSETTO:-0500
TZNAME:EST
DTSTART:20231105T060000
END:STANDARD
END:VTIMEZONE
BEGIN:VTIMEZONE
TZID:UTC
BEGIN:STANDARD
TZOFFSETFROM:+0000
TZOFFSETTO:+0000
TZNAME:UTC
DTSTART:20210101T000000
END:STANDARD
END:VTIMEZONE
BEGIN:VEVENT
DTSTART;TZID=America/New_York:20220913T180000
DTEND;TZID=America/New_York:20220913T200000
DTSTAMP:20260424T161042
CREATED:20210628T161919Z
LAST-MODIFIED:20220908T150617Z
UID:10000354-1663092000-1663099200@www.rutlandtown.com
SUMMARY:Selectboard Meeting
DESCRIPTION:Selectboard Agenda 9-13-2022 \nClick HERE to join the meeting remotely. \nTOWN OF RUTLAND SELECTBOARD \nPUBLIC MEETING AGENDA FOR TUESDAY SEPTEMBER 13th\, 2022 \nLocation: Rutland Town Municipal Town Hall and Zoom Conferencing \nOpen Meeting – 6:00 PM \nTo participate via zoom please visit zoom.us/join or call (646) 558-8656 and enter meeting ID 939 1518 8696. \nMeeting Opening \n\nPledge of Allegiance\nApproval of Orders\nApproval of Selectboard Minutes:\n\nAugust 30th\n\n\nAnnouncements\n\nQuestions from the floor: Public Comment \n\nAny member of the public who is not already included on the agenda.\n\nDepartment Head Reports \n\nBarbara Pulling – Town Planning Commission Chair\nMike Rowe – Town Recreation Director\nChris Clark – Town Fire Chief\nDave Sears – Town Road Commissioner\nKari Clark – Town Clerk & Treasurer\nEd Dumas – Town Police Chief\nMike Delehanty – Town 1st Constable\nJohn Paul Faignant – Town Health Officer / Public Safety Building Clerk / 2nd Constable\nBill Sweet – Town Administrator\nCommittee Meeting Updates / Schedule Committee Meetings\nUpdate on Project List\n\nOld Business \n\nAny Old Business\n\nNew Business \n\nBoard to meet with Kyle Medash from VT ANR regarding River Corridor Management\nBoard to review for approval\, changes to the Vendor Permit Ordinance\nBoard to review for approval\, changes to the Permit Tracking Ordinance\nBoard to discuss Delinquent Tax Collector transition\nAny other New Business\nAny necessary Executive Session
URL:https://www.rutlandtown.com/event/select-board-meeting-2021-07-20-2021-08-31-2022-01-18-2022-09-13/
LOCATION:Town of Rutland Municipal Building\, 181Business Route 4\, Center Rutland\, VT\, 05736\, United States
CATEGORIES:Select Board
END:VEVENT
BEGIN:VEVENT
DTSTART;TZID=UTC:20220915T183000
DTEND;TZID=UTC:20220915T200000
DTSTAMP:20260424T161042
CREATED:20210715T124556Z
LAST-MODIFIED:20220912T123011Z
UID:10000547-1663266600-1663272000@www.rutlandtown.com
SUMMARY:Planning Commission Meeting
DESCRIPTION:Planning Commission Agenda 9-15-2022 \nClick HERE to join the meeting remotely. \nTOWN OF RUTLAND PLANNING COMMISSION AGENDA \nThursday\, September 15\, 2022 \nLocation: Rutland Town Municipal Town Hall and Zoom Conferencing \nOpen Meeting – 6:30 PM \n  \nTo participate via zoom please call (646) 558-8656 or visit zoom.us/join and enter meeting ID 985 4127 6671. \nCall to Order/ Pledge of Allegiance\nApproval of Agenda\nPublic Comment\nNew Business\n\nKinney Motors – Deppman Law permit review request and update on Langrock\, Sperry & Wool permit review request\nReformatted Subdivision ordinance\n\nOld Business\n\nUpdate on revised Informational Building ordinance\nReport on Selectboard river corridor/flood hazard regulations discussion\nUpdate on pocket park\nUpdate on energy survey\n\nAnnouncements/News\nApproval of Minutes\n\nAugust 25\, 2022\n\nAdjournment
URL:https://www.rutlandtown.com/event/town-of-rutland-planning-commission-meeting-2-2021-12-09-2022-01-27-2022-09-15/
LOCATION:Town of Rutland Municipal Building\, 181Business Route 4\, Center Rutland\, VT\, 05736\, United States
CATEGORIES:Planning Commission
END:VEVENT
END:VCALENDAR