BEGIN:VCALENDAR
VERSION:2.0
PRODID:-//The Town of Rutland, Vermont - ECPv6.15.20//NONSGML v1.0//EN
CALSCALE:GREGORIAN
METHOD:PUBLISH
X-WR-CALNAME:The Town of Rutland, Vermont
X-ORIGINAL-URL:https://www.rutlandtown.com
X-WR-CALDESC:Events for The Town of Rutland, Vermont
REFRESH-INTERVAL;VALUE=DURATION:PT1H
X-Robots-Tag:noindex
X-PUBLISHED-TTL:PT1H
BEGIN:VTIMEZONE
TZID:America/New_York
BEGIN:DAYLIGHT
TZOFFSETFROM:-0500
TZOFFSETTO:-0400
TZNAME:EDT
DTSTART:20210314T070000
END:DAYLIGHT
BEGIN:STANDARD
TZOFFSETFROM:-0400
TZOFFSETTO:-0500
TZNAME:EST
DTSTART:20211107T060000
END:STANDARD
BEGIN:DAYLIGHT
TZOFFSETFROM:-0500
TZOFFSETTO:-0400
TZNAME:EDT
DTSTART:20220313T070000
END:DAYLIGHT
BEGIN:STANDARD
TZOFFSETFROM:-0400
TZOFFSETTO:-0500
TZNAME:EST
DTSTART:20221106T060000
END:STANDARD
BEGIN:DAYLIGHT
TZOFFSETFROM:-0500
TZOFFSETTO:-0400
TZNAME:EDT
DTSTART:20230312T070000
END:DAYLIGHT
BEGIN:STANDARD
TZOFFSETFROM:-0400
TZOFFSETTO:-0500
TZNAME:EST
DTSTART:20231105T060000
END:STANDARD
END:VTIMEZONE
BEGIN:VEVENT
DTSTART;TZID=America/New_York:20220927T180000
DTEND;TZID=America/New_York:20220927T200000
DTSTAMP:20260424T111152
CREATED:20210628T161919Z
LAST-MODIFIED:20220922T185835Z
UID:10000355-1664301600-1664308800@www.rutlandtown.com
SUMMARY:Selectboard Meeting
DESCRIPTION:Selectboard Agenda 9-27-2022 \nClick HERE to join the meeting remotely. \nTOWN OF RUTLAND SELECTBOARD \nPUBLIC MEETING AGENDA FOR TUESDAY SEPTEMBER 27th\, 2022 \nLocation: Rutland Town Municipal Town Hall and Zoom Conferencing \nOpen Meeting – 6:00 PM \n  \nTo participate via zoom please visit zoom.us/join or call (646) 558-8656 and enter meeting ID 939 1518 8696. \nMeeting Opening \n\nPledge of Allegiance\nApproval of Orders\nApproval of Selectboard Minutes:\n\nSeptember 13\nSeptember 27\n\n\nAnnouncements\nQuestions from the floor; public comments: Any member of the public who is not already included on the agenda\n\nDepartment Head Reports \n\nBarbara Pulling – Town Planning Commission Chair\nMike Rowe – Town Recreation Director\nChris Clark – Town Fire Chief\nDave Sears – Town Road Commissioner\nKari Clark – Town Clerk & Treasurer\nEd Dumas – Town Police Chief\nMike Delehanty – Town 1st Constable\nJohn Paul Faignant – Town Health Officer / Public Safety Building Clerk / 2nd Constable\nBill Sweet – Town Administrator\nCommittee Meeting Updates / Schedule Committee Meetings\nUpdate on Project List\n\nOld Business \n\nBoard to review for approval\, changes to the Permit Tracking Ordinance\nAny Old Business\n\nNew Business \n\nBoard to review the Credit Card Policy for changes and readoption.\nBoard to review the Social Service Appropriation Policy for any changes\nBoard to discuss Delinquent Tax Collector transition\nBoard to review for approval close out documents for the Post Road water line\nBoard to review for approval a connection request to the Post Road water line\nAny other New Business\nAny necessary Executive Session
URL:https://www.rutlandtown.com/event/select-board-meeting-2021-07-20-2021-08-31-2022-01-18-2022-09-27/
LOCATION:Town of Rutland Municipal Building\, 181Business Route 4\, Center Rutland\, VT\, 05736\, United States
CATEGORIES:Select Board
END:VEVENT
END:VCALENDAR