BEGIN:VCALENDAR
VERSION:2.0
PRODID:-//The Town of Rutland, Vermont - ECPv6.15.20//NONSGML v1.0//EN
CALSCALE:GREGORIAN
METHOD:PUBLISH
X-WR-CALNAME:The Town of Rutland, Vermont
X-ORIGINAL-URL:https://www.rutlandtown.com
X-WR-CALDESC:Events for The Town of Rutland, Vermont
REFRESH-INTERVAL;VALUE=DURATION:PT1H
X-Robots-Tag:noindex
X-PUBLISHED-TTL:PT1H
BEGIN:VTIMEZONE
TZID:UTC
BEGIN:STANDARD
TZOFFSETFROM:+0000
TZOFFSETTO:+0000
TZNAME:UTC
DTSTART:20210101T000000
END:STANDARD
END:VTIMEZONE
BEGIN:VEVENT
DTSTART;TZID=UTC:20221004T190000
DTEND;TZID=UTC:20221004T210000
DTSTAMP:20260424T164331
CREATED:20220920T180507Z
LAST-MODIFIED:20220920T180507Z
UID:10000666-1664910000-1664917200@www.rutlandtown.com
SUMMARY:Candidate Forum
DESCRIPTION:As a community service project\, the Wallingford Memorial Rotary Club will be sponsoring a Candidate Forum to allow voters to hear from candidates running for State Representative for Rutland-2\, the district representing Wallingford\, Clarendon\, West Rutland and parts of Rutland Town. The four candidates are Rep. Thomas Burditt\, Ken Fredette\, Rep. Arthur Peterson and David Potter. At this time we plan to hold the Forum in person at Wallingford Town Hall\, 75 School Street\, Wallingford\, on Tuesday\, October 4 from 7:00-9:00 PM. For the safety of our community\, mask wearing is encouraged. The Forum will also be recorded by PEG-TV for those who are unable to attend. Questions to the candidates must be submitted prior to the Forum via email (townadmin@wallingfordvt.com) or in person to Sandi Switzer at Town Hall. The deadline for submission of questions is 4:00 PM on Tuesday\, September 27\, one week ahead of the Forum. Similar questions will be combined\, and all questions will be asked of the candidates by the Moderator. If you have questions regarding the Forum\, please email Erika Berner at erikajb.rotary@gmail.com. \nErika Berner\, President\, Wallingford Memorial Rotary Club
URL:https://www.rutlandtown.com/event/candidate-forum/
LOCATION:VT\, United States
CATEGORIES:Community
END:VEVENT
BEGIN:VEVENT
DTSTART;TZID=UTC:20221006T183000
DTEND;TZID=UTC:20221006T200000
DTSTAMP:20260424T164331
CREATED:20210715T124556Z
LAST-MODIFIED:20221003T181017Z
UID:10000548-1665081000-1665086400@www.rutlandtown.com
SUMMARY:Planning Commission Meeting
DESCRIPTION:Planning Commission Agenda 10-6-2022 \nClick HERE to join the meeting remotely. \nTOWN OF RUTLAND PLANNING COMMISSION AGENDA \nThursday\, October 6\, 2022 \n  \nLocation: Rutland Town Municipal Town Hall and Zoom Conferencing \nOpen Meeting – 6:30 PM \nTo participate via zoom please call (646) 558-8656 or visit zoom.us/join and enter meeting ID 985 4127 6671. \nCall to Order/ Pledge of Allegiance  \nApproval of Agenda \nPublic Comment    \nNew Business \n\nNext Steps with Reformatted Subdivision ordinance\n\nCross reference sections of storm water ordinance\n\n\nOther\n\nOld Business \n\nUpdate on energy survey progress\nOther\n\nAnnouncements/News \n\nLetter project manager for Hawley Lane subdivision\n\nApproval of Minutes \n\nSeptember 15\, 2022\n\nAdjournment
URL:https://www.rutlandtown.com/event/town-of-rutland-planning-commission-meeting-2-2021-12-09-2022-01-27-2022-10-06/
LOCATION:Town of Rutland Municipal Building\, 181Business Route 4\, Center Rutland\, VT\, 05736\, United States
CATEGORIES:Planning Commission
END:VEVENT
BEGIN:VEVENT
DTSTART;TZID=UTC:20221007T090000
DTEND;TZID=UTC:20221007T100000
DTSTAMP:20260424T164331
CREATED:20221004T153555Z
LAST-MODIFIED:20221004T153555Z
UID:10000668-1665133200-1665136800@www.rutlandtown.com
SUMMARY:Highway Committee Meeting
DESCRIPTION:Highway Committee Agenda 10-7-2022 \nRUTLAND TOWN SELECTBOARD COMMITTEE MEETING \nHIGHWAY COMMITTEE  \nFriday October 7th\, 2022\, 9:00 AM \nLocation: Rutland Town Municipal Town Hall and Zoom Conferencing \nTo participate via zoom please call (646) 558-8656 \nor visit zoom.us/join and enter meeting ID 851 9094 1198. \nAgenda: \n\nSander for F350\nDiscuss ordinance revisions\nAny other business
URL:https://www.rutlandtown.com/event/highway-committee-meeting-6/
LOCATION:Town of Rutland Municipal Building\, 181Business Route 4\, Center Rutland\, VT\, 05736\, United States
CATEGORIES:Committee Meeting
END:VEVENT
END:VCALENDAR