BEGIN:VCALENDAR
VERSION:2.0
PRODID:-//The Town of Rutland, Vermont - ECPv6.15.20//NONSGML v1.0//EN
CALSCALE:GREGORIAN
METHOD:PUBLISH
X-WR-CALNAME:The Town of Rutland, Vermont
X-ORIGINAL-URL:https://www.rutlandtown.com
X-WR-CALDESC:Events for The Town of Rutland, Vermont
REFRESH-INTERVAL;VALUE=DURATION:PT1H
X-Robots-Tag:noindex
X-PUBLISHED-TTL:PT1H
BEGIN:VTIMEZONE
TZID:UTC
BEGIN:STANDARD
TZOFFSETFROM:+0000
TZOFFSETTO:+0000
TZNAME:UTC
DTSTART:20210101T000000
END:STANDARD
END:VTIMEZONE
BEGIN:VEVENT
DTSTART;TZID=UTC:20221115T180000
DTEND;TZID=UTC:20221115T190000
DTSTAMP:20260424T164329
CREATED:20221110T193644Z
LAST-MODIFIED:20221110T193710Z
UID:10000670-1668535200-1668538800@www.rutlandtown.com
SUMMARY:Selectboard Budget Meeting
DESCRIPTION:Selectboard Budget Meeting Agenda 11-15-2022 \nClick HERE to join the meeting remotely. \nTOWN OF RUTLAND SELECTBOARD \nPUBLIC MEETING AGENDA FOR TUESDAY NOVEMBER 15th\, 2022 \n Location: Rutland Town Municipal Town Hall and Zoom Conferencing \nOpen Meeting – 6:00 PM \n  \nTo participate via zoom please visit zoom.us/join or call (646) 558-8656 and enter meeting ID 939 1518 8696. \nMeeting Opening \n\nPledge of Allegiance\nApproval of Selectboard Minutes:\n\nOctober 25th\n\n\nAnnouncements\nQuestions from the floor; public comments\n\nNew Business \n\nBoard to discuss budgets for 2023 – 2024\nAny Other New Business\nAny necessary Executive Session
URL:https://www.rutlandtown.com/event/selectboard-budget-meeting/
LOCATION:Town of Rutland Municipal Building\, 181Business Route 4\, Center Rutland\, VT\, 05736\, United States
CATEGORIES:Select Board
END:VEVENT
BEGIN:VEVENT
DTSTART;TZID=UTC:20221117T183000
DTEND;TZID=UTC:20221117T200000
DTSTAMP:20260424T164329
CREATED:20210715T124556Z
LAST-MODIFIED:20221114T144005Z
UID:10000375-1668709800-1668715200@www.rutlandtown.com
SUMMARY:Planning Commission Meeting
DESCRIPTION:Planning Commission Agenda 11-17-2022 \nClick HERE to join the meeting remotely. \nTOWN OF RUTLAND PLANNING COMMISSION AGENDA \nThursday\, November 17th\, 2022  \nLocation: Rutland Town Municipal Town Hall and Zoom Conferencing  \nOpen Meeting – 6:30 PM  \nTo participate via zoom please call (646) 558-8656 or visit zoom.us/join and enter meeting ID 985 4127 6671.  \nCall to Order/ Pledge of Allegiance \n  \nApproval of Agenda \n  \nPublic Comment \n  \nNew Business \n\nPocket Park – GMP meeting\n\nOld Business \n\nPermit Tracking Ordinance & Form – Selectboard suggestions\nUpdate on energy survey\nDiscussion on river corridor/flood hazard regulations presentation with Kyle Medash. Link to river corridor website VT river corridors for more info.\nDiscussion of Rules of Procedure revisions\nSubdivision ordinance revisions (20 minutes)\n\nAnnouncements/News \n  \nApproval of Minutes \n\nOctober 6\, 2022\nOctober 27\, 2022\n\nAdjournment
URL:https://www.rutlandtown.com/event/town-of-rutland-planning-commission-meeting-2-2021-12-09-2022-01-27-2022-11-17/
LOCATION:Town of Rutland Municipal Building\, 181Business Route 4\, Center Rutland\, VT\, 05736\, United States
CATEGORIES:Planning Commission
END:VEVENT
END:VCALENDAR