BEGIN:VCALENDAR
VERSION:2.0
PRODID:-//The Town of Rutland, Vermont - ECPv6.15.20//NONSGML v1.0//EN
CALSCALE:GREGORIAN
METHOD:PUBLISH
X-ORIGINAL-URL:https://www.rutlandtown.com
X-WR-CALDESC:Events for The Town of Rutland, Vermont
REFRESH-INTERVAL;VALUE=DURATION:PT1H
X-Robots-Tag:noindex
X-PUBLISHED-TTL:PT1H
BEGIN:VTIMEZONE
TZID:UTC
BEGIN:STANDARD
TZOFFSETFROM:+0000
TZOFFSETTO:+0000
TZNAME:UTC
DTSTART:20220101T000000
END:STANDARD
END:VTIMEZONE
BEGIN:VEVENT
DTSTART;TZID=UTC:20230417T170000
DTEND;TZID=UTC:20230417T180000
DTSTAMP:20260425T150059
CREATED:20230412T201751Z
LAST-MODIFIED:20230412T202303Z
UID:10000581-1681750800-1681754400@www.rutlandtown.com
SUMMARY:Special Select Board Meeting
DESCRIPTION:Special Select Board Meeting Agenda 4-17-2023 \n TOWN OF RUTLAND SELECT BOARD \n SPECIAL MEETING AGENDA FOR MONDAY APRIL 17th\, 2023 \n Location: Rutland Town Municipal Town Hall \nOpen Meeting – 5:00 PM \nTo participate via zoom please visit zoom.us/join or call (646) 558-8656 and enter meeting ID 939 1518 8696. \n Action Items \n\nBoard to finalize language for the May 23rd\nBoard to set a rain date for fireworks.\nAny other new items
URL:https://www.rutlandtown.com/event/special-select-board-meeting-3/
LOCATION:Town of Rutland Municipal Building\, 181Business Route 4\, Center Rutland\, VT\, 05736\, United States
CATEGORIES:Select Board
END:VEVENT
BEGIN:VEVENT
DTSTART;TZID=UTC:20230420T183000
DTEND;TZID=UTC:20230420T200000
DTSTAMP:20260425T150059
CREATED:20210715T124556Z
LAST-MODIFIED:20230324T175715Z
UID:10000382-1682015400-1682020800@www.rutlandtown.com
SUMMARY:Planning Commission Meeting
DESCRIPTION:The agenda will be published once it is finalized.
URL:https://www.rutlandtown.com/event/town-of-rutland-planning-commission-meeting-2-2021-12-09-2022-01-27-2023-01-19-2023-04-20/2023-04-20/
LOCATION:Town of Rutland Municipal Building\, 181Business Route 4\, Center Rutland\, VT\, 05736\, United States
CATEGORIES:Planning Commission
END:VEVENT
END:VCALENDAR