BEGIN:VCALENDAR
VERSION:2.0
PRODID:-//The Town of Rutland, Vermont - ECPv6.15.20//NONSGML v1.0//EN
CALSCALE:GREGORIAN
METHOD:PUBLISH
X-WR-CALNAME:The Town of Rutland, Vermont
X-ORIGINAL-URL:https://www.rutlandtown.com
X-WR-CALDESC:Events for The Town of Rutland, Vermont
REFRESH-INTERVAL;VALUE=DURATION:PT1H
X-Robots-Tag:noindex
X-PUBLISHED-TTL:PT1H
BEGIN:VTIMEZONE
TZID:UTC
BEGIN:STANDARD
TZOFFSETFROM:+0000
TZOFFSETTO:+0000
TZNAME:UTC
DTSTART:20220101T000000
END:STANDARD
END:VTIMEZONE
BEGIN:VTIMEZONE
TZID:America/New_York
BEGIN:DAYLIGHT
TZOFFSETFROM:-0500
TZOFFSETTO:-0400
TZNAME:EDT
DTSTART:20220313T070000
END:DAYLIGHT
BEGIN:STANDARD
TZOFFSETFROM:-0400
TZOFFSETTO:-0500
TZNAME:EST
DTSTART:20221106T060000
END:STANDARD
BEGIN:DAYLIGHT
TZOFFSETFROM:-0500
TZOFFSETTO:-0400
TZNAME:EDT
DTSTART:20230312T070000
END:DAYLIGHT
BEGIN:STANDARD
TZOFFSETFROM:-0400
TZOFFSETTO:-0500
TZNAME:EST
DTSTART:20231105T060000
END:STANDARD
BEGIN:DAYLIGHT
TZOFFSETFROM:-0500
TZOFFSETTO:-0400
TZNAME:EDT
DTSTART:20240310T070000
END:DAYLIGHT
BEGIN:STANDARD
TZOFFSETFROM:-0400
TZOFFSETTO:-0500
TZNAME:EST
DTSTART:20241103T060000
END:STANDARD
END:VTIMEZONE
BEGIN:VEVENT
DTSTART;VALUE=DATE:20230704
DTEND;VALUE=DATE:20230705
DTSTAMP:20260426T033810
CREATED:20230629T150811Z
LAST-MODIFIED:20230629T150811Z
UID:10000787-1688428800-1688515199@www.rutlandtown.com
SUMMARY:Town Hall Closed - Independence Day
DESCRIPTION:
URL:https://www.rutlandtown.com/event/town-hall-closed-independence-day/
LOCATION:Town of Rutland Municipal Building\, 181Business Route 4\, Center Rutland\, VT\, 05736\, United States
CATEGORIES:Community,Municipal Date
END:VEVENT
BEGIN:VEVENT
DTSTART;TZID=America/New_York:20230705T180000
DTEND;TZID=America/New_York:20230705T200000
DTSTAMP:20260426T033810
CREATED:20230629T150713Z
LAST-MODIFIED:20230629T150739Z
UID:10000475-1688580000-1688587200@www.rutlandtown.com
SUMMARY:Select Board Meeting
DESCRIPTION:Select Board Agenda 7-5-2023 \nClick HERE to join the meeting remotely. \nTOWN OF RUTLAND SELECT BOARD \nPUBLIC MEETING AGENDA FOR WEDNESDAY JULY 5th\, 2023 \n  \nLocation: Rutland Town Municipal Town Hall and Zoom Conferencing \nOpen Meeting – 6:00 PM \n To participate via zoom please visit zoom.us/join or call (646) 558-8656 and enter meeting ID 939 1518 8696. \nMeeting Opening \n\nPledge of Allegiance\nApproval of Select Board Minutes:\n\nJune 20th\n\n\nBoard Member Announcements\nUpdate from the Select Board Chair\nQuestions from the floor; public comments\n\nDepartment Head Reports \n\nJohn Paul Faignant – Town Health Officer / Public Safety Building Clerk / 2nd Constable\nBarbara Pulling – Town Planning Commission Chair\nMike Rowe – Town Recreation Director\nDave Sears – Town Road Commissioner\nMarcia Chioffi – Town Head Lister\nChris Clark – Town Fire Chief\nKari Clark – Town Clerk & Treasurer\nMike Delehanty – Town 1st Constable\nEd Dumas – Town Police Chief\nBill Sweet – Town Administrator\n\nCommittee / Project List Updates \n\nCommittee Meeting Reports\nUpdate on Select Board Project List\n\nAction Needed \n\nBoard to review for approval\, MS4 Community Grant Intent to Participate letter\nBoard to discuss the Quarterline Road issue\nBoard to discuss the Town Wide Celebration\nBoard to discuss a Grand Juror Nomination\nBoard to review water connection request for 196 Randbury Road\nTabled motion on signing the AIA contract for the Public Safety Building.\nBoard to meet in Executive Session with the Town Attorney\nAny Other New Items
URL:https://www.rutlandtown.com/event/select-board-meeting-2021-07-20-2021-08-31-2022-01-18-2022-05-24-2/
LOCATION:Town of Rutland Municipal Building\, 181Business Route 4\, Center Rutland\, VT\, 05736\, United States
CATEGORIES:Select Board
END:VEVENT
END:VCALENDAR