BEGIN:VCALENDAR
VERSION:2.0
PRODID:-//The Town of Rutland, Vermont - ECPv6.15.20//NONSGML v1.0//EN
CALSCALE:GREGORIAN
METHOD:PUBLISH
X-WR-CALNAME:The Town of Rutland, Vermont
X-ORIGINAL-URL:https://www.rutlandtown.com
X-WR-CALDESC:Events for The Town of Rutland, Vermont
REFRESH-INTERVAL;VALUE=DURATION:PT1H
X-Robots-Tag:noindex
X-PUBLISHED-TTL:PT1H
BEGIN:VTIMEZONE
TZID:UTC
BEGIN:STANDARD
TZOFFSETFROM:+0000
TZOFFSETTO:+0000
TZNAME:UTC
DTSTART:20230101T000000
END:STANDARD
END:VTIMEZONE
BEGIN:VEVENT
DTSTART;VALUE=DATE:20240723
DTEND;VALUE=DATE:20240724
DTSTAMP:20260426T033810
CREATED:20240709T160807Z
LAST-MODIFIED:20240709T160907Z
UID:10001071-1721692800-1721779199@www.rutlandtown.com
SUMMARY:Grievance Hearings
DESCRIPTION:2024 Grievance Hearing Notice \nPLEASE TAKE NOTICE THAT THE TOWN OF RUTLAND LISTERS WILL BE HOLDING GRIEVANCES ON JULY 23RD\, 2024. \nNO GRIEVANCES WILL BE HEARD ON JULY 15TH\, 2024.
URL:https://www.rutlandtown.com/event/grievance-hearings/
LOCATION:Town of Rutland Municipal Building\, 181Business Route 4\, Center Rutland\, VT\, 05736\, United States
CATEGORIES:Municipal Date
END:VEVENT
BEGIN:VEVENT
DTSTART;TZID=UTC:20240723T090000
DTEND;TZID=UTC:20240723T163000
DTSTAMP:20260426T033810
CREATED:20240719T130022Z
LAST-MODIFIED:20240719T130022Z
UID:10001075-1721725200-1721752200@www.rutlandtown.com
SUMMARY:Grievance Hearings
DESCRIPTION:7.23.2024 Listers Grievance Hearing Notice
URL:https://www.rutlandtown.com/event/grievance-hearings-2/
LOCATION:Town of Rutland Municipal Building\, 181Business Route 4\, Center Rutland\, VT\, 05736\, United States
CATEGORIES:Municipal Date
END:VEVENT
BEGIN:VEVENT
DTSTART;TZID=UTC:20240723T110000
DTEND;TZID=UTC:20240723T130000
DTSTAMP:20260426T033810
CREATED:20240708T124139Z
LAST-MODIFIED:20240708T124139Z
UID:10001067-1721732400-1721739600@www.rutlandtown.com
SUMMARY:Senior Luncheon
DESCRIPTION:Are you a Rutland Town Senior? \nPlease join us at Northwood Pool for a luncheon! \nFor details\, please contact our rec Director Mike Rowe at 802-779-2518 \n 
URL:https://www.rutlandtown.com/event/senior-luncheon-2/
LOCATION:Northwood Park\, 185 Northwood Park Road\, Rutland\, 05701
CATEGORIES:Community
END:VEVENT
BEGIN:VEVENT
DTSTART;TZID=UTC:20240723T173000
DTEND;TZID=UTC:20240723T183000
DTSTAMP:20260426T033810
CREATED:20240717T170507Z
LAST-MODIFIED:20240717T170756Z
UID:10001074-1721755800-1721759400@www.rutlandtown.com
SUMMARY:Special Select Board Meeting
DESCRIPTION:Click HERE to join the meeting remotely. \nSpecial Select Board Meeting Agenda 7-23-2024 \nTOWN OF RUTLAND SELECT BOARD \nPUBLIC MEETING AGENDA FOR TUESDAY JULY 23rd \, 2024 \nLocation: Municipal Town Hall and Zoom Conferencing \nOpen Meeting – 5:30 PM \n To participate via zoom please visit zoom.us/join or call (646) 558-8656 and enter meeting ID 939 1518 8696. \nMeeting Opening \n\nPledge of Allegiance\n\nAction Needed \n\nBoard to vote on setting the tax rate\nAny other business
URL:https://www.rutlandtown.com/event/special-select-board-meeting-9/
LOCATION:Town of Rutland Municipal Building\, 181Business Route 4\, Center Rutland\, VT\, 05736\, United States
CATEGORIES:Select Board
END:VEVENT
END:VCALENDAR