BEGIN:VCALENDAR
VERSION:2.0
PRODID:-//The Town of Rutland, Vermont - ECPv6.15.20//NONSGML v1.0//EN
CALSCALE:GREGORIAN
METHOD:PUBLISH
X-WR-CALNAME:The Town of Rutland, Vermont
X-ORIGINAL-URL:https://www.rutlandtown.com
X-WR-CALDESC:Events for The Town of Rutland, Vermont
REFRESH-INTERVAL;VALUE=DURATION:PT1H
X-Robots-Tag:noindex
X-PUBLISHED-TTL:PT1H
BEGIN:VTIMEZONE
TZID:UTC
BEGIN:STANDARD
TZOFFSETFROM:+0000
TZOFFSETTO:+0000
TZNAME:UTC
DTSTART:20230101T000000
END:STANDARD
END:VTIMEZONE
BEGIN:VEVENT
DTSTART;TZID=UTC:20240820T173000
DTEND;TZID=UTC:20240820T183000
DTSTAMP:20260426T015646
CREATED:20240815T192931Z
LAST-MODIFIED:20240815T192931Z
UID:10001237-1724175000-1724178600@www.rutlandtown.com
SUMMARY:Special Select Board Meeting
DESCRIPTION:Select Board Special Meeting Agenda 8-20-2024 \nTOWN OF RUTLAND SELECT BOARD\nPUBLIC MEETING AGENDA FOR TUESDAY AUGUST 20th \, 2024\nLocation: 272 McKinley Ave\nOpen Meeting – 5:30 PM\n \nAction Needed\n\n\n\nBoard to visit the Public Safety Building site\, with the Public Safety Building clerk.\n\n\n\n\nBuilding access will only be granted to designated town officials.\n\n\n\n\n\n\nAny other business
URL:https://www.rutlandtown.com/event/special-select-board-meeting-10/
LOCATION:McKinley Avenue Fire Station\, 272 McKinley Avenue\, Rutland\, 05701
CATEGORIES:Select Board
END:VEVENT
BEGIN:VEVENT
DTSTART;TZID=UTC:20240822T183000
DTEND;TZID=UTC:20240822T200000
DTSTAMP:20260426T015646
CREATED:20240816T125911Z
LAST-MODIFIED:20240816T125911Z
UID:10000921-1724351400-1724356800@www.rutlandtown.com
SUMMARY:Planning Commission Meeting
DESCRIPTION:Click HERE to join the meeting remotely. \nPlanning Commission Agenda 8-22-2024 \nTOWN OF RUTLAND PLANNING COMMISSION AGENDA \nThursday\, August 22\, 2024  \nLocation: Rutland Town Municipal Town Hall and Zoom Conferencing  \nOpen Meeting – 6:30 PM   \nTo participate via zoom please call (646) 558-8656 or visit zoom.us/join and enter meeting ID 985 4127 6671.  \nCall to Order/ Pledge of Allegiance \nApproval of Agenda \nPublic Comment \nNew Business \nTed and Theo Hubbard subdivision application \nGMP Hazardous Waste site in Rutland City public comment notice \nOld Business \nTownwide Celebration (August 24) – Set up for river corridors map and slide show\, housing inventory\, and pocket park \nAnnouncements \nMinutes \nAugust 1\, 2024 \nAdjournment
URL:https://www.rutlandtown.com/event/town-of-rutland-planning-commission-meeting-2-2021-12-09-2022-01-27-2023-01-19-2023-04-20-9-13/
LOCATION:Town of Rutland Municipal Building\, 181Business Route 4\, Center Rutland\, VT\, 05736\, United States
CATEGORIES:Planning Commission
END:VEVENT
END:VCALENDAR