BEGIN:VCALENDAR
VERSION:2.0
PRODID:-//The Town of Rutland, Vermont - ECPv6.15.20//NONSGML v1.0//EN
CALSCALE:GREGORIAN
METHOD:PUBLISH
X-WR-CALNAME:The Town of Rutland, Vermont
X-ORIGINAL-URL:https://www.rutlandtown.com
X-WR-CALDESC:Events for The Town of Rutland, Vermont
REFRESH-INTERVAL;VALUE=DURATION:PT1H
X-Robots-Tag:noindex
X-PUBLISHED-TTL:PT1H
BEGIN:VTIMEZONE
TZID:America/New_York
BEGIN:DAYLIGHT
TZOFFSETFROM:-0500
TZOFFSETTO:-0400
TZNAME:EDT
DTSTART:20230312T070000
END:DAYLIGHT
BEGIN:STANDARD
TZOFFSETFROM:-0400
TZOFFSETTO:-0500
TZNAME:EST
DTSTART:20231105T060000
END:STANDARD
BEGIN:DAYLIGHT
TZOFFSETFROM:-0500
TZOFFSETTO:-0400
TZNAME:EDT
DTSTART:20240310T070000
END:DAYLIGHT
BEGIN:STANDARD
TZOFFSETFROM:-0400
TZOFFSETTO:-0500
TZNAME:EST
DTSTART:20241103T060000
END:STANDARD
BEGIN:DAYLIGHT
TZOFFSETFROM:-0500
TZOFFSETTO:-0400
TZNAME:EDT
DTSTART:20250309T070000
END:DAYLIGHT
BEGIN:STANDARD
TZOFFSETFROM:-0400
TZOFFSETTO:-0500
TZNAME:EST
DTSTART:20251102T060000
END:STANDARD
END:VTIMEZONE
BEGIN:VEVENT
DTSTART;TZID=America/New_York:20240827T180000
DTEND;TZID=America/New_York:20240827T200000
DTSTAMP:20260426T002754
CREATED:20240822T164051Z
LAST-MODIFIED:20240822T164052Z
UID:10000505-1724781600-1724788800@www.rutlandtown.com
SUMMARY:Select Board Meeting
DESCRIPTION:Click HERE to join the meeting remotely. \nSelect Board Agenda 8-27-2024 \nTOWN OF RUTLAND SELECT BOARD \nPUBLIC MEETING AGENDA FOR TUESDAY AUGUST 27TH\, 2024 \nLocation: Municipal Town Hall and Zoom Conferencing \nMeeting Time – 5:30 PM \n To participate via zoom please visit zoom.us/join or call (646) 558-8656 and enter meeting ID 939 1518 8696. \nMeeting Opening \n\nBoard to interview a candidate for the open Lister position at 5:30PM\nOpen Meeting to begin at 6:00PM\nPledge of Allegiance\nApproval of Select Board Minutes:\n\nJuly 2nd Regular Meeting\nJuly 30th Regular Meeting\nAugust 12th Regular Meeting\nAugust 20th Special Meeting\n\n\nBoard Member Announcements\nUpdate from the Select Board Chair\nQuestions from the floor; public comments\n\nDepartment Head Reports \n\nKari Clark – Town Clerk & Treasurer\nMike Delehanty – Town 1st Constable\nEd Dumas – Town Police Chief\nJohn Paul Faignant – Town Health Officer / Public Safety Building Clerk / 2nd Constable\nBarbara Pulling – Town Planning Commission Chair\nMike Rowe – Town Recreation Director\nLarry Dell Veneri – Town Transfer Station Manager\nDave Sears – Town Road Commissioner\nMarcia Chioffi – Town Head Lister\nChris Clark – Town Fire Chief\nBill Sweet – Town Administrator\n\nCommittee / Project List Updates \n\nCommittee Meeting Reports\n\nHighway & Building Committees\n\n\nUpdate on Select Board Project List\n\nAction Needed \n\nBoard to discuss filling the vacancy in the Listers Office\nBoard to discuss adopting the State of Vermont 250th Anniversary resolution.\nBoard to meet with Devon Neary from the RRPC to discuss new legislation and its effect in town\nBoard to discuss bid awards for heating fuel\nReport on Public Safety Building site visit\nAny Other New Items\nBoard to meet in executive session.
URL:https://www.rutlandtown.com/event/select-board-meeting-2021-07-20-2021-08-31-2022-01-18-2022-05-24-32-2/
LOCATION:Town of Rutland Municipal Building\, 181Business Route 4\, Center Rutland\, VT\, 05736\, United States
CATEGORIES:Select Board
END:VEVENT
END:VCALENDAR