BEGIN:VCALENDAR
VERSION:2.0
PRODID:-//The Town of Rutland, Vermont - ECPv6.15.20//NONSGML v1.0//EN
CALSCALE:GREGORIAN
METHOD:PUBLISH
X-ORIGINAL-URL:https://www.rutlandtown.com
X-WR-CALDESC:Events for The Town of Rutland, Vermont
REFRESH-INTERVAL;VALUE=DURATION:PT1H
X-Robots-Tag:noindex
X-PUBLISHED-TTL:PT1H
BEGIN:VTIMEZONE
TZID:UTC
BEGIN:STANDARD
TZOFFSETFROM:+0000
TZOFFSETTO:+0000
TZNAME:UTC
DTSTART:20230101T000000
END:STANDARD
END:VTIMEZONE
BEGIN:VTIMEZONE
TZID:America/New_York
BEGIN:DAYLIGHT
TZOFFSETFROM:-0500
TZOFFSETTO:-0400
TZNAME:EDT
DTSTART:20230312T070000
END:DAYLIGHT
BEGIN:STANDARD
TZOFFSETFROM:-0400
TZOFFSETTO:-0500
TZNAME:EST
DTSTART:20231105T060000
END:STANDARD
BEGIN:DAYLIGHT
TZOFFSETFROM:-0500
TZOFFSETTO:-0400
TZNAME:EDT
DTSTART:20240310T070000
END:DAYLIGHT
BEGIN:STANDARD
TZOFFSETFROM:-0400
TZOFFSETTO:-0500
TZNAME:EST
DTSTART:20241103T060000
END:STANDARD
BEGIN:DAYLIGHT
TZOFFSETFROM:-0500
TZOFFSETTO:-0400
TZNAME:EDT
DTSTART:20250309T070000
END:DAYLIGHT
BEGIN:STANDARD
TZOFFSETFROM:-0400
TZOFFSETTO:-0500
TZNAME:EST
DTSTART:20251102T060000
END:STANDARD
END:VTIMEZONE
BEGIN:VEVENT
DTSTART;VALUE=DATE:20240902
DTEND;VALUE=DATE:20240903
DTSTAMP:20260426T033925
CREATED:20230828T125043Z
LAST-MODIFIED:20230828T125043Z
UID:10000860-1725235200-1725321599@www.rutlandtown.com
SUMMARY:Town Hall Closed
DESCRIPTION:Town Hall will be closed in observance on Labor Day.
URL:https://www.rutlandtown.com/event/town-hall-closed-13/2024-09-02/
LOCATION:Town of Rutland Municipal Building\, 181Business Route 4\, Center Rutland\, VT\, 05736\, United States
CATEGORIES:Municipal Date
END:VEVENT
BEGIN:VEVENT
DTSTART;TZID=America/New_York:20240903T180000
DTEND;TZID=America/New_York:20240903T200000
DTSTAMP:20260426T033925
CREATED:20240801T181535Z
LAST-MODIFIED:20240801T181535Z
UID:10001108-1725386400-1725393600@www.rutlandtown.com
SUMMARY:Select Board Meeting
DESCRIPTION:The agenda will be posted once it is finalized. \nClick HERE to join the meeting remotely.
URL:https://www.rutlandtown.com/event/select-board-meeting-2021-07-20-2021-08-31-2022-01-18-2022-05-24-32/
LOCATION:Town of Rutland Municipal Building\, 181Business Route 4\, Center Rutland\, VT\, 05736\, United States
CATEGORIES:Select Board
END:VEVENT
BEGIN:VEVENT
DTSTART;TZID=UTC:20240904T080000
DTEND;TZID=UTC:20240904T170000
DTSTAMP:20260426T033925
CREATED:20240904T201908Z
LAST-MODIFIED:20240904T201908Z
UID:10001244-1725436800-1725469200@www.rutlandtown.com
SUMMARY:Public Safety Building Committee Meeting
DESCRIPTION:Public Safety Building Committee Agenda 9-10-2024 \nRUTLAND TOWN SELECT BOARD COMMITTEE MEETING\nPUBLIC SAFETY BUILDING COMMITTEE\nTuesday September 10th\, 5PM\nLocation: Rutland Town Municipal Town Hall and Zoom Conferencing\n To participate via zoom please call (646) 558-8656 or visit zoom.us/join and enter meeting ID 939 1518 8696.\n Agenda:\n\n\nMeet with the Public Safety Building Clerk to discuss needs for the new building.\n\n\nAny other business
URL:https://www.rutlandtown.com/event/public-safety-building-committee-meeting-5/
CATEGORIES:Committee Meeting
END:VEVENT
BEGIN:VEVENT
DTSTART;TZID=UTC:20240904T150000
DTEND;TZID=UTC:20240904T160000
DTSTAMP:20260426T033925
CREATED:20240829T135838Z
LAST-MODIFIED:20240829T135838Z
UID:10001242-1725462000-1725465600@www.rutlandtown.com
SUMMARY:Police Committee Agenda
DESCRIPTION:Police Committee Agenda 9-4-2024 \nRUTLAND TOWN SELECT BOARD COMMITTEE MEETING \nPOLICE COMMITTEE  \nWednesday\, September 4th\, 3:00PM \nLocation: Rutland Town Municipal Town Hall and Zoom Conferencing \nTo join via zoom call (646) 558-8656 or visit zoom.us/join and enter meeting ID 851 9094 1198. \nAgenda: \n\nReview the balance of the Cortina Inn funds\nCFAC request for the Town to provide an officer\nPurchase of a fingerprint reader\nReview the hiring process of a new patrol officer\nAny other business.
URL:https://www.rutlandtown.com/event/police-committee-agenda/
LOCATION:Town of Rutland Municipal Building\, 181Business Route 4\, Center Rutland\, VT\, 05736\, United States
CATEGORIES:Committee Meeting
END:VEVENT
BEGIN:VEVENT
DTSTART;TZID=UTC:20240904T160000
DTEND;TZID=UTC:20240904T170000
DTSTAMP:20260426T033925
CREATED:20240829T140022Z
LAST-MODIFIED:20240829T140022Z
UID:10001243-1725465600-1725469200@www.rutlandtown.com
SUMMARY:Personnel Committee Agenda
DESCRIPTION:Personnel Committee Agenda 9-4-2024 \nRUTLAND TOWN SELECT BOARD COMMITTEE MEETING \nPERSONNEL COMMITTEE  \nWednesday\, September 4th\, 4:00PM \nLocation: Rutland Town Municipal Town Hall and Zoom Conferencing \nTo join via zoom call (646) 558-8656 or visit zoom.us/join and enter meeting ID 851 9094 1198. \n  \nAgenda: \n\nWork on updates to the Personnel Policy\n\n\nAny other business.
URL:https://www.rutlandtown.com/event/personnel-committee-agenda/
LOCATION:Town of Rutland Municipal Building\, 181Business Route 4\, Center Rutland\, VT\, 05736\, United States
CATEGORIES:Committee Meeting
END:VEVENT
END:VCALENDAR