BEGIN:VCALENDAR
VERSION:2.0
PRODID:-//The Town of Rutland, Vermont - ECPv6.15.20//NONSGML v1.0//EN
CALSCALE:GREGORIAN
METHOD:PUBLISH
X-WR-CALNAME:The Town of Rutland, Vermont
X-ORIGINAL-URL:https://www.rutlandtown.com
X-WR-CALDESC:Events for The Town of Rutland, Vermont
REFRESH-INTERVAL;VALUE=DURATION:PT1H
X-Robots-Tag:noindex
X-PUBLISHED-TTL:PT1H
BEGIN:VTIMEZONE
TZID:UTC
BEGIN:STANDARD
TZOFFSETFROM:+0000
TZOFFSETTO:+0000
TZNAME:UTC
DTSTART:20240101T000000
END:STANDARD
END:VTIMEZONE
BEGIN:VEVENT
DTSTART;TZID=UTC:20250211T180000
DTEND;TZID=UTC:20250211T210000
DTSTAMP:20260425T165052
CREATED:20250206T170634Z
LAST-MODIFIED:20250206T170634Z
UID:10001261-1739296800-1739307600@www.rutlandtown.com
SUMMARY:Selectboard Meeting
DESCRIPTION:Click HERE to join the meeting remotely. \nSelectboard Agenda 2-11-2025 \nTOWN OF RUTLAND SELECTBOARD MEETING NOTICE AND AGENDA \nMUNICIPAL TOWN HALL AND ZOOM CONFERENCING \n6:00 PM Tuesday February 11th\, 2025 \nTo participate via zoom please visit zoom.us/join or call (646) 558-8656 and enter meeting ID 939 1518 8696. \nMeeting Opening \n\nPledge of Allegiance\nApproval of Selectboard Minutes:\n\nJanuary 28th\n\n\nBoard Member Announcements\nUpdate from the Selectboard Chair\nQuestions from the floor; public comments\n\nDepartment Head Reports \n\nDave Sears – Town Road Commissioner\nEd Dumas – Town Police Chief\nMike Rowe – Town Recreation Director\nLarry Dell Veneri – Town Transfer Station Manager\nMarcia Chioffi – Town Head Lister\nChris Clark – Town Fire Chief\nKari Clark – Town Clerk & Treasurer\nMike Delehanty – Town 1st Constable\nJohn Paul Faignant – Town Health Officer / 2nd Constable\nBarbara Pulling – Town Planning Commission Chair\nJoe Denardo – Public Safety Building Clerk\nBill Sweet – Town Administrator\n\nAction items \n\nMeet with Megan Smith & Fred Bagley from the Mendon Selectboard regarding speed limits.\nSubmit the updated Local Hazard Mitigation Plan for approval pending adoption\nReview draft Code of Ethics Investigation & Enforcement Policy\nPublic Safety Building update\nReview for approval\, Town Road & Bridge Standards & Town Highway annual financial plan\nAny other new items\nUpdate on committee meetings and the Selectboard project list.\nMeet in executive session
URL:https://www.rutlandtown.com/event/select-board-meeting-2-12/
LOCATION:Town of Rutland Municipal Building\, 181Business Route 4\, Center Rutland\, VT\, 05736\, United States
CATEGORIES:Select Board
END:VEVENT
BEGIN:VEVENT
DTSTART;TZID=UTC:20250213T183000
DTEND;TZID=UTC:20250213T200000
DTSTAMP:20260425T165052
CREATED:20250210T160758Z
LAST-MODIFIED:20250210T160758Z
UID:10001412-1739471400-1739476800@www.rutlandtown.com
SUMMARY:Planning Commission Meeting
DESCRIPTION:Click HERE to join the meeting remotely. \nPlanning Commission Agenda 2-13-2025 \nTOWN OF RUTLAND PLANNING COMMISSION AGENDA \nThursday\, February 13th\, 2025  \nLocation: Rutland Town Municipal Town Hall and Zoom Conferencing  \nOpen Meeting – 6:30 PM   \nTo participate via zoom please call (646) 558-8656 or visit zoom.us/join and enter meeting ID 985 4127 6671.  \nCall to Order/ Pledge of Allegiance \nApproval of Agenda \nPublic Comment \nNew Business \n\nBoundary Line Adjustment for Ivan Rochon and Gardner Stone on Cedar Avenue\nMunicipal Planning Grant for a Local Housing Needs Assessment discussion\n\nOld Business \n\nSubdivision Ordinance update\nRiver corridor ordinance review\nPocket Park grant application review\n\nAnnouncements \nMinutes \nJanuary 23\, 2025 \nAdjournment
URL:https://www.rutlandtown.com/event/town-of-rutland-planning-commission-meeting-2-2021-12-09-2022-01-27-2023-01-19-2023-04-20-9-21/
LOCATION:Town of Rutland Municipal Building\, 181Business Route 4\, Center Rutland\, VT\, 05736\, United States
CATEGORIES:Planning Commission
END:VEVENT
END:VCALENDAR