BEGIN:VCALENDAR
VERSION:2.0
PRODID:-//The Town of Rutland, Vermont - ECPv6.15.20//NONSGML v1.0//EN
CALSCALE:GREGORIAN
METHOD:PUBLISH
X-ORIGINAL-URL:https://www.rutlandtown.com
X-WR-CALDESC:Events for The Town of Rutland, Vermont
REFRESH-INTERVAL;VALUE=DURATION:PT1H
X-Robots-Tag:noindex
X-PUBLISHED-TTL:PT1H
BEGIN:VTIMEZONE
TZID:UTC
BEGIN:STANDARD
TZOFFSETFROM:+0000
TZOFFSETTO:+0000
TZNAME:UTC
DTSTART:20240101T000000
END:STANDARD
END:VTIMEZONE
BEGIN:VEVENT
DTSTART;TZID=UTC:20250303T190000
DTEND;TZID=UTC:20250303T210000
DTSTAMP:20260424T094545
CREATED:20250205T155217Z
LAST-MODIFIED:20250228T150938Z
UID:10001503-1741028400-1741035600@www.rutlandtown.com
SUMMARY:Town Meeting
DESCRIPTION:Town meeting warning \nTo attend virtually using zoom click this link.
URL:https://www.rutlandtown.com/event/town-meeting-4/
LOCATION:Rutland Town School\, 1612 Post Road\, Rutland\, VT\, 05701\, United States
CATEGORIES:Community,Municipal Date,Select Board
END:VEVENT
BEGIN:VEVENT
DTSTART;TZID=UTC:20250306T183000
DTEND;TZID=UTC:20250306T190000
DTSTAMP:20260424T094545
CREATED:20250210T173544Z
LAST-MODIFIED:20250210T173544Z
UID:10001507-1741285800-1741287600@www.rutlandtown.com
SUMMARY:Baird / Levins Boundary Line Adjustment Hearing
DESCRIPTION:Baird / Levins Boundary Line Adjustment Hearing Notice 3-6-2025
URL:https://www.rutlandtown.com/event/baird-levins-boundary-line-adjustment-hearing/
LOCATION:Town of Rutland Municipal Building\, 181Business Route 4\, Center Rutland\, VT\, 05736\, United States
CATEGORIES:Planning Commission
END:VEVENT
BEGIN:VEVENT
DTSTART;TZID=UTC:20250306T183000
DTEND;TZID=UTC:20250306T200000
DTSTAMP:20260424T094545
CREATED:20250303T133513Z
LAST-MODIFIED:20250303T133513Z
UID:10001413-1741285800-1741291200@www.rutlandtown.com
SUMMARY:Planning Commission Meeting
DESCRIPTION:Click HERE to join the meeting remotely. \nPlanning Commission Agenda 3-6-2025 \nTOWN OF RUTLAND PLANNING COMMISSION AGENDA \nThursday\, March 6\, 2025  \nLocation: Rutland Town Municipal Town Hall and Zoom Conferencing  \nOpen Meeting – 6:30 PM   \nTo participate via zoom please call (646) 558-8656 or visit zoom.us/join and enter meeting ID 985 4127 6671.  \nCall to Order/ Pledge of Allegiance \nPublic Hearing on Baird/Levins Boundary Line Adjustment on McKinley Avenue \nApproval of Agenda \nPublic Comment\nNew Business \n\nDecision on Boundary Line Adjustment for Baird/Levins\nRules of Procedure actions\n\nOld Business \n• Subdivision Ordinance update \n• River corridor ordinance review \n• VSA 1 § 312 (6. C. b1) review (regarding Minutes) \nAnnouncements \nMinutes \nFebruary 13\, 2025 \nAdjournment \nMunicipal Code of Ethics training (following meeting)
URL:https://www.rutlandtown.com/event/town-of-rutland-planning-commission-meeting-2-2021-12-09-2022-01-27-2023-01-19-2023-04-20-9-22/
LOCATION:Town of Rutland Municipal Building\, 181Business Route 4\, Center Rutland\, VT\, 05736\, United States
CATEGORIES:Planning Commission
END:VEVENT
END:VCALENDAR