BEGIN:VCALENDAR
VERSION:2.0
PRODID:-//The Town of Rutland, Vermont - ECPv6.15.20//NONSGML v1.0//EN
CALSCALE:GREGORIAN
METHOD:PUBLISH
X-ORIGINAL-URL:https://www.rutlandtown.com
X-WR-CALDESC:Events for The Town of Rutland, Vermont
REFRESH-INTERVAL;VALUE=DURATION:PT1H
X-Robots-Tag:noindex
X-PUBLISHED-TTL:PT1H
BEGIN:VTIMEZONE
TZID:UTC
BEGIN:STANDARD
TZOFFSETFROM:+0000
TZOFFSETTO:+0000
TZNAME:UTC
DTSTART:20240101T000000
END:STANDARD
END:VTIMEZONE
BEGIN:VEVENT
DTSTART;TZID=UTC:20250617T180000
DTEND;TZID=UTC:20250617T210000
DTSTAMP:20260424T090626
CREATED:20250612T161734Z
LAST-MODIFIED:20250612T161734Z
UID:10001270-1750183200-1750194000@www.rutlandtown.com
SUMMARY:Selectboard Meeting
DESCRIPTION:Click HERE to join the meeting remotely. \nSelectboard Agenda 6-17-2025 \nTOWN OF RUTLAND SELECTBOARD MEETING NOTICE AND AGENDA \nMUNICIPAL TOWN HALL AND ZOOM CONFERENCING \n6:00 PM Tuesday June 17th\, 2025 \nTo participate via zoom please visit zoom.us/join or call (646) 558-8656 and enter meeting ID 939 1518 8696. \nMeeting Opening \n\nPledge of Allegiance\nApproval of Selectboard Minutes:\n\nJune 3rd Regular Meeting\n\n\nApproval of Orders\nBoard Member Announcements\nUpdate from the Selectboard Chair\nQuestions from the floor; public comments\n\nDepartment Head Reports \n\nDave Sears – Town Road Commissioner\nEd Dumas – Town Police Chief\nMike Rowe – Town Recreation Director\nBarbara Pulling – Town Planning Commission Chair\nLarry Dell Veneri – Town Transfer Station Manager\nMarcia Chioffi – Town Head Lister\nChris Clark – Town Fire Chief\nKari Clark – Town Clerk & Treasurer\nMike Delehanty – Town 1st Constable\nJoe Denardo – Public Safety Building Clerk\nJohn Paul Faignant – Town Health Officer / 2nd Constable\nBill Sweet – Town Administrator\n\nAction items \n\nMeet with Howard Burgess from Fire District #1 to discuss the transition to West Rutland\nVote on carrying over the Cortina Settlement funds\nDiscuss follow up with PVR regarding our compliance with the reappraisal order\nReview generator maintenance contract\nReview the draft updates to the Streets and Sidewalks ordinance\nDiscuss the purchase of a cascade system for the Fire Department\nDiscuss offer to purchase town property\nAny other new items\nUpdate on committee meetings\, Police\nUpdate the Selectboard project list.\nBoard to meet in executive session if necessary
URL:https://www.rutlandtown.com/event/select-board-meeting-2-21/
LOCATION:Town of Rutland Municipal Building\, 181Business Route 4\, Center Rutland\, VT\, 05736\, United States
CATEGORIES:Select Board
END:VEVENT
BEGIN:VEVENT
DTSTART;TZID=UTC:20250619T183000
DTEND;TZID=UTC:20250619T200000
DTSTAMP:20260424T090626
CREATED:20250616T130618Z
LAST-MODIFIED:20250616T130619Z
UID:10001418-1750357800-1750363200@www.rutlandtown.com
SUMMARY:Planning Commission Meeting
DESCRIPTION:Click HERE to join the meeting remotely. \nPlanning Commission Agenda 6-19-2025 \nTOWN OF RUTLAND PLANNING COMMISSION AGENDA \nThursday\, June 19\, 2025  \nLocation: Rutland Town Municipal Town Hall and Zoom Conferencing  \nOpen Meeting – 6:30 PM   \nTo participate via Zoom\, please call (646) 558-8656 or visit zoom.us/join and enter meeting ID 985 4127 6671.  \nCall to Order/ Pledge of Allegiance \nApproval of Agenda \nPublic Comment \nNew Business \nOld Business \n\nSubdivision Ordinance – next steps\nPocket Park – schedule Phase 1 meeting\n\nAnnouncements \nMinutes \nMay 8\, 2025\, and May 29\, 2025 \nAdjournment
URL:https://www.rutlandtown.com/event/town-of-rutland-planning-commission-meeting-2-2021-12-09-2022-01-27-2023-01-19-2023-04-20-9-27/
LOCATION:Town of Rutland Municipal Building\, 181Business Route 4\, Center Rutland\, VT\, 05736\, United States
CATEGORIES:Planning Commission
END:VEVENT
END:VCALENDAR