BEGIN:VCALENDAR
VERSION:2.0
PRODID:-//The Town of Rutland, Vermont - ECPv6.15.20//NONSGML v1.0//EN
CALSCALE:GREGORIAN
METHOD:PUBLISH
X-ORIGINAL-URL:https://www.rutlandtown.com
X-WR-CALDESC:Events for The Town of Rutland, Vermont
REFRESH-INTERVAL;VALUE=DURATION:PT1H
X-Robots-Tag:noindex
X-PUBLISHED-TTL:PT1H
BEGIN:VTIMEZONE
TZID:UTC
BEGIN:STANDARD
TZOFFSETFROM:+0000
TZOFFSETTO:+0000
TZNAME:UTC
DTSTART:20240101T000000
END:STANDARD
END:VTIMEZONE
BEGIN:VEVENT
DTSTART;TZID=UTC:20250701T180000
DTEND;TZID=UTC:20250701T210000
DTSTAMP:20260422T234914
CREATED:20250626T161104Z
LAST-MODIFIED:20250626T161157Z
UID:10001271-1751392800-1751403600@www.rutlandtown.com
SUMMARY:Selectboard Meeting
DESCRIPTION:Click HERE to join the meeting remotely. \nSelectboard Agenda 7-1-2025 \nTOWN OF RUTLAND SELECTBOARD MEETING NOTICE AND AGENDA \nMUNICIPAL TOWN HALL AND ZOOM CONFERENCING \n5:30 PM Tuesday July 1st\, 2025 \nTo participate via zoom please visit zoom.us/join or call (646) 558-8656 and enter meeting ID 939 1518 8696. \nMeeting Opening \n\n5:30 PM – Board to meet in executive session with the Town Attorney.\nPledge of Allegiance\nApproval of Selectboard Minutes:\n\nJune 3rd Regular Meeting\n\n\nApproval of Orders\nBoard Member Announcements\nUpdate from the Selectboard Chair\nQuestions from the floor; public comments\n\nDepartment Head Reports \n\nMike Rowe – Town Recreation Director\nDave Sears – Town Road Commissioner\nEd Dumas – Town Police Chief\nJohn Paul Faignant – Town Health Officer / 2nd Constable\nBarbara Pulling – Town Planning Commission Chair\nLarry Dell Veneri – Town Transfer Station Manager\nMarcia Chioffi – Town Head Lister\nChris Clark – Town Fire Chief\nKari Clark – Town Clerk & Treasurer\nMike Delehanty – Town 1st Constable\nJoe Denardo – Public Safety Building Clerk\nBill Sweet – Town Administrator\n\nAction items \n\nBoard to meet in executive session pursuant to 1 V.S.A. § 313 (a) (1) (F)\, confidential attorney client communication.\nBoard to discuss the Planning Commission direction for subdivision ordinance work\nBoard to review for approval Wenzl/Carringer settlement agreement\nBoard to discuss offer to purchase town property\nBoard to review for approval updates to the purchasing and records management policy\nAny other new items\nUpdate on committee meetings\nUpdate the Selectboard project list
URL:https://www.rutlandtown.com/event/select-board-meeting-2-22/
LOCATION:Town of Rutland Municipal Building\, 181Business Route 4\, Center Rutland\, VT\, 05736\, United States
CATEGORIES:Select Board
END:VEVENT
END:VCALENDAR