BEGIN:VCALENDAR
VERSION:2.0
PRODID:-//The Town of Rutland, Vermont - ECPv6.15.20//NONSGML v1.0//EN
CALSCALE:GREGORIAN
METHOD:PUBLISH
X-WR-CALNAME:The Town of Rutland, Vermont
X-ORIGINAL-URL:https://www.rutlandtown.com
X-WR-CALDESC:Events for The Town of Rutland, Vermont
REFRESH-INTERVAL;VALUE=DURATION:PT1H
X-Robots-Tag:noindex
X-PUBLISHED-TTL:PT1H
BEGIN:VTIMEZONE
TZID:UTC
BEGIN:STANDARD
TZOFFSETFROM:+0000
TZOFFSETTO:+0000
TZNAME:UTC
DTSTART:20240101T000000
END:STANDARD
END:VTIMEZONE
BEGIN:VEVENT
DTSTART;TZID=UTC:20251216T180000
DTEND;TZID=UTC:20251216T210000
DTSTAMP:20260424T150732
CREATED:20251215T140844Z
LAST-MODIFIED:20251215T140844Z
UID:10001283-1765908000-1765918800@www.rutlandtown.com
SUMMARY:Selectboard Meeting
DESCRIPTION:Click HERE to join the meeting remotely. \nSelectboard Agenda 12-16-2025 \nApproved Town Budget Sheets FY27 \nTOWN OF RUTLAND SELECTBOARD MEETING NOTICE AND AGENDA \nMUNICIPAL TOWN HALL AND ZOOM CONFERENCING \n6:00 PM Tuesday December 16th\, 2025 \nTo participate via zoom please visit https://us06web.zoom.us/j/93915188696 \nor call (646) 558-8656 and enter meeting ID 939 1518 8696. \nMeeting Opening \n\nPledge of Allegiance\nApproval of Selectboard Minutes:\n\nDecember 2nd Regular Meeting\nDecember 9th Budget Meeting\n\n\nApproval of Orders\nBoard Member Announcements\nUpdate from the Selectboard Chair\nQuestions from the floor; public comments\n\nDepartment Head Reports \n\nMike Rowe – Town Recreation Director\nDave Sears – Town Road Commissioner\nChris Clark – Town Fire Chief\nEd Dumas – Town Police Chief\nMarcia Chioffi – Town Head Lister\nKari Clark – Town Clerk & Treasurer\nMike Delehanty – Town 1st Constable\nJoe Denardo – Public Safety Building Clerk\nJohn Paul Faignant – Town Health Officer / 2nd Constable\nBarbara Pulling – Town Planning Commission Chair\nLarry Dell Veneri – Town Transfer Station Manager\nBill Sweet – Town Administrator\n\nAction items \n\nBoard to meet with Jim Marsh\, Town RRPC Rep\, to discuss regional planning topics\nBoard to review depreciation account contributions\, and discuss any adjustments needed\nBoard to confirm pre-town meeting date\nBoard to discuss adding questions to residents on the March ballot\nBoard to discuss the process to create and implement a disaster recovery process\nBoard to meet in executive session to discuss a personnel matter pursuant to 1 V.S.A. § 313(a)(3)\nUpdate the Selectboard project list\nCommittee meeting reports – Police
URL:https://www.rutlandtown.com/event/select-board-meeting-2-33/
LOCATION:Town of Rutland Municipal Building\, 181Business Route 4\, Center Rutland\, VT\, 05736\, United States
CATEGORIES:Select Board
END:VEVENT
END:VCALENDAR