BEGIN:VCALENDAR
VERSION:2.0
PRODID:-//The Town of Rutland, Vermont - ECPv6.15.20//NONSGML v1.0//EN
CALSCALE:GREGORIAN
METHOD:PUBLISH
X-ORIGINAL-URL:https://www.rutlandtown.com
X-WR-CALDESC:Events for The Town of Rutland, Vermont
REFRESH-INTERVAL;VALUE=DURATION:PT1H
X-Robots-Tag:noindex
X-PUBLISHED-TTL:PT1H
BEGIN:VTIMEZONE
TZID:UTC
BEGIN:STANDARD
TZOFFSETFROM:+0000
TZOFFSETTO:+0000
TZNAME:UTC
DTSTART:20250101T000000
END:STANDARD
END:VTIMEZONE
BEGIN:VEVENT
DTSTART;VALUE=DATE:20260119
DTEND;VALUE=DATE:20260120
DTSTAMP:20260422T100207
CREATED:20260116T171225Z
LAST-MODIFIED:20260116T171225Z
UID:10001691-1768780800-1768867199@www.rutlandtown.com
SUMMARY:Town Hall Closed
DESCRIPTION:Town Hall will be closed Monday\, January 19th in observance of the Dr. Martin Luther King Jr. holiday.
URL:https://www.rutlandtown.com/event/town-hall-closed-23-2/
CATEGORIES:Municipal Date
END:VEVENT
BEGIN:VEVENT
DTSTART;VALUE=DATE:20260119
DTEND;VALUE=DATE:20260120
DTSTAMP:20260422T100207
CREATED:20260116T171138Z
LAST-MODIFIED:20260116T171138Z
UID:10001690-1768780800-1768867199@www.rutlandtown.com
SUMMARY:Town Hall Closed
DESCRIPTION:Town Hall will be closed Monday\, January 19th in observance of the Dr. Martin Luther King Jr. holiday.
URL:https://www.rutlandtown.com/event/town-hall-closed-23/
CATEGORIES:Municipal Date
END:VEVENT
BEGIN:VEVENT
DTSTART;TZID=UTC:20260120T180000
DTEND;TZID=UTC:20260120T210000
DTSTAMP:20260422T100207
CREATED:20251217T201359Z
LAST-MODIFIED:20251217T201359Z
UID:10001683-1768932000-1768942800@www.rutlandtown.com
SUMMARY:Pre-Town Meeting
DESCRIPTION:Please join us to hear budget presentations from departments heads and the Selectboard for the coming fiscal year\, which will be voted on March 3rd. \nYou can view the draft budget sheets at the link below. \n  \nBoard Approved Draft Town Budget Sheets FY27
URL:https://www.rutlandtown.com/event/pre-town-meeting-5/
LOCATION:Rutland Town School\, 1612 Post Road\, Rutland\, VT\, 05701\, United States
CATEGORIES:Community,Municipal Date,Select Board
END:VEVENT
BEGIN:VEVENT
DTSTART;TZID=UTC:20260120T200000
DTEND;TZID=UTC:20260120T203000
DTSTAMP:20260422T100207
CREATED:20260115T191137Z
LAST-MODIFIED:20260115T191137Z
UID:10001688-1768939200-1768941000@www.rutlandtown.com
SUMMARY:Selectboard Meeting
DESCRIPTION:Selectboard Agenda 1-20-2026 \nTOWN OF RUTLAND SELECTBOARD MEETING NOTICE AND AGENDA \nRUTLAND TOWN SCHOOL – 1612 POST ROAD  \nTuesday January 20th\, 2025 \nImmediately following the pre-town meeting \nAction items \n\nBoard to vote on any changes made to budget items from the pre-town meeting.
URL:https://www.rutlandtown.com/event/selectboard-meeting-3/
LOCATION:Rutland Town School\, 1612 Post Road\, Rutland\, VT\, 05701\, United States
CATEGORIES:Community,Municipal Date,Select Board
END:VEVENT
BEGIN:VEVENT
DTSTART;TZID=UTC:20260121T113000
DTEND;TZID=UTC:20260121T123000
DTSTAMP:20260422T100207
CREATED:20260116T134353Z
LAST-MODIFIED:20260116T134353Z
UID:10001689-1768995000-1768998600@www.rutlandtown.com
SUMMARY:Police Committee Meeting
DESCRIPTION:Police Committee Agenda 1-21-2026 \nRUTLAND TOWN SELECTBOARD POLICE COMMITTEE MEETING \nWednesday\, January 21st\, 11:30AM \nLocation: Rutland Town Municipal Town Hall and Zoom Conferencing \nTo join via zoom call (646) 558-8656 or visit zoom.us/join and enter meeting ID 840 4149 9431. \nAgenda: \n\nReplacing the next cruiser in the schedule.\nAny other business
URL:https://www.rutlandtown.com/event/police-committee-meeting-24/
LOCATION:Town of Rutland Municipal Building\, 181Business Route 4\, Center Rutland\, VT\, 05736\, United States
CATEGORIES:Committee Meeting
END:VEVENT
END:VCALENDAR