BEGIN:VCALENDAR
VERSION:2.0
PRODID:-//The Town of Rutland, Vermont - ECPv6.15.20//NONSGML v1.0//EN
CALSCALE:GREGORIAN
METHOD:PUBLISH
X-ORIGINAL-URL:https://www.rutlandtown.com
X-WR-CALDESC:Events for The Town of Rutland, Vermont
REFRESH-INTERVAL;VALUE=DURATION:PT1H
X-Robots-Tag:noindex
X-PUBLISHED-TTL:PT1H
BEGIN:VTIMEZONE
TZID:UTC
BEGIN:STANDARD
TZOFFSETFROM:+0000
TZOFFSETTO:+0000
TZNAME:UTC
DTSTART:20250101T000000
END:STANDARD
END:VTIMEZONE
BEGIN:VEVENT
DTSTART;TZID=UTC:20260224T180000
DTEND;TZID=UTC:20260224T210000
DTSTAMP:20260421T160258
CREATED:20260219T154253Z
LAST-MODIFIED:20260219T154253Z
UID:10001288-1771956000-1771966800@www.rutlandtown.com
SUMMARY:Selectboard Meeting
DESCRIPTION:Click HERE to join the meeting remotely. \nSelectboard Agenda 2-24-2026 \nTOWN OF RUTLAND SELECTBOARD MEETING NOTICE AND AGENDA \nMUNICIPAL TOWN HALL AND ZOOM CONFERENCING \n6:00 PM Tuesday February 24th\, 2026 \nTo participate via zoom please visit zoom.us/join or call (646) 558-8656 and enter meeting ID 939 1518 8696. \nMeeting Opening \n\nPledge of Allegiance\nApproval of Selectboard Minutes:\n\nFebruary 10th Regular Meeting\n\n\nApproval of Orders\nBoard Member Announcements\nUpdate from the Selectboard Chair\nQuestions from the floor; public comments\n\nDepartment Head Reports \n\nEd Dumas – Town Police Chief\nMike Rowe – Town Recreation Director\nDave Sears – Town Road Commissioner\nChris Clark – Town Fire Chief\nMike Delehanty – Town 1st Constable\nJoe Denardo – Public Safety Building Clerk\nJohn Paul Faignant – Town Health Officer / 2nd Constable\nBarbara Pulling – Town Planning Commission Chair\nLarry Dell Veneri – Town Transfer Station Manager\nMarcia Chioffi – Town Head Lister\nKari Clark – Town Clerk & Treasurer\n\nAction items \n\nBoard to review for approval; annual certification documents from VTrans\nBoard to review for approval; hydrant maintenance agreement between the City and Town\nBoard to review for approval; future land use map and municipal resolution\nBoard to review for approval; sewer allocation increase request from the Eco Car Wash\nBoard to review for approval; bid request for mowing services\nBoard to discuss reducing the speed limit on McKinley Avenue to the west of North Grove St.\nBoard to discuss grant funding opportunities to restore and relocate our covered bridge\nBoard to discuss plans for March 2nd town meeting\nBoard to discuss contribution to the fireworks in the City\nUpdate on the Pocket park project\nBoard to discuss the process to create and implement a disaster recovery process\nUpdate the Selectboard project list\nCommittee meeting reports\, Highway\, Inter-Municipal
URL:https://www.rutlandtown.com/event/select-board-meeting-2-38/
LOCATION:Town of Rutland Municipal Building\, 181Business Route 4\, Center Rutland\, VT\, 05736\, United States
CATEGORIES:Select Board
END:VEVENT
END:VCALENDAR