BEGIN:VCALENDAR
VERSION:2.0
PRODID:-//The Town of Rutland, Vermont - ECPv6.15.20//NONSGML v1.0//EN
CALSCALE:GREGORIAN
METHOD:PUBLISH
X-WR-CALNAME:The Town of Rutland, Vermont
X-ORIGINAL-URL:https://www.rutlandtown.com
X-WR-CALDESC:Events for The Town of Rutland, Vermont
REFRESH-INTERVAL;VALUE=DURATION:PT1H
X-Robots-Tag:noindex
X-PUBLISHED-TTL:PT1H
BEGIN:VTIMEZONE
TZID:UTC
BEGIN:STANDARD
TZOFFSETFROM:+0000
TZOFFSETTO:+0000
TZNAME:UTC
DTSTART:20260101T000000
END:STANDARD
END:VTIMEZONE
BEGIN:VEVENT
DTSTART;VALUE=DATE:20270906
DTEND;VALUE=DATE:20270907
DTSTAMP:20260422T101914
CREATED:20230828T125043Z
LAST-MODIFIED:20230828T125043Z
UID:10000863-1820188800-1820275199@www.rutlandtown.com
SUMMARY:Town Hall Closed
DESCRIPTION:Town Hall will be closed in observance on Labor Day.
URL:https://www.rutlandtown.com/event/town-hall-closed-13/2027-09-06/
LOCATION:Town of Rutland Municipal Building\, 181Business Route 4\, Center Rutland\, VT\, 05736\, United States
CATEGORIES:Municipal Date
END:VEVENT
BEGIN:VEVENT
DTSTART;VALUE=DATE:20270907
DTEND;VALUE=DATE:20270908
DTSTAMP:20260422T101915
CREATED:20260130T143540Z
LAST-MODIFIED:20260130T143540Z
UID:10001697-1820275200-1820361599@www.rutlandtown.com
SUMMARY:Rutland Towns Anniversary!
DESCRIPTION:On this date in 1761\, the Town of Rutland was founded.
URL:https://www.rutlandtown.com/event/rutland-towns-anniversary/2027-09-07/
CATEGORIES:Municipal Date
END:VEVENT
BEGIN:VEVENT
DTSTART;TZID=UTC:20270907T180000
DTEND;TZID=UTC:20270907T210000
DTSTAMP:20260422T101915
CREATED:20240913T121329Z
LAST-MODIFIED:20241126T202850Z
UID:10001328-1820340000-1820350800@www.rutlandtown.com
SUMMARY:Selectboard Meeting
DESCRIPTION:The agenda will be posted once it is finalized. \nClick HERE to join the meeting remotely.
URL:https://www.rutlandtown.com/event/select-board-meeting-2/2027-09-07/
LOCATION:Town of Rutland Municipal Building\, 181Business Route 4\, Center Rutland\, VT\, 05736\, United States
CATEGORIES:Select Board
END:VEVENT
BEGIN:VEVENT
DTSTART;TZID=UTC:20270909T183000
DTEND;TZID=UTC:20270909T200000
DTSTAMP:20260422T101915
CREATED:20231221T182044Z
LAST-MODIFIED:20251209T145128Z
UID:10001623-1820514600-1820520000@www.rutlandtown.com
SUMMARY:Planning Commission Meeting
DESCRIPTION:The agenda will be published once it is finalized. \nClick HERE to join the meeting remotely.
URL:https://www.rutlandtown.com/event/town-of-rutland-planning-commission-meeting-2-2021-12-09-2022-01-27-2023-01-19-2023-04-20-9/2027-09-09/
LOCATION:Town of Rutland Municipal Building\, 181Business Route 4\, Center Rutland\, VT\, 05736\, United States
CATEGORIES:Planning Commission
END:VEVENT
END:VCALENDAR